BEGIN:VCALENDAR
VERSION:2.0
PRODID:-//Commune de Chaudfontaine - ECPv6.15.20//NONSGML v1.0//EN
CALSCALE:GREGORIAN
METHOD:PUBLISH
X-WR-CALNAME:Commune de Chaudfontaine
X-ORIGINAL-URL:https://www.chaudfontaine.be
X-WR-CALDESC:Évènements pour Commune de Chaudfontaine
REFRESH-INTERVAL;VALUE=DURATION:PT1H
X-Robots-Tag:noindex
X-PUBLISHED-TTL:PT1H
BEGIN:VTIMEZONE
TZID:Europe/Brussels
BEGIN:DAYLIGHT
TZOFFSETFROM:+0100
TZOFFSETTO:+0200
TZNAME:CEST
DTSTART:20270328T010000
END:DAYLIGHT
BEGIN:STANDARD
TZOFFSETFROM:+0200
TZOFFSETTO:+0100
TZNAME:CET
DTSTART:20271031T010000
END:STANDARD
BEGIN:DAYLIGHT
TZOFFSETFROM:+0100
TZOFFSETTO:+0200
TZNAME:CEST
DTSTART:20280326T010000
END:DAYLIGHT
BEGIN:STANDARD
TZOFFSETFROM:+0200
TZOFFSETTO:+0100
TZNAME:CET
DTSTART:20281029T010000
END:STANDARD
BEGIN:DAYLIGHT
TZOFFSETFROM:+0100
TZOFFSETTO:+0200
TZNAME:CEST
DTSTART:20290325T010000
END:DAYLIGHT
BEGIN:STANDARD
TZOFFSETFROM:+0200
TZOFFSETTO:+0100
TZNAME:CET
DTSTART:20291028T010000
END:STANDARD
END:VTIMEZONE
BEGIN:VEVENT
DTSTART;TZID=Europe/Brussels:20280105T113000
DTEND;TZID=Europe/Brussels:20280105T153000
DTSTAMP:20260421T071630
CREATED:20260128T104744Z
LAST-MODIFIED:20260128T104744Z
UID:10003634-1830684600-1830699000@www.chaudfontaine.be
SUMMARY:Food truck: Chicken chick
DESCRIPTION:Food truck de poulets rôtis\, spare ribs et ses assortiments. \nTous les mercredi de 11h00 à 15h30\, place Foguenne à Vaux-sous-Chèvremont
URL:https://www.chaudfontaine.be/evenement/food-truck-chicken-chick/2028-01-05/
LOCATION:Place Foguenne\, Place Foguenne\, Chaudfontaine\, 4051\, Belgique
CATEGORIES:Commerce,Marché
ATTACH;FMTTYPE=image/jpeg:https://www.chaudfontaine.be/wp-content/uploads/2024/09/ChickenChick.jpg
END:VEVENT
BEGIN:VEVENT
DTSTART;TZID=Europe/Brussels:20280107T080000
DTEND;TZID=Europe/Brussels:20280107T130000
DTSTAMP:20260421T071630
CREATED:20260115T092451Z
LAST-MODIFIED:20260115T092451Z
UID:10003369-1830844800-1830862800@www.chaudfontaine.be
SUMMARY:Marché de Vaux-sous-Chèvremont
DESCRIPTION:Tous les vendredis de 08h à 13h a lieu le marché de Vaux-sous-Chèvremont.\nVenez retrouver les producteurs locaux qui vous proposent des produits de qualité: fromages\, charcuteries\, pains\, pâtisseries\, fleurs\, plantes\, …\nC’est le moment de favoriser l’économie local dans une ambiance conviviale.
URL:https://www.chaudfontaine.be/evenement/marche-de-vaux-sous-chevremont/2028-01-07/
LOCATION:Place Foguenne\, Place Foguenne\, Chaudfontaine\, 4051\, Belgique
CATEGORIES:Marché
ATTACH;FMTTYPE=image/jpeg:https://www.chaudfontaine.be/wp-content/uploads/2026/01/Marche-vaux.jpg
ORGANIZER;CN="Commune de Chaudfontaine":MAILTO:commune@chaudfontaine.be
END:VEVENT
BEGIN:VEVENT
DTSTART;TZID=Europe/Brussels:20280112T113000
DTEND;TZID=Europe/Brussels:20280112T153000
DTSTAMP:20260421T071630
CREATED:20260128T104744Z
LAST-MODIFIED:20260128T104744Z
UID:10003635-1831289400-1831303800@www.chaudfontaine.be
SUMMARY:Food truck: Chicken chick
DESCRIPTION:Food truck de poulets rôtis\, spare ribs et ses assortiments. \nTous les mercredi de 11h00 à 15h30\, place Foguenne à Vaux-sous-Chèvremont
URL:https://www.chaudfontaine.be/evenement/food-truck-chicken-chick/2028-01-12/
LOCATION:Place Foguenne\, Place Foguenne\, Chaudfontaine\, 4051\, Belgique
CATEGORIES:Commerce,Marché
ATTACH;FMTTYPE=image/jpeg:https://www.chaudfontaine.be/wp-content/uploads/2024/09/ChickenChick.jpg
END:VEVENT
BEGIN:VEVENT
DTSTART;TZID=Europe/Brussels:20280114T080000
DTEND;TZID=Europe/Brussels:20280114T130000
DTSTAMP:20260421T071630
CREATED:20260115T092451Z
LAST-MODIFIED:20260115T092451Z
UID:10003370-1831449600-1831467600@www.chaudfontaine.be
SUMMARY:Marché de Vaux-sous-Chèvremont
DESCRIPTION:Tous les vendredis de 08h à 13h a lieu le marché de Vaux-sous-Chèvremont.\nVenez retrouver les producteurs locaux qui vous proposent des produits de qualité: fromages\, charcuteries\, pains\, pâtisseries\, fleurs\, plantes\, …\nC’est le moment de favoriser l’économie local dans une ambiance conviviale.
URL:https://www.chaudfontaine.be/evenement/marche-de-vaux-sous-chevremont/2028-01-14/
LOCATION:Place Foguenne\, Place Foguenne\, Chaudfontaine\, 4051\, Belgique
CATEGORIES:Marché
ATTACH;FMTTYPE=image/jpeg:https://www.chaudfontaine.be/wp-content/uploads/2026/01/Marche-vaux.jpg
ORGANIZER;CN="Commune de Chaudfontaine":MAILTO:commune@chaudfontaine.be
END:VEVENT
BEGIN:VEVENT
DTSTART;TZID=Europe/Brussels:20280119T113000
DTEND;TZID=Europe/Brussels:20280119T153000
DTSTAMP:20260421T071630
CREATED:20260128T104744Z
LAST-MODIFIED:20260128T104744Z
UID:10003636-1831894200-1831908600@www.chaudfontaine.be
SUMMARY:Food truck: Chicken chick
DESCRIPTION:Food truck de poulets rôtis\, spare ribs et ses assortiments. \nTous les mercredi de 11h00 à 15h30\, place Foguenne à Vaux-sous-Chèvremont
URL:https://www.chaudfontaine.be/evenement/food-truck-chicken-chick/2028-01-19/
LOCATION:Place Foguenne\, Place Foguenne\, Chaudfontaine\, 4051\, Belgique
CATEGORIES:Commerce,Marché
ATTACH;FMTTYPE=image/jpeg:https://www.chaudfontaine.be/wp-content/uploads/2024/09/ChickenChick.jpg
END:VEVENT
BEGIN:VEVENT
DTSTART;TZID=Europe/Brussels:20280121T080000
DTEND;TZID=Europe/Brussels:20280121T130000
DTSTAMP:20260421T071630
CREATED:20260115T092451Z
LAST-MODIFIED:20260115T092451Z
UID:10003371-1832054400-1832072400@www.chaudfontaine.be
SUMMARY:Marché de Vaux-sous-Chèvremont
DESCRIPTION:Tous les vendredis de 08h à 13h a lieu le marché de Vaux-sous-Chèvremont.\nVenez retrouver les producteurs locaux qui vous proposent des produits de qualité: fromages\, charcuteries\, pains\, pâtisseries\, fleurs\, plantes\, …\nC’est le moment de favoriser l’économie local dans une ambiance conviviale.
URL:https://www.chaudfontaine.be/evenement/marche-de-vaux-sous-chevremont/2028-01-21/
LOCATION:Place Foguenne\, Place Foguenne\, Chaudfontaine\, 4051\, Belgique
CATEGORIES:Marché
ATTACH;FMTTYPE=image/jpeg:https://www.chaudfontaine.be/wp-content/uploads/2026/01/Marche-vaux.jpg
ORGANIZER;CN="Commune de Chaudfontaine":MAILTO:commune@chaudfontaine.be
END:VEVENT
BEGIN:VEVENT
DTSTART;TZID=Europe/Brussels:20280126T113000
DTEND;TZID=Europe/Brussels:20280126T153000
DTSTAMP:20260421T071630
CREATED:20260128T104744Z
LAST-MODIFIED:20260128T104744Z
UID:10003637-1832499000-1832513400@www.chaudfontaine.be
SUMMARY:Food truck: Chicken chick
DESCRIPTION:Food truck de poulets rôtis\, spare ribs et ses assortiments. \nTous les mercredi de 11h00 à 15h30\, place Foguenne à Vaux-sous-Chèvremont
URL:https://www.chaudfontaine.be/evenement/food-truck-chicken-chick/2028-01-26/
LOCATION:Place Foguenne\, Place Foguenne\, Chaudfontaine\, 4051\, Belgique
CATEGORIES:Commerce,Marché
ATTACH;FMTTYPE=image/jpeg:https://www.chaudfontaine.be/wp-content/uploads/2024/09/ChickenChick.jpg
END:VEVENT
BEGIN:VEVENT
DTSTART;TZID=Europe/Brussels:20280128T080000
DTEND;TZID=Europe/Brussels:20280128T130000
DTSTAMP:20260421T071630
CREATED:20260115T092451Z
LAST-MODIFIED:20260115T092451Z
UID:10003372-1832659200-1832677200@www.chaudfontaine.be
SUMMARY:Marché de Vaux-sous-Chèvremont
DESCRIPTION:Tous les vendredis de 08h à 13h a lieu le marché de Vaux-sous-Chèvremont.\nVenez retrouver les producteurs locaux qui vous proposent des produits de qualité: fromages\, charcuteries\, pains\, pâtisseries\, fleurs\, plantes\, …\nC’est le moment de favoriser l’économie local dans une ambiance conviviale.
URL:https://www.chaudfontaine.be/evenement/marche-de-vaux-sous-chevremont/2028-01-28/
LOCATION:Place Foguenne\, Place Foguenne\, Chaudfontaine\, 4051\, Belgique
CATEGORIES:Marché
ATTACH;FMTTYPE=image/jpeg:https://www.chaudfontaine.be/wp-content/uploads/2026/01/Marche-vaux.jpg
ORGANIZER;CN="Commune de Chaudfontaine":MAILTO:commune@chaudfontaine.be
END:VEVENT
BEGIN:VEVENT
DTSTART;TZID=Europe/Brussels:20280202T113000
DTEND;TZID=Europe/Brussels:20280202T153000
DTSTAMP:20260421T071630
CREATED:20260128T104744Z
LAST-MODIFIED:20260128T104744Z
UID:10003638-1833103800-1833118200@www.chaudfontaine.be
SUMMARY:Food truck: Chicken chick
DESCRIPTION:Food truck de poulets rôtis\, spare ribs et ses assortiments. \nTous les mercredi de 11h00 à 15h30\, place Foguenne à Vaux-sous-Chèvremont
URL:https://www.chaudfontaine.be/evenement/food-truck-chicken-chick/2028-02-02/
LOCATION:Place Foguenne\, Place Foguenne\, Chaudfontaine\, 4051\, Belgique
CATEGORIES:Commerce,Marché
ATTACH;FMTTYPE=image/jpeg:https://www.chaudfontaine.be/wp-content/uploads/2024/09/ChickenChick.jpg
END:VEVENT
BEGIN:VEVENT
DTSTART;TZID=Europe/Brussels:20280204T080000
DTEND;TZID=Europe/Brussels:20280204T130000
DTSTAMP:20260421T071630
CREATED:20260115T092451Z
LAST-MODIFIED:20260115T092451Z
UID:10003373-1833264000-1833282000@www.chaudfontaine.be
SUMMARY:Marché de Vaux-sous-Chèvremont
DESCRIPTION:Tous les vendredis de 08h à 13h a lieu le marché de Vaux-sous-Chèvremont.\nVenez retrouver les producteurs locaux qui vous proposent des produits de qualité: fromages\, charcuteries\, pains\, pâtisseries\, fleurs\, plantes\, …\nC’est le moment de favoriser l’économie local dans une ambiance conviviale.
URL:https://www.chaudfontaine.be/evenement/marche-de-vaux-sous-chevremont/2028-02-04/
LOCATION:Place Foguenne\, Place Foguenne\, Chaudfontaine\, 4051\, Belgique
CATEGORIES:Marché
ATTACH;FMTTYPE=image/jpeg:https://www.chaudfontaine.be/wp-content/uploads/2026/01/Marche-vaux.jpg
ORGANIZER;CN="Commune de Chaudfontaine":MAILTO:commune@chaudfontaine.be
END:VEVENT
BEGIN:VEVENT
DTSTART;TZID=Europe/Brussels:20280209T113000
DTEND;TZID=Europe/Brussels:20280209T153000
DTSTAMP:20260421T071630
CREATED:20260128T104744Z
LAST-MODIFIED:20260128T104744Z
UID:10003639-1833708600-1833723000@www.chaudfontaine.be
SUMMARY:Food truck: Chicken chick
DESCRIPTION:Food truck de poulets rôtis\, spare ribs et ses assortiments. \nTous les mercredi de 11h00 à 15h30\, place Foguenne à Vaux-sous-Chèvremont
URL:https://www.chaudfontaine.be/evenement/food-truck-chicken-chick/2028-02-09/
LOCATION:Place Foguenne\, Place Foguenne\, Chaudfontaine\, 4051\, Belgique
CATEGORIES:Commerce,Marché
ATTACH;FMTTYPE=image/jpeg:https://www.chaudfontaine.be/wp-content/uploads/2024/09/ChickenChick.jpg
END:VEVENT
BEGIN:VEVENT
DTSTART;TZID=Europe/Brussels:20280211T080000
DTEND;TZID=Europe/Brussels:20280211T130000
DTSTAMP:20260421T071630
CREATED:20260115T092451Z
LAST-MODIFIED:20260115T092451Z
UID:10003374-1833868800-1833886800@www.chaudfontaine.be
SUMMARY:Marché de Vaux-sous-Chèvremont
DESCRIPTION:Tous les vendredis de 08h à 13h a lieu le marché de Vaux-sous-Chèvremont.\nVenez retrouver les producteurs locaux qui vous proposent des produits de qualité: fromages\, charcuteries\, pains\, pâtisseries\, fleurs\, plantes\, …\nC’est le moment de favoriser l’économie local dans une ambiance conviviale.
URL:https://www.chaudfontaine.be/evenement/marche-de-vaux-sous-chevremont/2028-02-11/
LOCATION:Place Foguenne\, Place Foguenne\, Chaudfontaine\, 4051\, Belgique
CATEGORIES:Marché
ATTACH;FMTTYPE=image/jpeg:https://www.chaudfontaine.be/wp-content/uploads/2026/01/Marche-vaux.jpg
ORGANIZER;CN="Commune de Chaudfontaine":MAILTO:commune@chaudfontaine.be
END:VEVENT
BEGIN:VEVENT
DTSTART;TZID=Europe/Brussels:20280216T113000
DTEND;TZID=Europe/Brussels:20280216T153000
DTSTAMP:20260421T071630
CREATED:20260128T104744Z
LAST-MODIFIED:20260128T104744Z
UID:10003640-1834313400-1834327800@www.chaudfontaine.be
SUMMARY:Food truck: Chicken chick
DESCRIPTION:Food truck de poulets rôtis\, spare ribs et ses assortiments. \nTous les mercredi de 11h00 à 15h30\, place Foguenne à Vaux-sous-Chèvremont
URL:https://www.chaudfontaine.be/evenement/food-truck-chicken-chick/2028-02-16/
LOCATION:Place Foguenne\, Place Foguenne\, Chaudfontaine\, 4051\, Belgique
CATEGORIES:Commerce,Marché
ATTACH;FMTTYPE=image/jpeg:https://www.chaudfontaine.be/wp-content/uploads/2024/09/ChickenChick.jpg
END:VEVENT
BEGIN:VEVENT
DTSTART;TZID=Europe/Brussels:20280218T080000
DTEND;TZID=Europe/Brussels:20280218T130000
DTSTAMP:20260421T071630
CREATED:20260115T092451Z
LAST-MODIFIED:20260115T092451Z
UID:10003375-1834473600-1834491600@www.chaudfontaine.be
SUMMARY:Marché de Vaux-sous-Chèvremont
DESCRIPTION:Tous les vendredis de 08h à 13h a lieu le marché de Vaux-sous-Chèvremont.\nVenez retrouver les producteurs locaux qui vous proposent des produits de qualité: fromages\, charcuteries\, pains\, pâtisseries\, fleurs\, plantes\, …\nC’est le moment de favoriser l’économie local dans une ambiance conviviale.
URL:https://www.chaudfontaine.be/evenement/marche-de-vaux-sous-chevremont/2028-02-18/
LOCATION:Place Foguenne\, Place Foguenne\, Chaudfontaine\, 4051\, Belgique
CATEGORIES:Marché
ATTACH;FMTTYPE=image/jpeg:https://www.chaudfontaine.be/wp-content/uploads/2026/01/Marche-vaux.jpg
ORGANIZER;CN="Commune de Chaudfontaine":MAILTO:commune@chaudfontaine.be
END:VEVENT
BEGIN:VEVENT
DTSTART;TZID=Europe/Brussels:20280223T113000
DTEND;TZID=Europe/Brussels:20280223T153000
DTSTAMP:20260421T071630
CREATED:20260128T104744Z
LAST-MODIFIED:20260128T104744Z
UID:10003641-1834918200-1834932600@www.chaudfontaine.be
SUMMARY:Food truck: Chicken chick
DESCRIPTION:Food truck de poulets rôtis\, spare ribs et ses assortiments. \nTous les mercredi de 11h00 à 15h30\, place Foguenne à Vaux-sous-Chèvremont
URL:https://www.chaudfontaine.be/evenement/food-truck-chicken-chick/2028-02-23/
LOCATION:Place Foguenne\, Place Foguenne\, Chaudfontaine\, 4051\, Belgique
CATEGORIES:Commerce,Marché
ATTACH;FMTTYPE=image/jpeg:https://www.chaudfontaine.be/wp-content/uploads/2024/09/ChickenChick.jpg
END:VEVENT
BEGIN:VEVENT
DTSTART;TZID=Europe/Brussels:20280225T080000
DTEND;TZID=Europe/Brussels:20280225T130000
DTSTAMP:20260421T071630
CREATED:20260115T092451Z
LAST-MODIFIED:20260115T092451Z
UID:10003376-1835078400-1835096400@www.chaudfontaine.be
SUMMARY:Marché de Vaux-sous-Chèvremont
DESCRIPTION:Tous les vendredis de 08h à 13h a lieu le marché de Vaux-sous-Chèvremont.\nVenez retrouver les producteurs locaux qui vous proposent des produits de qualité: fromages\, charcuteries\, pains\, pâtisseries\, fleurs\, plantes\, …\nC’est le moment de favoriser l’économie local dans une ambiance conviviale.
URL:https://www.chaudfontaine.be/evenement/marche-de-vaux-sous-chevremont/2028-02-25/
LOCATION:Place Foguenne\, Place Foguenne\, Chaudfontaine\, 4051\, Belgique
CATEGORIES:Marché
ATTACH;FMTTYPE=image/jpeg:https://www.chaudfontaine.be/wp-content/uploads/2026/01/Marche-vaux.jpg
ORGANIZER;CN="Commune de Chaudfontaine":MAILTO:commune@chaudfontaine.be
END:VEVENT
BEGIN:VEVENT
DTSTART;TZID=Europe/Brussels:20280301T113000
DTEND;TZID=Europe/Brussels:20280301T153000
DTSTAMP:20260421T071630
CREATED:20260128T104744Z
LAST-MODIFIED:20260128T104744Z
UID:10003642-1835523000-1835537400@www.chaudfontaine.be
SUMMARY:Food truck: Chicken chick
DESCRIPTION:Food truck de poulets rôtis\, spare ribs et ses assortiments. \nTous les mercredi de 11h00 à 15h30\, place Foguenne à Vaux-sous-Chèvremont
URL:https://www.chaudfontaine.be/evenement/food-truck-chicken-chick/2028-03-01/
LOCATION:Place Foguenne\, Place Foguenne\, Chaudfontaine\, 4051\, Belgique
CATEGORIES:Commerce,Marché
ATTACH;FMTTYPE=image/jpeg:https://www.chaudfontaine.be/wp-content/uploads/2024/09/ChickenChick.jpg
END:VEVENT
BEGIN:VEVENT
DTSTART;TZID=Europe/Brussels:20280303T080000
DTEND;TZID=Europe/Brussels:20280303T130000
DTSTAMP:20260421T071630
CREATED:20260115T092451Z
LAST-MODIFIED:20260115T092451Z
UID:10003377-1835683200-1835701200@www.chaudfontaine.be
SUMMARY:Marché de Vaux-sous-Chèvremont
DESCRIPTION:Tous les vendredis de 08h à 13h a lieu le marché de Vaux-sous-Chèvremont.\nVenez retrouver les producteurs locaux qui vous proposent des produits de qualité: fromages\, charcuteries\, pains\, pâtisseries\, fleurs\, plantes\, …\nC’est le moment de favoriser l’économie local dans une ambiance conviviale.
URL:https://www.chaudfontaine.be/evenement/marche-de-vaux-sous-chevremont/2028-03-03/
LOCATION:Place Foguenne\, Place Foguenne\, Chaudfontaine\, 4051\, Belgique
CATEGORIES:Marché
ATTACH;FMTTYPE=image/jpeg:https://www.chaudfontaine.be/wp-content/uploads/2026/01/Marche-vaux.jpg
ORGANIZER;CN="Commune de Chaudfontaine":MAILTO:commune@chaudfontaine.be
END:VEVENT
BEGIN:VEVENT
DTSTART;TZID=Europe/Brussels:20280308T113000
DTEND;TZID=Europe/Brussels:20280308T153000
DTSTAMP:20260421T071630
CREATED:20260128T104744Z
LAST-MODIFIED:20260128T104744Z
UID:10003643-1836127800-1836142200@www.chaudfontaine.be
SUMMARY:Food truck: Chicken chick
DESCRIPTION:Food truck de poulets rôtis\, spare ribs et ses assortiments. \nTous les mercredi de 11h00 à 15h30\, place Foguenne à Vaux-sous-Chèvremont
URL:https://www.chaudfontaine.be/evenement/food-truck-chicken-chick/2028-03-08/
LOCATION:Place Foguenne\, Place Foguenne\, Chaudfontaine\, 4051\, Belgique
CATEGORIES:Commerce,Marché
ATTACH;FMTTYPE=image/jpeg:https://www.chaudfontaine.be/wp-content/uploads/2024/09/ChickenChick.jpg
END:VEVENT
BEGIN:VEVENT
DTSTART;TZID=Europe/Brussels:20280310T080000
DTEND;TZID=Europe/Brussels:20280310T130000
DTSTAMP:20260421T071630
CREATED:20260115T092451Z
LAST-MODIFIED:20260115T092451Z
UID:10003378-1836288000-1836306000@www.chaudfontaine.be
SUMMARY:Marché de Vaux-sous-Chèvremont
DESCRIPTION:Tous les vendredis de 08h à 13h a lieu le marché de Vaux-sous-Chèvremont.\nVenez retrouver les producteurs locaux qui vous proposent des produits de qualité: fromages\, charcuteries\, pains\, pâtisseries\, fleurs\, plantes\, …\nC’est le moment de favoriser l’économie local dans une ambiance conviviale.
URL:https://www.chaudfontaine.be/evenement/marche-de-vaux-sous-chevremont/2028-03-10/
LOCATION:Place Foguenne\, Place Foguenne\, Chaudfontaine\, 4051\, Belgique
CATEGORIES:Marché
ATTACH;FMTTYPE=image/jpeg:https://www.chaudfontaine.be/wp-content/uploads/2026/01/Marche-vaux.jpg
ORGANIZER;CN="Commune de Chaudfontaine":MAILTO:commune@chaudfontaine.be
END:VEVENT
BEGIN:VEVENT
DTSTART;TZID=Europe/Brussels:20280315T113000
DTEND;TZID=Europe/Brussels:20280315T153000
DTSTAMP:20260421T071630
CREATED:20260128T104744Z
LAST-MODIFIED:20260128T104744Z
UID:10003644-1836732600-1836747000@www.chaudfontaine.be
SUMMARY:Food truck: Chicken chick
DESCRIPTION:Food truck de poulets rôtis\, spare ribs et ses assortiments. \nTous les mercredi de 11h00 à 15h30\, place Foguenne à Vaux-sous-Chèvremont
URL:https://www.chaudfontaine.be/evenement/food-truck-chicken-chick/2028-03-15/
LOCATION:Place Foguenne\, Place Foguenne\, Chaudfontaine\, 4051\, Belgique
CATEGORIES:Commerce,Marché
ATTACH;FMTTYPE=image/jpeg:https://www.chaudfontaine.be/wp-content/uploads/2024/09/ChickenChick.jpg
END:VEVENT
BEGIN:VEVENT
DTSTART;TZID=Europe/Brussels:20280317T080000
DTEND;TZID=Europe/Brussels:20280317T130000
DTSTAMP:20260421T071630
CREATED:20260115T092451Z
LAST-MODIFIED:20260115T092451Z
UID:10003379-1836892800-1836910800@www.chaudfontaine.be
SUMMARY:Marché de Vaux-sous-Chèvremont
DESCRIPTION:Tous les vendredis de 08h à 13h a lieu le marché de Vaux-sous-Chèvremont.\nVenez retrouver les producteurs locaux qui vous proposent des produits de qualité: fromages\, charcuteries\, pains\, pâtisseries\, fleurs\, plantes\, …\nC’est le moment de favoriser l’économie local dans une ambiance conviviale.
URL:https://www.chaudfontaine.be/evenement/marche-de-vaux-sous-chevremont/2028-03-17/
LOCATION:Place Foguenne\, Place Foguenne\, Chaudfontaine\, 4051\, Belgique
CATEGORIES:Marché
ATTACH;FMTTYPE=image/jpeg:https://www.chaudfontaine.be/wp-content/uploads/2026/01/Marche-vaux.jpg
ORGANIZER;CN="Commune de Chaudfontaine":MAILTO:commune@chaudfontaine.be
END:VEVENT
BEGIN:VEVENT
DTSTART;TZID=Europe/Brussels:20280322T113000
DTEND;TZID=Europe/Brussels:20280322T153000
DTSTAMP:20260421T071630
CREATED:20260128T104744Z
LAST-MODIFIED:20260128T104744Z
UID:10003645-1837337400-1837351800@www.chaudfontaine.be
SUMMARY:Food truck: Chicken chick
DESCRIPTION:Food truck de poulets rôtis\, spare ribs et ses assortiments. \nTous les mercredi de 11h00 à 15h30\, place Foguenne à Vaux-sous-Chèvremont
URL:https://www.chaudfontaine.be/evenement/food-truck-chicken-chick/2028-03-22/
LOCATION:Place Foguenne\, Place Foguenne\, Chaudfontaine\, 4051\, Belgique
CATEGORIES:Commerce,Marché
ATTACH;FMTTYPE=image/jpeg:https://www.chaudfontaine.be/wp-content/uploads/2024/09/ChickenChick.jpg
END:VEVENT
BEGIN:VEVENT
DTSTART;TZID=Europe/Brussels:20280324T080000
DTEND;TZID=Europe/Brussels:20280324T130000
DTSTAMP:20260421T071630
CREATED:20260115T092451Z
LAST-MODIFIED:20260115T092451Z
UID:10003380-1837497600-1837515600@www.chaudfontaine.be
SUMMARY:Marché de Vaux-sous-Chèvremont
DESCRIPTION:Tous les vendredis de 08h à 13h a lieu le marché de Vaux-sous-Chèvremont.\nVenez retrouver les producteurs locaux qui vous proposent des produits de qualité: fromages\, charcuteries\, pains\, pâtisseries\, fleurs\, plantes\, …\nC’est le moment de favoriser l’économie local dans une ambiance conviviale.
URL:https://www.chaudfontaine.be/evenement/marche-de-vaux-sous-chevremont/2028-03-24/
LOCATION:Place Foguenne\, Place Foguenne\, Chaudfontaine\, 4051\, Belgique
CATEGORIES:Marché
ATTACH;FMTTYPE=image/jpeg:https://www.chaudfontaine.be/wp-content/uploads/2026/01/Marche-vaux.jpg
ORGANIZER;CN="Commune de Chaudfontaine":MAILTO:commune@chaudfontaine.be
END:VEVENT
BEGIN:VEVENT
DTSTART;TZID=Europe/Brussels:20280329T113000
DTEND;TZID=Europe/Brussels:20280329T153000
DTSTAMP:20260421T071630
CREATED:20260128T104744Z
LAST-MODIFIED:20260128T104744Z
UID:10003646-1837942200-1837956600@www.chaudfontaine.be
SUMMARY:Food truck: Chicken chick
DESCRIPTION:Food truck de poulets rôtis\, spare ribs et ses assortiments. \nTous les mercredi de 11h00 à 15h30\, place Foguenne à Vaux-sous-Chèvremont
URL:https://www.chaudfontaine.be/evenement/food-truck-chicken-chick/2028-03-29/
LOCATION:Place Foguenne\, Place Foguenne\, Chaudfontaine\, 4051\, Belgique
CATEGORIES:Commerce,Marché
ATTACH;FMTTYPE=image/jpeg:https://www.chaudfontaine.be/wp-content/uploads/2024/09/ChickenChick.jpg
END:VEVENT
BEGIN:VEVENT
DTSTART;TZID=Europe/Brussels:20280331T080000
DTEND;TZID=Europe/Brussels:20280331T130000
DTSTAMP:20260421T071630
CREATED:20260115T092451Z
LAST-MODIFIED:20260115T092451Z
UID:10003381-1838102400-1838120400@www.chaudfontaine.be
SUMMARY:Marché de Vaux-sous-Chèvremont
DESCRIPTION:Tous les vendredis de 08h à 13h a lieu le marché de Vaux-sous-Chèvremont.\nVenez retrouver les producteurs locaux qui vous proposent des produits de qualité: fromages\, charcuteries\, pains\, pâtisseries\, fleurs\, plantes\, …\nC’est le moment de favoriser l’économie local dans une ambiance conviviale.
URL:https://www.chaudfontaine.be/evenement/marche-de-vaux-sous-chevremont/2028-03-31/
LOCATION:Place Foguenne\, Place Foguenne\, Chaudfontaine\, 4051\, Belgique
CATEGORIES:Marché
ATTACH;FMTTYPE=image/jpeg:https://www.chaudfontaine.be/wp-content/uploads/2026/01/Marche-vaux.jpg
ORGANIZER;CN="Commune de Chaudfontaine":MAILTO:commune@chaudfontaine.be
END:VEVENT
BEGIN:VEVENT
DTSTART;TZID=Europe/Brussels:20280405T113000
DTEND;TZID=Europe/Brussels:20280405T153000
DTSTAMP:20260421T071630
CREATED:20260128T104744Z
LAST-MODIFIED:20260128T104744Z
UID:10003647-1838547000-1838561400@www.chaudfontaine.be
SUMMARY:Food truck: Chicken chick
DESCRIPTION:Food truck de poulets rôtis\, spare ribs et ses assortiments. \nTous les mercredi de 11h00 à 15h30\, place Foguenne à Vaux-sous-Chèvremont
URL:https://www.chaudfontaine.be/evenement/food-truck-chicken-chick/2028-04-05/
LOCATION:Place Foguenne\, Place Foguenne\, Chaudfontaine\, 4051\, Belgique
CATEGORIES:Commerce,Marché
ATTACH;FMTTYPE=image/jpeg:https://www.chaudfontaine.be/wp-content/uploads/2024/09/ChickenChick.jpg
END:VEVENT
BEGIN:VEVENT
DTSTART;TZID=Europe/Brussels:20280407T080000
DTEND;TZID=Europe/Brussels:20280407T130000
DTSTAMP:20260421T071630
CREATED:20260115T092451Z
LAST-MODIFIED:20260115T092451Z
UID:10003382-1838707200-1838725200@www.chaudfontaine.be
SUMMARY:Marché de Vaux-sous-Chèvremont
DESCRIPTION:Tous les vendredis de 08h à 13h a lieu le marché de Vaux-sous-Chèvremont.\nVenez retrouver les producteurs locaux qui vous proposent des produits de qualité: fromages\, charcuteries\, pains\, pâtisseries\, fleurs\, plantes\, …\nC’est le moment de favoriser l’économie local dans une ambiance conviviale.
URL:https://www.chaudfontaine.be/evenement/marche-de-vaux-sous-chevremont/2028-04-07/
LOCATION:Place Foguenne\, Place Foguenne\, Chaudfontaine\, 4051\, Belgique
CATEGORIES:Marché
ATTACH;FMTTYPE=image/jpeg:https://www.chaudfontaine.be/wp-content/uploads/2026/01/Marche-vaux.jpg
ORGANIZER;CN="Commune de Chaudfontaine":MAILTO:commune@chaudfontaine.be
END:VEVENT
BEGIN:VEVENT
DTSTART;TZID=Europe/Brussels:20280412T113000
DTEND;TZID=Europe/Brussels:20280412T153000
DTSTAMP:20260421T071630
CREATED:20260128T104744Z
LAST-MODIFIED:20260128T104744Z
UID:10003648-1839151800-1839166200@www.chaudfontaine.be
SUMMARY:Food truck: Chicken chick
DESCRIPTION:Food truck de poulets rôtis\, spare ribs et ses assortiments. \nTous les mercredi de 11h00 à 15h30\, place Foguenne à Vaux-sous-Chèvremont
URL:https://www.chaudfontaine.be/evenement/food-truck-chicken-chick/2028-04-12/
LOCATION:Place Foguenne\, Place Foguenne\, Chaudfontaine\, 4051\, Belgique
CATEGORIES:Commerce,Marché
ATTACH;FMTTYPE=image/jpeg:https://www.chaudfontaine.be/wp-content/uploads/2024/09/ChickenChick.jpg
END:VEVENT
BEGIN:VEVENT
DTSTART;TZID=Europe/Brussels:20280414T080000
DTEND;TZID=Europe/Brussels:20280414T130000
DTSTAMP:20260421T071630
CREATED:20260115T092451Z
LAST-MODIFIED:20260115T092451Z
UID:10003383-1839312000-1839330000@www.chaudfontaine.be
SUMMARY:Marché de Vaux-sous-Chèvremont
DESCRIPTION:Tous les vendredis de 08h à 13h a lieu le marché de Vaux-sous-Chèvremont.\nVenez retrouver les producteurs locaux qui vous proposent des produits de qualité: fromages\, charcuteries\, pains\, pâtisseries\, fleurs\, plantes\, …\nC’est le moment de favoriser l’économie local dans une ambiance conviviale.
URL:https://www.chaudfontaine.be/evenement/marche-de-vaux-sous-chevremont/2028-04-14/
LOCATION:Place Foguenne\, Place Foguenne\, Chaudfontaine\, 4051\, Belgique
CATEGORIES:Marché
ATTACH;FMTTYPE=image/jpeg:https://www.chaudfontaine.be/wp-content/uploads/2026/01/Marche-vaux.jpg
ORGANIZER;CN="Commune de Chaudfontaine":MAILTO:commune@chaudfontaine.be
END:VEVENT
END:VCALENDAR