BEGIN:VCALENDAR
VERSION:2.0
PRODID:-//Commune de Chaudfontaine - ECPv6.15.20//NONSGML v1.0//EN
CALSCALE:GREGORIAN
METHOD:PUBLISH
X-WR-CALNAME:Commune de Chaudfontaine
X-ORIGINAL-URL:https://www.chaudfontaine.be
X-WR-CALDESC:Évènements pour Commune de Chaudfontaine
REFRESH-INTERVAL;VALUE=DURATION:PT1H
X-Robots-Tag:noindex
X-PUBLISHED-TTL:PT1H
BEGIN:VTIMEZONE
TZID:Europe/Brussels
BEGIN:DAYLIGHT
TZOFFSETFROM:+0100
TZOFFSETTO:+0200
TZNAME:CEST
DTSTART:20270328T010000
END:DAYLIGHT
BEGIN:STANDARD
TZOFFSETFROM:+0200
TZOFFSETTO:+0100
TZNAME:CET
DTSTART:20271031T010000
END:STANDARD
BEGIN:DAYLIGHT
TZOFFSETFROM:+0100
TZOFFSETTO:+0200
TZNAME:CEST
DTSTART:20280326T010000
END:DAYLIGHT
BEGIN:STANDARD
TZOFFSETFROM:+0200
TZOFFSETTO:+0100
TZNAME:CET
DTSTART:20281029T010000
END:STANDARD
BEGIN:DAYLIGHT
TZOFFSETFROM:+0100
TZOFFSETTO:+0200
TZNAME:CEST
DTSTART:20290325T010000
END:DAYLIGHT
BEGIN:STANDARD
TZOFFSETFROM:+0200
TZOFFSETTO:+0100
TZNAME:CET
DTSTART:20291028T010000
END:STANDARD
END:VTIMEZONE
BEGIN:VEVENT
DTSTART;TZID=Europe/Brussels:20280308T113000
DTEND;TZID=Europe/Brussels:20280308T153000
DTSTAMP:20260421T100916
CREATED:20260128T104744Z
LAST-MODIFIED:20260128T104744Z
UID:10003643-1836127800-1836142200@www.chaudfontaine.be
SUMMARY:Food truck: Chicken chick
DESCRIPTION:Food truck de poulets rôtis\, spare ribs et ses assortiments. \nTous les mercredi de 11h00 à 15h30\, place Foguenne à Vaux-sous-Chèvremont
URL:https://www.chaudfontaine.be/evenement/food-truck-chicken-chick/2028-03-08/
LOCATION:Place Foguenne\, Place Foguenne\, Chaudfontaine\, 4051\, Belgique
CATEGORIES:Commerce,Marché
ATTACH;FMTTYPE=image/jpeg:https://www.chaudfontaine.be/wp-content/uploads/2024/09/ChickenChick.jpg
END:VEVENT
BEGIN:VEVENT
DTSTART;TZID=Europe/Brussels:20280310T080000
DTEND;TZID=Europe/Brussels:20280310T130000
DTSTAMP:20260421T100916
CREATED:20260115T092451Z
LAST-MODIFIED:20260115T092451Z
UID:10003378-1836288000-1836306000@www.chaudfontaine.be
SUMMARY:Marché de Vaux-sous-Chèvremont
DESCRIPTION:Tous les vendredis de 08h à 13h a lieu le marché de Vaux-sous-Chèvremont.\nVenez retrouver les producteurs locaux qui vous proposent des produits de qualité: fromages\, charcuteries\, pains\, pâtisseries\, fleurs\, plantes\, …\nC’est le moment de favoriser l’économie local dans une ambiance conviviale.
URL:https://www.chaudfontaine.be/evenement/marche-de-vaux-sous-chevremont/2028-03-10/
LOCATION:Place Foguenne\, Place Foguenne\, Chaudfontaine\, 4051\, Belgique
CATEGORIES:Marché
ATTACH;FMTTYPE=image/jpeg:https://www.chaudfontaine.be/wp-content/uploads/2026/01/Marche-vaux.jpg
ORGANIZER;CN="Commune de Chaudfontaine":MAILTO:commune@chaudfontaine.be
END:VEVENT
BEGIN:VEVENT
DTSTART;TZID=Europe/Brussels:20280315T113000
DTEND;TZID=Europe/Brussels:20280315T153000
DTSTAMP:20260421T100916
CREATED:20260128T104744Z
LAST-MODIFIED:20260128T104744Z
UID:10003644-1836732600-1836747000@www.chaudfontaine.be
SUMMARY:Food truck: Chicken chick
DESCRIPTION:Food truck de poulets rôtis\, spare ribs et ses assortiments. \nTous les mercredi de 11h00 à 15h30\, place Foguenne à Vaux-sous-Chèvremont
URL:https://www.chaudfontaine.be/evenement/food-truck-chicken-chick/2028-03-15/
LOCATION:Place Foguenne\, Place Foguenne\, Chaudfontaine\, 4051\, Belgique
CATEGORIES:Commerce,Marché
ATTACH;FMTTYPE=image/jpeg:https://www.chaudfontaine.be/wp-content/uploads/2024/09/ChickenChick.jpg
END:VEVENT
BEGIN:VEVENT
DTSTART;TZID=Europe/Brussels:20280317T080000
DTEND;TZID=Europe/Brussels:20280317T130000
DTSTAMP:20260421T100916
CREATED:20260115T092451Z
LAST-MODIFIED:20260115T092451Z
UID:10003379-1836892800-1836910800@www.chaudfontaine.be
SUMMARY:Marché de Vaux-sous-Chèvremont
DESCRIPTION:Tous les vendredis de 08h à 13h a lieu le marché de Vaux-sous-Chèvremont.\nVenez retrouver les producteurs locaux qui vous proposent des produits de qualité: fromages\, charcuteries\, pains\, pâtisseries\, fleurs\, plantes\, …\nC’est le moment de favoriser l’économie local dans une ambiance conviviale.
URL:https://www.chaudfontaine.be/evenement/marche-de-vaux-sous-chevremont/2028-03-17/
LOCATION:Place Foguenne\, Place Foguenne\, Chaudfontaine\, 4051\, Belgique
CATEGORIES:Marché
ATTACH;FMTTYPE=image/jpeg:https://www.chaudfontaine.be/wp-content/uploads/2026/01/Marche-vaux.jpg
ORGANIZER;CN="Commune de Chaudfontaine":MAILTO:commune@chaudfontaine.be
END:VEVENT
BEGIN:VEVENT
DTSTART;TZID=Europe/Brussels:20280322T113000
DTEND;TZID=Europe/Brussels:20280322T153000
DTSTAMP:20260421T100916
CREATED:20260128T104744Z
LAST-MODIFIED:20260128T104744Z
UID:10003645-1837337400-1837351800@www.chaudfontaine.be
SUMMARY:Food truck: Chicken chick
DESCRIPTION:Food truck de poulets rôtis\, spare ribs et ses assortiments. \nTous les mercredi de 11h00 à 15h30\, place Foguenne à Vaux-sous-Chèvremont
URL:https://www.chaudfontaine.be/evenement/food-truck-chicken-chick/2028-03-22/
LOCATION:Place Foguenne\, Place Foguenne\, Chaudfontaine\, 4051\, Belgique
CATEGORIES:Commerce,Marché
ATTACH;FMTTYPE=image/jpeg:https://www.chaudfontaine.be/wp-content/uploads/2024/09/ChickenChick.jpg
END:VEVENT
BEGIN:VEVENT
DTSTART;TZID=Europe/Brussels:20280324T080000
DTEND;TZID=Europe/Brussels:20280324T130000
DTSTAMP:20260421T100916
CREATED:20260115T092451Z
LAST-MODIFIED:20260115T092451Z
UID:10003380-1837497600-1837515600@www.chaudfontaine.be
SUMMARY:Marché de Vaux-sous-Chèvremont
DESCRIPTION:Tous les vendredis de 08h à 13h a lieu le marché de Vaux-sous-Chèvremont.\nVenez retrouver les producteurs locaux qui vous proposent des produits de qualité: fromages\, charcuteries\, pains\, pâtisseries\, fleurs\, plantes\, …\nC’est le moment de favoriser l’économie local dans une ambiance conviviale.
URL:https://www.chaudfontaine.be/evenement/marche-de-vaux-sous-chevremont/2028-03-24/
LOCATION:Place Foguenne\, Place Foguenne\, Chaudfontaine\, 4051\, Belgique
CATEGORIES:Marché
ATTACH;FMTTYPE=image/jpeg:https://www.chaudfontaine.be/wp-content/uploads/2026/01/Marche-vaux.jpg
ORGANIZER;CN="Commune de Chaudfontaine":MAILTO:commune@chaudfontaine.be
END:VEVENT
BEGIN:VEVENT
DTSTART;TZID=Europe/Brussels:20280329T113000
DTEND;TZID=Europe/Brussels:20280329T153000
DTSTAMP:20260421T100916
CREATED:20260128T104744Z
LAST-MODIFIED:20260128T104744Z
UID:10003646-1837942200-1837956600@www.chaudfontaine.be
SUMMARY:Food truck: Chicken chick
DESCRIPTION:Food truck de poulets rôtis\, spare ribs et ses assortiments. \nTous les mercredi de 11h00 à 15h30\, place Foguenne à Vaux-sous-Chèvremont
URL:https://www.chaudfontaine.be/evenement/food-truck-chicken-chick/2028-03-29/
LOCATION:Place Foguenne\, Place Foguenne\, Chaudfontaine\, 4051\, Belgique
CATEGORIES:Commerce,Marché
ATTACH;FMTTYPE=image/jpeg:https://www.chaudfontaine.be/wp-content/uploads/2024/09/ChickenChick.jpg
END:VEVENT
BEGIN:VEVENT
DTSTART;TZID=Europe/Brussels:20280331T080000
DTEND;TZID=Europe/Brussels:20280331T130000
DTSTAMP:20260421T100916
CREATED:20260115T092451Z
LAST-MODIFIED:20260115T092451Z
UID:10003381-1838102400-1838120400@www.chaudfontaine.be
SUMMARY:Marché de Vaux-sous-Chèvremont
DESCRIPTION:Tous les vendredis de 08h à 13h a lieu le marché de Vaux-sous-Chèvremont.\nVenez retrouver les producteurs locaux qui vous proposent des produits de qualité: fromages\, charcuteries\, pains\, pâtisseries\, fleurs\, plantes\, …\nC’est le moment de favoriser l’économie local dans une ambiance conviviale.
URL:https://www.chaudfontaine.be/evenement/marche-de-vaux-sous-chevremont/2028-03-31/
LOCATION:Place Foguenne\, Place Foguenne\, Chaudfontaine\, 4051\, Belgique
CATEGORIES:Marché
ATTACH;FMTTYPE=image/jpeg:https://www.chaudfontaine.be/wp-content/uploads/2026/01/Marche-vaux.jpg
ORGANIZER;CN="Commune de Chaudfontaine":MAILTO:commune@chaudfontaine.be
END:VEVENT
BEGIN:VEVENT
DTSTART;TZID=Europe/Brussels:20280405T113000
DTEND;TZID=Europe/Brussels:20280405T153000
DTSTAMP:20260421T100916
CREATED:20260128T104744Z
LAST-MODIFIED:20260128T104744Z
UID:10003647-1838547000-1838561400@www.chaudfontaine.be
SUMMARY:Food truck: Chicken chick
DESCRIPTION:Food truck de poulets rôtis\, spare ribs et ses assortiments. \nTous les mercredi de 11h00 à 15h30\, place Foguenne à Vaux-sous-Chèvremont
URL:https://www.chaudfontaine.be/evenement/food-truck-chicken-chick/2028-04-05/
LOCATION:Place Foguenne\, Place Foguenne\, Chaudfontaine\, 4051\, Belgique
CATEGORIES:Commerce,Marché
ATTACH;FMTTYPE=image/jpeg:https://www.chaudfontaine.be/wp-content/uploads/2024/09/ChickenChick.jpg
END:VEVENT
BEGIN:VEVENT
DTSTART;TZID=Europe/Brussels:20280407T080000
DTEND;TZID=Europe/Brussels:20280407T130000
DTSTAMP:20260421T100916
CREATED:20260115T092451Z
LAST-MODIFIED:20260115T092451Z
UID:10003382-1838707200-1838725200@www.chaudfontaine.be
SUMMARY:Marché de Vaux-sous-Chèvremont
DESCRIPTION:Tous les vendredis de 08h à 13h a lieu le marché de Vaux-sous-Chèvremont.\nVenez retrouver les producteurs locaux qui vous proposent des produits de qualité: fromages\, charcuteries\, pains\, pâtisseries\, fleurs\, plantes\, …\nC’est le moment de favoriser l’économie local dans une ambiance conviviale.
URL:https://www.chaudfontaine.be/evenement/marche-de-vaux-sous-chevremont/2028-04-07/
LOCATION:Place Foguenne\, Place Foguenne\, Chaudfontaine\, 4051\, Belgique
CATEGORIES:Marché
ATTACH;FMTTYPE=image/jpeg:https://www.chaudfontaine.be/wp-content/uploads/2026/01/Marche-vaux.jpg
ORGANIZER;CN="Commune de Chaudfontaine":MAILTO:commune@chaudfontaine.be
END:VEVENT
BEGIN:VEVENT
DTSTART;TZID=Europe/Brussels:20280412T113000
DTEND;TZID=Europe/Brussels:20280412T153000
DTSTAMP:20260421T100916
CREATED:20260128T104744Z
LAST-MODIFIED:20260128T104744Z
UID:10003648-1839151800-1839166200@www.chaudfontaine.be
SUMMARY:Food truck: Chicken chick
DESCRIPTION:Food truck de poulets rôtis\, spare ribs et ses assortiments. \nTous les mercredi de 11h00 à 15h30\, place Foguenne à Vaux-sous-Chèvremont
URL:https://www.chaudfontaine.be/evenement/food-truck-chicken-chick/2028-04-12/
LOCATION:Place Foguenne\, Place Foguenne\, Chaudfontaine\, 4051\, Belgique
CATEGORIES:Commerce,Marché
ATTACH;FMTTYPE=image/jpeg:https://www.chaudfontaine.be/wp-content/uploads/2024/09/ChickenChick.jpg
END:VEVENT
BEGIN:VEVENT
DTSTART;TZID=Europe/Brussels:20280414T080000
DTEND;TZID=Europe/Brussels:20280414T130000
DTSTAMP:20260421T100916
CREATED:20260115T092451Z
LAST-MODIFIED:20260115T092451Z
UID:10003383-1839312000-1839330000@www.chaudfontaine.be
SUMMARY:Marché de Vaux-sous-Chèvremont
DESCRIPTION:Tous les vendredis de 08h à 13h a lieu le marché de Vaux-sous-Chèvremont.\nVenez retrouver les producteurs locaux qui vous proposent des produits de qualité: fromages\, charcuteries\, pains\, pâtisseries\, fleurs\, plantes\, …\nC’est le moment de favoriser l’économie local dans une ambiance conviviale.
URL:https://www.chaudfontaine.be/evenement/marche-de-vaux-sous-chevremont/2028-04-14/
LOCATION:Place Foguenne\, Place Foguenne\, Chaudfontaine\, 4051\, Belgique
CATEGORIES:Marché
ATTACH;FMTTYPE=image/jpeg:https://www.chaudfontaine.be/wp-content/uploads/2026/01/Marche-vaux.jpg
ORGANIZER;CN="Commune de Chaudfontaine":MAILTO:commune@chaudfontaine.be
END:VEVENT
BEGIN:VEVENT
DTSTART;TZID=Europe/Brussels:20280419T113000
DTEND;TZID=Europe/Brussels:20280419T153000
DTSTAMP:20260421T100916
CREATED:20260128T104744Z
LAST-MODIFIED:20260128T104744Z
UID:10003649-1839756600-1839771000@www.chaudfontaine.be
SUMMARY:Food truck: Chicken chick
DESCRIPTION:Food truck de poulets rôtis\, spare ribs et ses assortiments. \nTous les mercredi de 11h00 à 15h30\, place Foguenne à Vaux-sous-Chèvremont
URL:https://www.chaudfontaine.be/evenement/food-truck-chicken-chick/2028-04-19/
LOCATION:Place Foguenne\, Place Foguenne\, Chaudfontaine\, 4051\, Belgique
CATEGORIES:Commerce,Marché
ATTACH;FMTTYPE=image/jpeg:https://www.chaudfontaine.be/wp-content/uploads/2024/09/ChickenChick.jpg
END:VEVENT
BEGIN:VEVENT
DTSTART;TZID=Europe/Brussels:20280421T080000
DTEND;TZID=Europe/Brussels:20280421T130000
DTSTAMP:20260421T100916
CREATED:20260115T092451Z
LAST-MODIFIED:20260115T092451Z
UID:10003384-1839916800-1839934800@www.chaudfontaine.be
SUMMARY:Marché de Vaux-sous-Chèvremont
DESCRIPTION:Tous les vendredis de 08h à 13h a lieu le marché de Vaux-sous-Chèvremont.\nVenez retrouver les producteurs locaux qui vous proposent des produits de qualité: fromages\, charcuteries\, pains\, pâtisseries\, fleurs\, plantes\, …\nC’est le moment de favoriser l’économie local dans une ambiance conviviale.
URL:https://www.chaudfontaine.be/evenement/marche-de-vaux-sous-chevremont/2028-04-21/
LOCATION:Place Foguenne\, Place Foguenne\, Chaudfontaine\, 4051\, Belgique
CATEGORIES:Marché
ATTACH;FMTTYPE=image/jpeg:https://www.chaudfontaine.be/wp-content/uploads/2026/01/Marche-vaux.jpg
ORGANIZER;CN="Commune de Chaudfontaine":MAILTO:commune@chaudfontaine.be
END:VEVENT
BEGIN:VEVENT
DTSTART;TZID=Europe/Brussels:20280426T113000
DTEND;TZID=Europe/Brussels:20280426T153000
DTSTAMP:20260421T100916
CREATED:20260128T104744Z
LAST-MODIFIED:20260128T104744Z
UID:10003650-1840361400-1840375800@www.chaudfontaine.be
SUMMARY:Food truck: Chicken chick
DESCRIPTION:Food truck de poulets rôtis\, spare ribs et ses assortiments. \nTous les mercredi de 11h00 à 15h30\, place Foguenne à Vaux-sous-Chèvremont
URL:https://www.chaudfontaine.be/evenement/food-truck-chicken-chick/2028-04-26/
LOCATION:Place Foguenne\, Place Foguenne\, Chaudfontaine\, 4051\, Belgique
CATEGORIES:Commerce,Marché
ATTACH;FMTTYPE=image/jpeg:https://www.chaudfontaine.be/wp-content/uploads/2024/09/ChickenChick.jpg
END:VEVENT
BEGIN:VEVENT
DTSTART;TZID=Europe/Brussels:20280428T080000
DTEND;TZID=Europe/Brussels:20280428T130000
DTSTAMP:20260421T100916
CREATED:20260115T092451Z
LAST-MODIFIED:20260115T092451Z
UID:10003385-1840521600-1840539600@www.chaudfontaine.be
SUMMARY:Marché de Vaux-sous-Chèvremont
DESCRIPTION:Tous les vendredis de 08h à 13h a lieu le marché de Vaux-sous-Chèvremont.\nVenez retrouver les producteurs locaux qui vous proposent des produits de qualité: fromages\, charcuteries\, pains\, pâtisseries\, fleurs\, plantes\, …\nC’est le moment de favoriser l’économie local dans une ambiance conviviale.
URL:https://www.chaudfontaine.be/evenement/marche-de-vaux-sous-chevremont/2028-04-28/
LOCATION:Place Foguenne\, Place Foguenne\, Chaudfontaine\, 4051\, Belgique
CATEGORIES:Marché
ATTACH;FMTTYPE=image/jpeg:https://www.chaudfontaine.be/wp-content/uploads/2026/01/Marche-vaux.jpg
ORGANIZER;CN="Commune de Chaudfontaine":MAILTO:commune@chaudfontaine.be
END:VEVENT
BEGIN:VEVENT
DTSTART;TZID=Europe/Brussels:20280503T113000
DTEND;TZID=Europe/Brussels:20280503T153000
DTSTAMP:20260421T100916
CREATED:20260128T104744Z
LAST-MODIFIED:20260128T104744Z
UID:10003651-1840966200-1840980600@www.chaudfontaine.be
SUMMARY:Food truck: Chicken chick
DESCRIPTION:Food truck de poulets rôtis\, spare ribs et ses assortiments. \nTous les mercredi de 11h00 à 15h30\, place Foguenne à Vaux-sous-Chèvremont
URL:https://www.chaudfontaine.be/evenement/food-truck-chicken-chick/2028-05-03/
LOCATION:Place Foguenne\, Place Foguenne\, Chaudfontaine\, 4051\, Belgique
CATEGORIES:Commerce,Marché
ATTACH;FMTTYPE=image/jpeg:https://www.chaudfontaine.be/wp-content/uploads/2024/09/ChickenChick.jpg
END:VEVENT
BEGIN:VEVENT
DTSTART;TZID=Europe/Brussels:20280505T080000
DTEND;TZID=Europe/Brussels:20280505T130000
DTSTAMP:20260421T100916
CREATED:20260115T092451Z
LAST-MODIFIED:20260115T092451Z
UID:10003386-1841126400-1841144400@www.chaudfontaine.be
SUMMARY:Marché de Vaux-sous-Chèvremont
DESCRIPTION:Tous les vendredis de 08h à 13h a lieu le marché de Vaux-sous-Chèvremont.\nVenez retrouver les producteurs locaux qui vous proposent des produits de qualité: fromages\, charcuteries\, pains\, pâtisseries\, fleurs\, plantes\, …\nC’est le moment de favoriser l’économie local dans une ambiance conviviale.
URL:https://www.chaudfontaine.be/evenement/marche-de-vaux-sous-chevremont/2028-05-05/
LOCATION:Place Foguenne\, Place Foguenne\, Chaudfontaine\, 4051\, Belgique
CATEGORIES:Marché
ATTACH;FMTTYPE=image/jpeg:https://www.chaudfontaine.be/wp-content/uploads/2026/01/Marche-vaux.jpg
ORGANIZER;CN="Commune de Chaudfontaine":MAILTO:commune@chaudfontaine.be
END:VEVENT
BEGIN:VEVENT
DTSTART;TZID=Europe/Brussels:20280510T113000
DTEND;TZID=Europe/Brussels:20280510T153000
DTSTAMP:20260421T100916
CREATED:20260128T104744Z
LAST-MODIFIED:20260128T104744Z
UID:10003652-1841571000-1841585400@www.chaudfontaine.be
SUMMARY:Food truck: Chicken chick
DESCRIPTION:Food truck de poulets rôtis\, spare ribs et ses assortiments. \nTous les mercredi de 11h00 à 15h30\, place Foguenne à Vaux-sous-Chèvremont
URL:https://www.chaudfontaine.be/evenement/food-truck-chicken-chick/2028-05-10/
LOCATION:Place Foguenne\, Place Foguenne\, Chaudfontaine\, 4051\, Belgique
CATEGORIES:Commerce,Marché
ATTACH;FMTTYPE=image/jpeg:https://www.chaudfontaine.be/wp-content/uploads/2024/09/ChickenChick.jpg
END:VEVENT
BEGIN:VEVENT
DTSTART;TZID=Europe/Brussels:20280512T080000
DTEND;TZID=Europe/Brussels:20280512T130000
DTSTAMP:20260421T100916
CREATED:20260115T092451Z
LAST-MODIFIED:20260115T092451Z
UID:10003387-1841731200-1841749200@www.chaudfontaine.be
SUMMARY:Marché de Vaux-sous-Chèvremont
DESCRIPTION:Tous les vendredis de 08h à 13h a lieu le marché de Vaux-sous-Chèvremont.\nVenez retrouver les producteurs locaux qui vous proposent des produits de qualité: fromages\, charcuteries\, pains\, pâtisseries\, fleurs\, plantes\, …\nC’est le moment de favoriser l’économie local dans une ambiance conviviale.
URL:https://www.chaudfontaine.be/evenement/marche-de-vaux-sous-chevremont/2028-05-12/
LOCATION:Place Foguenne\, Place Foguenne\, Chaudfontaine\, 4051\, Belgique
CATEGORIES:Marché
ATTACH;FMTTYPE=image/jpeg:https://www.chaudfontaine.be/wp-content/uploads/2026/01/Marche-vaux.jpg
ORGANIZER;CN="Commune de Chaudfontaine":MAILTO:commune@chaudfontaine.be
END:VEVENT
BEGIN:VEVENT
DTSTART;TZID=Europe/Brussels:20280517T113000
DTEND;TZID=Europe/Brussels:20280517T153000
DTSTAMP:20260421T100916
CREATED:20260128T104744Z
LAST-MODIFIED:20260128T104744Z
UID:10003653-1842175800-1842190200@www.chaudfontaine.be
SUMMARY:Food truck: Chicken chick
DESCRIPTION:Food truck de poulets rôtis\, spare ribs et ses assortiments. \nTous les mercredi de 11h00 à 15h30\, place Foguenne à Vaux-sous-Chèvremont
URL:https://www.chaudfontaine.be/evenement/food-truck-chicken-chick/2028-05-17/
LOCATION:Place Foguenne\, Place Foguenne\, Chaudfontaine\, 4051\, Belgique
CATEGORIES:Commerce,Marché
ATTACH;FMTTYPE=image/jpeg:https://www.chaudfontaine.be/wp-content/uploads/2024/09/ChickenChick.jpg
END:VEVENT
BEGIN:VEVENT
DTSTART;TZID=Europe/Brussels:20280519T080000
DTEND;TZID=Europe/Brussels:20280519T130000
DTSTAMP:20260421T100916
CREATED:20260115T092451Z
LAST-MODIFIED:20260115T092451Z
UID:10003388-1842336000-1842354000@www.chaudfontaine.be
SUMMARY:Marché de Vaux-sous-Chèvremont
DESCRIPTION:Tous les vendredis de 08h à 13h a lieu le marché de Vaux-sous-Chèvremont.\nVenez retrouver les producteurs locaux qui vous proposent des produits de qualité: fromages\, charcuteries\, pains\, pâtisseries\, fleurs\, plantes\, …\nC’est le moment de favoriser l’économie local dans une ambiance conviviale.
URL:https://www.chaudfontaine.be/evenement/marche-de-vaux-sous-chevremont/2028-05-19/
LOCATION:Place Foguenne\, Place Foguenne\, Chaudfontaine\, 4051\, Belgique
CATEGORIES:Marché
ATTACH;FMTTYPE=image/jpeg:https://www.chaudfontaine.be/wp-content/uploads/2026/01/Marche-vaux.jpg
ORGANIZER;CN="Commune de Chaudfontaine":MAILTO:commune@chaudfontaine.be
END:VEVENT
BEGIN:VEVENT
DTSTART;TZID=Europe/Brussels:20280524T113000
DTEND;TZID=Europe/Brussels:20280524T153000
DTSTAMP:20260421T100916
CREATED:20260128T104744Z
LAST-MODIFIED:20260128T104744Z
UID:10003654-1842780600-1842795000@www.chaudfontaine.be
SUMMARY:Food truck: Chicken chick
DESCRIPTION:Food truck de poulets rôtis\, spare ribs et ses assortiments. \nTous les mercredi de 11h00 à 15h30\, place Foguenne à Vaux-sous-Chèvremont
URL:https://www.chaudfontaine.be/evenement/food-truck-chicken-chick/2028-05-24/
LOCATION:Place Foguenne\, Place Foguenne\, Chaudfontaine\, 4051\, Belgique
CATEGORIES:Commerce,Marché
ATTACH;FMTTYPE=image/jpeg:https://www.chaudfontaine.be/wp-content/uploads/2024/09/ChickenChick.jpg
END:VEVENT
BEGIN:VEVENT
DTSTART;TZID=Europe/Brussels:20280526T080000
DTEND;TZID=Europe/Brussels:20280526T130000
DTSTAMP:20260421T100916
CREATED:20260115T092451Z
LAST-MODIFIED:20260115T092451Z
UID:10003389-1842940800-1842958800@www.chaudfontaine.be
SUMMARY:Marché de Vaux-sous-Chèvremont
DESCRIPTION:Tous les vendredis de 08h à 13h a lieu le marché de Vaux-sous-Chèvremont.\nVenez retrouver les producteurs locaux qui vous proposent des produits de qualité: fromages\, charcuteries\, pains\, pâtisseries\, fleurs\, plantes\, …\nC’est le moment de favoriser l’économie local dans une ambiance conviviale.
URL:https://www.chaudfontaine.be/evenement/marche-de-vaux-sous-chevremont/2028-05-26/
LOCATION:Place Foguenne\, Place Foguenne\, Chaudfontaine\, 4051\, Belgique
CATEGORIES:Marché
ATTACH;FMTTYPE=image/jpeg:https://www.chaudfontaine.be/wp-content/uploads/2026/01/Marche-vaux.jpg
ORGANIZER;CN="Commune de Chaudfontaine":MAILTO:commune@chaudfontaine.be
END:VEVENT
BEGIN:VEVENT
DTSTART;TZID=Europe/Brussels:20280531T113000
DTEND;TZID=Europe/Brussels:20280531T153000
DTSTAMP:20260421T100916
CREATED:20260128T104744Z
LAST-MODIFIED:20260128T104744Z
UID:10003655-1843385400-1843399800@www.chaudfontaine.be
SUMMARY:Food truck: Chicken chick
DESCRIPTION:Food truck de poulets rôtis\, spare ribs et ses assortiments. \nTous les mercredi de 11h00 à 15h30\, place Foguenne à Vaux-sous-Chèvremont
URL:https://www.chaudfontaine.be/evenement/food-truck-chicken-chick/2028-05-31/
LOCATION:Place Foguenne\, Place Foguenne\, Chaudfontaine\, 4051\, Belgique
CATEGORIES:Commerce,Marché
ATTACH;FMTTYPE=image/jpeg:https://www.chaudfontaine.be/wp-content/uploads/2024/09/ChickenChick.jpg
END:VEVENT
BEGIN:VEVENT
DTSTART;TZID=Europe/Brussels:20280602T080000
DTEND;TZID=Europe/Brussels:20280602T130000
DTSTAMP:20260421T100916
CREATED:20260115T092451Z
LAST-MODIFIED:20260115T092451Z
UID:10003390-1843545600-1843563600@www.chaudfontaine.be
SUMMARY:Marché de Vaux-sous-Chèvremont
DESCRIPTION:Tous les vendredis de 08h à 13h a lieu le marché de Vaux-sous-Chèvremont.\nVenez retrouver les producteurs locaux qui vous proposent des produits de qualité: fromages\, charcuteries\, pains\, pâtisseries\, fleurs\, plantes\, …\nC’est le moment de favoriser l’économie local dans une ambiance conviviale.
URL:https://www.chaudfontaine.be/evenement/marche-de-vaux-sous-chevremont/2028-06-02/
LOCATION:Place Foguenne\, Place Foguenne\, Chaudfontaine\, 4051\, Belgique
CATEGORIES:Marché
ATTACH;FMTTYPE=image/jpeg:https://www.chaudfontaine.be/wp-content/uploads/2026/01/Marche-vaux.jpg
ORGANIZER;CN="Commune de Chaudfontaine":MAILTO:commune@chaudfontaine.be
END:VEVENT
BEGIN:VEVENT
DTSTART;TZID=Europe/Brussels:20280607T113000
DTEND;TZID=Europe/Brussels:20280607T153000
DTSTAMP:20260421T100916
CREATED:20260128T104744Z
LAST-MODIFIED:20260128T104744Z
UID:10003656-1843990200-1844004600@www.chaudfontaine.be
SUMMARY:Food truck: Chicken chick
DESCRIPTION:Food truck de poulets rôtis\, spare ribs et ses assortiments. \nTous les mercredi de 11h00 à 15h30\, place Foguenne à Vaux-sous-Chèvremont
URL:https://www.chaudfontaine.be/evenement/food-truck-chicken-chick/2028-06-07/
LOCATION:Place Foguenne\, Place Foguenne\, Chaudfontaine\, 4051\, Belgique
CATEGORIES:Commerce,Marché
ATTACH;FMTTYPE=image/jpeg:https://www.chaudfontaine.be/wp-content/uploads/2024/09/ChickenChick.jpg
END:VEVENT
BEGIN:VEVENT
DTSTART;TZID=Europe/Brussels:20280609T080000
DTEND;TZID=Europe/Brussels:20280609T130000
DTSTAMP:20260421T100916
CREATED:20260115T092451Z
LAST-MODIFIED:20260115T092451Z
UID:10003391-1844150400-1844168400@www.chaudfontaine.be
SUMMARY:Marché de Vaux-sous-Chèvremont
DESCRIPTION:Tous les vendredis de 08h à 13h a lieu le marché de Vaux-sous-Chèvremont.\nVenez retrouver les producteurs locaux qui vous proposent des produits de qualité: fromages\, charcuteries\, pains\, pâtisseries\, fleurs\, plantes\, …\nC’est le moment de favoriser l’économie local dans une ambiance conviviale.
URL:https://www.chaudfontaine.be/evenement/marche-de-vaux-sous-chevremont/2028-06-09/
LOCATION:Place Foguenne\, Place Foguenne\, Chaudfontaine\, 4051\, Belgique
CATEGORIES:Marché
ATTACH;FMTTYPE=image/jpeg:https://www.chaudfontaine.be/wp-content/uploads/2026/01/Marche-vaux.jpg
ORGANIZER;CN="Commune de Chaudfontaine":MAILTO:commune@chaudfontaine.be
END:VEVENT
BEGIN:VEVENT
DTSTART;TZID=Europe/Brussels:20280614T113000
DTEND;TZID=Europe/Brussels:20280614T153000
DTSTAMP:20260421T100916
CREATED:20260128T104744Z
LAST-MODIFIED:20260128T104744Z
UID:10003657-1844595000-1844609400@www.chaudfontaine.be
SUMMARY:Food truck: Chicken chick
DESCRIPTION:Food truck de poulets rôtis\, spare ribs et ses assortiments. \nTous les mercredi de 11h00 à 15h30\, place Foguenne à Vaux-sous-Chèvremont
URL:https://www.chaudfontaine.be/evenement/food-truck-chicken-chick/2028-06-14/
LOCATION:Place Foguenne\, Place Foguenne\, Chaudfontaine\, 4051\, Belgique
CATEGORIES:Commerce,Marché
ATTACH;FMTTYPE=image/jpeg:https://www.chaudfontaine.be/wp-content/uploads/2024/09/ChickenChick.jpg
END:VEVENT
BEGIN:VEVENT
DTSTART;TZID=Europe/Brussels:20280616T080000
DTEND;TZID=Europe/Brussels:20280616T130000
DTSTAMP:20260421T100916
CREATED:20260115T092451Z
LAST-MODIFIED:20260115T092451Z
UID:10003392-1844755200-1844773200@www.chaudfontaine.be
SUMMARY:Marché de Vaux-sous-Chèvremont
DESCRIPTION:Tous les vendredis de 08h à 13h a lieu le marché de Vaux-sous-Chèvremont.\nVenez retrouver les producteurs locaux qui vous proposent des produits de qualité: fromages\, charcuteries\, pains\, pâtisseries\, fleurs\, plantes\, …\nC’est le moment de favoriser l’économie local dans une ambiance conviviale.
URL:https://www.chaudfontaine.be/evenement/marche-de-vaux-sous-chevremont/2028-06-16/
LOCATION:Place Foguenne\, Place Foguenne\, Chaudfontaine\, 4051\, Belgique
CATEGORIES:Marché
ATTACH;FMTTYPE=image/jpeg:https://www.chaudfontaine.be/wp-content/uploads/2026/01/Marche-vaux.jpg
ORGANIZER;CN="Commune de Chaudfontaine":MAILTO:commune@chaudfontaine.be
END:VEVENT
END:VCALENDAR