BEGIN:VCALENDAR
VERSION:2.0
PRODID:-//Commune de Chaudfontaine - ECPv6.15.20//NONSGML v1.0//EN
CALSCALE:GREGORIAN
METHOD:PUBLISH
X-WR-CALNAME:Commune de Chaudfontaine
X-ORIGINAL-URL:https://www.chaudfontaine.be
X-WR-CALDESC:Évènements pour Commune de Chaudfontaine
REFRESH-INTERVAL;VALUE=DURATION:PT1H
X-Robots-Tag:noindex
X-PUBLISHED-TTL:PT1H
BEGIN:VTIMEZONE
TZID:Europe/Brussels
BEGIN:DAYLIGHT
TZOFFSETFROM:+0100
TZOFFSETTO:+0200
TZNAME:CEST
DTSTART:20280326T010000
END:DAYLIGHT
BEGIN:STANDARD
TZOFFSETFROM:+0200
TZOFFSETTO:+0100
TZNAME:CET
DTSTART:20281029T010000
END:STANDARD
BEGIN:DAYLIGHT
TZOFFSETFROM:+0100
TZOFFSETTO:+0200
TZNAME:CEST
DTSTART:20290325T010000
END:DAYLIGHT
BEGIN:STANDARD
TZOFFSETFROM:+0200
TZOFFSETTO:+0100
TZNAME:CET
DTSTART:20291028T010000
END:STANDARD
BEGIN:DAYLIGHT
TZOFFSETFROM:+0100
TZOFFSETTO:+0200
TZNAME:CEST
DTSTART:20300331T010000
END:DAYLIGHT
BEGIN:STANDARD
TZOFFSETFROM:+0200
TZOFFSETTO:+0100
TZNAME:CET
DTSTART:20301027T010000
END:STANDARD
END:VTIMEZONE
BEGIN:VEVENT
DTSTART;TZID=Europe/Brussels:20290523T113000
DTEND;TZID=Europe/Brussels:20290523T153000
DTSTAMP:20260422T072013
CREATED:20260128T104744Z
LAST-MODIFIED:20260128T104744Z
UID:10003706-1874230200-1874244600@www.chaudfontaine.be
SUMMARY:Food truck: Chicken chick
DESCRIPTION:Food truck de poulets rôtis\, spare ribs et ses assortiments. \nTous les mercredi de 11h00 à 15h30\, place Foguenne à Vaux-sous-Chèvremont
URL:https://www.chaudfontaine.be/evenement/food-truck-chicken-chick/2029-05-23/
LOCATION:Place Foguenne\, Place Foguenne\, Chaudfontaine\, 4051\, Belgique
CATEGORIES:Commerce,Marché
ATTACH;FMTTYPE=image/jpeg:https://www.chaudfontaine.be/wp-content/uploads/2024/09/ChickenChick.jpg
END:VEVENT
BEGIN:VEVENT
DTSTART;TZID=Europe/Brussels:20290525T080000
DTEND;TZID=Europe/Brussels:20290525T130000
DTSTAMP:20260422T072013
CREATED:20260115T092451Z
LAST-MODIFIED:20260115T092451Z
UID:10003441-1874390400-1874408400@www.chaudfontaine.be
SUMMARY:Marché de Vaux-sous-Chèvremont
DESCRIPTION:Tous les vendredis de 08h à 13h a lieu le marché de Vaux-sous-Chèvremont.\nVenez retrouver les producteurs locaux qui vous proposent des produits de qualité: fromages\, charcuteries\, pains\, pâtisseries\, fleurs\, plantes\, …\nC’est le moment de favoriser l’économie local dans une ambiance conviviale.
URL:https://www.chaudfontaine.be/evenement/marche-de-vaux-sous-chevremont/2029-05-25/
LOCATION:Place Foguenne\, Place Foguenne\, Chaudfontaine\, 4051\, Belgique
CATEGORIES:Marché
ATTACH;FMTTYPE=image/jpeg:https://www.chaudfontaine.be/wp-content/uploads/2026/01/Marche-vaux.jpg
ORGANIZER;CN="Commune de Chaudfontaine":MAILTO:commune@chaudfontaine.be
END:VEVENT
BEGIN:VEVENT
DTSTART;TZID=Europe/Brussels:20290530T113000
DTEND;TZID=Europe/Brussels:20290530T153000
DTSTAMP:20260422T072013
CREATED:20260128T104744Z
LAST-MODIFIED:20260128T104744Z
UID:10003707-1874835000-1874849400@www.chaudfontaine.be
SUMMARY:Food truck: Chicken chick
DESCRIPTION:Food truck de poulets rôtis\, spare ribs et ses assortiments. \nTous les mercredi de 11h00 à 15h30\, place Foguenne à Vaux-sous-Chèvremont
URL:https://www.chaudfontaine.be/evenement/food-truck-chicken-chick/2029-05-30/
LOCATION:Place Foguenne\, Place Foguenne\, Chaudfontaine\, 4051\, Belgique
CATEGORIES:Commerce,Marché
ATTACH;FMTTYPE=image/jpeg:https://www.chaudfontaine.be/wp-content/uploads/2024/09/ChickenChick.jpg
END:VEVENT
BEGIN:VEVENT
DTSTART;TZID=Europe/Brussels:20290601T080000
DTEND;TZID=Europe/Brussels:20290601T130000
DTSTAMP:20260422T072013
CREATED:20260115T092451Z
LAST-MODIFIED:20260115T092451Z
UID:10003442-1874995200-1875013200@www.chaudfontaine.be
SUMMARY:Marché de Vaux-sous-Chèvremont
DESCRIPTION:Tous les vendredis de 08h à 13h a lieu le marché de Vaux-sous-Chèvremont.\nVenez retrouver les producteurs locaux qui vous proposent des produits de qualité: fromages\, charcuteries\, pains\, pâtisseries\, fleurs\, plantes\, …\nC’est le moment de favoriser l’économie local dans une ambiance conviviale.
URL:https://www.chaudfontaine.be/evenement/marche-de-vaux-sous-chevremont/2029-06-01/
LOCATION:Place Foguenne\, Place Foguenne\, Chaudfontaine\, 4051\, Belgique
CATEGORIES:Marché
ATTACH;FMTTYPE=image/jpeg:https://www.chaudfontaine.be/wp-content/uploads/2026/01/Marche-vaux.jpg
ORGANIZER;CN="Commune de Chaudfontaine":MAILTO:commune@chaudfontaine.be
END:VEVENT
BEGIN:VEVENT
DTSTART;TZID=Europe/Brussels:20290606T113000
DTEND;TZID=Europe/Brussels:20290606T153000
DTSTAMP:20260422T072013
CREATED:20260128T104744Z
LAST-MODIFIED:20260128T104744Z
UID:10003708-1875439800-1875454200@www.chaudfontaine.be
SUMMARY:Food truck: Chicken chick
DESCRIPTION:Food truck de poulets rôtis\, spare ribs et ses assortiments. \nTous les mercredi de 11h00 à 15h30\, place Foguenne à Vaux-sous-Chèvremont
URL:https://www.chaudfontaine.be/evenement/food-truck-chicken-chick/2029-06-06/
LOCATION:Place Foguenne\, Place Foguenne\, Chaudfontaine\, 4051\, Belgique
CATEGORIES:Commerce,Marché
ATTACH;FMTTYPE=image/jpeg:https://www.chaudfontaine.be/wp-content/uploads/2024/09/ChickenChick.jpg
END:VEVENT
BEGIN:VEVENT
DTSTART;TZID=Europe/Brussels:20290608T080000
DTEND;TZID=Europe/Brussels:20290608T130000
DTSTAMP:20260422T072013
CREATED:20260115T092451Z
LAST-MODIFIED:20260115T092451Z
UID:10003443-1875600000-1875618000@www.chaudfontaine.be
SUMMARY:Marché de Vaux-sous-Chèvremont
DESCRIPTION:Tous les vendredis de 08h à 13h a lieu le marché de Vaux-sous-Chèvremont.\nVenez retrouver les producteurs locaux qui vous proposent des produits de qualité: fromages\, charcuteries\, pains\, pâtisseries\, fleurs\, plantes\, …\nC’est le moment de favoriser l’économie local dans une ambiance conviviale.
URL:https://www.chaudfontaine.be/evenement/marche-de-vaux-sous-chevremont/2029-06-08/
LOCATION:Place Foguenne\, Place Foguenne\, Chaudfontaine\, 4051\, Belgique
CATEGORIES:Marché
ATTACH;FMTTYPE=image/jpeg:https://www.chaudfontaine.be/wp-content/uploads/2026/01/Marche-vaux.jpg
ORGANIZER;CN="Commune de Chaudfontaine":MAILTO:commune@chaudfontaine.be
END:VEVENT
BEGIN:VEVENT
DTSTART;TZID=Europe/Brussels:20290613T113000
DTEND;TZID=Europe/Brussels:20290613T153000
DTSTAMP:20260422T072013
CREATED:20260128T104744Z
LAST-MODIFIED:20260128T104744Z
UID:10003709-1876044600-1876059000@www.chaudfontaine.be
SUMMARY:Food truck: Chicken chick
DESCRIPTION:Food truck de poulets rôtis\, spare ribs et ses assortiments. \nTous les mercredi de 11h00 à 15h30\, place Foguenne à Vaux-sous-Chèvremont
URL:https://www.chaudfontaine.be/evenement/food-truck-chicken-chick/2029-06-13/
LOCATION:Place Foguenne\, Place Foguenne\, Chaudfontaine\, 4051\, Belgique
CATEGORIES:Commerce,Marché
ATTACH;FMTTYPE=image/jpeg:https://www.chaudfontaine.be/wp-content/uploads/2024/09/ChickenChick.jpg
END:VEVENT
BEGIN:VEVENT
DTSTART;TZID=Europe/Brussels:20290615T080000
DTEND;TZID=Europe/Brussels:20290615T130000
DTSTAMP:20260422T072013
CREATED:20260115T092451Z
LAST-MODIFIED:20260115T092451Z
UID:10003444-1876204800-1876222800@www.chaudfontaine.be
SUMMARY:Marché de Vaux-sous-Chèvremont
DESCRIPTION:Tous les vendredis de 08h à 13h a lieu le marché de Vaux-sous-Chèvremont.\nVenez retrouver les producteurs locaux qui vous proposent des produits de qualité: fromages\, charcuteries\, pains\, pâtisseries\, fleurs\, plantes\, …\nC’est le moment de favoriser l’économie local dans une ambiance conviviale.
URL:https://www.chaudfontaine.be/evenement/marche-de-vaux-sous-chevremont/2029-06-15/
LOCATION:Place Foguenne\, Place Foguenne\, Chaudfontaine\, 4051\, Belgique
CATEGORIES:Marché
ATTACH;FMTTYPE=image/jpeg:https://www.chaudfontaine.be/wp-content/uploads/2026/01/Marche-vaux.jpg
ORGANIZER;CN="Commune de Chaudfontaine":MAILTO:commune@chaudfontaine.be
END:VEVENT
BEGIN:VEVENT
DTSTART;TZID=Europe/Brussels:20290620T113000
DTEND;TZID=Europe/Brussels:20290620T153000
DTSTAMP:20260422T072013
CREATED:20260128T104744Z
LAST-MODIFIED:20260128T104744Z
UID:10003710-1876649400-1876663800@www.chaudfontaine.be
SUMMARY:Food truck: Chicken chick
DESCRIPTION:Food truck de poulets rôtis\, spare ribs et ses assortiments. \nTous les mercredi de 11h00 à 15h30\, place Foguenne à Vaux-sous-Chèvremont
URL:https://www.chaudfontaine.be/evenement/food-truck-chicken-chick/2029-06-20/
LOCATION:Place Foguenne\, Place Foguenne\, Chaudfontaine\, 4051\, Belgique
CATEGORIES:Commerce,Marché
ATTACH;FMTTYPE=image/jpeg:https://www.chaudfontaine.be/wp-content/uploads/2024/09/ChickenChick.jpg
END:VEVENT
BEGIN:VEVENT
DTSTART;TZID=Europe/Brussels:20290622T080000
DTEND;TZID=Europe/Brussels:20290622T130000
DTSTAMP:20260422T072013
CREATED:20260115T092451Z
LAST-MODIFIED:20260115T092451Z
UID:10003445-1876809600-1876827600@www.chaudfontaine.be
SUMMARY:Marché de Vaux-sous-Chèvremont
DESCRIPTION:Tous les vendredis de 08h à 13h a lieu le marché de Vaux-sous-Chèvremont.\nVenez retrouver les producteurs locaux qui vous proposent des produits de qualité: fromages\, charcuteries\, pains\, pâtisseries\, fleurs\, plantes\, …\nC’est le moment de favoriser l’économie local dans une ambiance conviviale.
URL:https://www.chaudfontaine.be/evenement/marche-de-vaux-sous-chevremont/2029-06-22/
LOCATION:Place Foguenne\, Place Foguenne\, Chaudfontaine\, 4051\, Belgique
CATEGORIES:Marché
ATTACH;FMTTYPE=image/jpeg:https://www.chaudfontaine.be/wp-content/uploads/2026/01/Marche-vaux.jpg
ORGANIZER;CN="Commune de Chaudfontaine":MAILTO:commune@chaudfontaine.be
END:VEVENT
BEGIN:VEVENT
DTSTART;TZID=Europe/Brussels:20290627T113000
DTEND;TZID=Europe/Brussels:20290627T153000
DTSTAMP:20260422T072013
CREATED:20260128T104744Z
LAST-MODIFIED:20260128T104744Z
UID:10003711-1877254200-1877268600@www.chaudfontaine.be
SUMMARY:Food truck: Chicken chick
DESCRIPTION:Food truck de poulets rôtis\, spare ribs et ses assortiments. \nTous les mercredi de 11h00 à 15h30\, place Foguenne à Vaux-sous-Chèvremont
URL:https://www.chaudfontaine.be/evenement/food-truck-chicken-chick/2029-06-27/
LOCATION:Place Foguenne\, Place Foguenne\, Chaudfontaine\, 4051\, Belgique
CATEGORIES:Commerce,Marché
ATTACH;FMTTYPE=image/jpeg:https://www.chaudfontaine.be/wp-content/uploads/2024/09/ChickenChick.jpg
END:VEVENT
BEGIN:VEVENT
DTSTART;TZID=Europe/Brussels:20290629T080000
DTEND;TZID=Europe/Brussels:20290629T130000
DTSTAMP:20260422T072013
CREATED:20260115T092451Z
LAST-MODIFIED:20260115T092451Z
UID:10003446-1877414400-1877432400@www.chaudfontaine.be
SUMMARY:Marché de Vaux-sous-Chèvremont
DESCRIPTION:Tous les vendredis de 08h à 13h a lieu le marché de Vaux-sous-Chèvremont.\nVenez retrouver les producteurs locaux qui vous proposent des produits de qualité: fromages\, charcuteries\, pains\, pâtisseries\, fleurs\, plantes\, …\nC’est le moment de favoriser l’économie local dans une ambiance conviviale.
URL:https://www.chaudfontaine.be/evenement/marche-de-vaux-sous-chevremont/2029-06-29/
LOCATION:Place Foguenne\, Place Foguenne\, Chaudfontaine\, 4051\, Belgique
CATEGORIES:Marché
ATTACH;FMTTYPE=image/jpeg:https://www.chaudfontaine.be/wp-content/uploads/2026/01/Marche-vaux.jpg
ORGANIZER;CN="Commune de Chaudfontaine":MAILTO:commune@chaudfontaine.be
END:VEVENT
BEGIN:VEVENT
DTSTART;TZID=Europe/Brussels:20290704T113000
DTEND;TZID=Europe/Brussels:20290704T153000
DTSTAMP:20260422T072013
CREATED:20260128T104744Z
LAST-MODIFIED:20260128T104744Z
UID:10003712-1877859000-1877873400@www.chaudfontaine.be
SUMMARY:Food truck: Chicken chick
DESCRIPTION:Food truck de poulets rôtis\, spare ribs et ses assortiments. \nTous les mercredi de 11h00 à 15h30\, place Foguenne à Vaux-sous-Chèvremont
URL:https://www.chaudfontaine.be/evenement/food-truck-chicken-chick/2029-07-04/
LOCATION:Place Foguenne\, Place Foguenne\, Chaudfontaine\, 4051\, Belgique
CATEGORIES:Commerce,Marché
ATTACH;FMTTYPE=image/jpeg:https://www.chaudfontaine.be/wp-content/uploads/2024/09/ChickenChick.jpg
END:VEVENT
BEGIN:VEVENT
DTSTART;TZID=Europe/Brussels:20290706T080000
DTEND;TZID=Europe/Brussels:20290706T130000
DTSTAMP:20260422T072013
CREATED:20260115T092451Z
LAST-MODIFIED:20260115T092451Z
UID:10003447-1878019200-1878037200@www.chaudfontaine.be
SUMMARY:Marché de Vaux-sous-Chèvremont
DESCRIPTION:Tous les vendredis de 08h à 13h a lieu le marché de Vaux-sous-Chèvremont.\nVenez retrouver les producteurs locaux qui vous proposent des produits de qualité: fromages\, charcuteries\, pains\, pâtisseries\, fleurs\, plantes\, …\nC’est le moment de favoriser l’économie local dans une ambiance conviviale.
URL:https://www.chaudfontaine.be/evenement/marche-de-vaux-sous-chevremont/2029-07-06/
LOCATION:Place Foguenne\, Place Foguenne\, Chaudfontaine\, 4051\, Belgique
CATEGORIES:Marché
ATTACH;FMTTYPE=image/jpeg:https://www.chaudfontaine.be/wp-content/uploads/2026/01/Marche-vaux.jpg
ORGANIZER;CN="Commune de Chaudfontaine":MAILTO:commune@chaudfontaine.be
END:VEVENT
BEGIN:VEVENT
DTSTART;TZID=Europe/Brussels:20290711T113000
DTEND;TZID=Europe/Brussels:20290711T153000
DTSTAMP:20260422T072013
CREATED:20260128T104744Z
LAST-MODIFIED:20260128T104744Z
UID:10003713-1878463800-1878478200@www.chaudfontaine.be
SUMMARY:Food truck: Chicken chick
DESCRIPTION:Food truck de poulets rôtis\, spare ribs et ses assortiments. \nTous les mercredi de 11h00 à 15h30\, place Foguenne à Vaux-sous-Chèvremont
URL:https://www.chaudfontaine.be/evenement/food-truck-chicken-chick/2029-07-11/
LOCATION:Place Foguenne\, Place Foguenne\, Chaudfontaine\, 4051\, Belgique
CATEGORIES:Commerce,Marché
ATTACH;FMTTYPE=image/jpeg:https://www.chaudfontaine.be/wp-content/uploads/2024/09/ChickenChick.jpg
END:VEVENT
BEGIN:VEVENT
DTSTART;TZID=Europe/Brussels:20290713T080000
DTEND;TZID=Europe/Brussels:20290713T130000
DTSTAMP:20260422T072013
CREATED:20260115T092451Z
LAST-MODIFIED:20260115T092451Z
UID:10003448-1878624000-1878642000@www.chaudfontaine.be
SUMMARY:Marché de Vaux-sous-Chèvremont
DESCRIPTION:Tous les vendredis de 08h à 13h a lieu le marché de Vaux-sous-Chèvremont.\nVenez retrouver les producteurs locaux qui vous proposent des produits de qualité: fromages\, charcuteries\, pains\, pâtisseries\, fleurs\, plantes\, …\nC’est le moment de favoriser l’économie local dans une ambiance conviviale.
URL:https://www.chaudfontaine.be/evenement/marche-de-vaux-sous-chevremont/2029-07-13/
LOCATION:Place Foguenne\, Place Foguenne\, Chaudfontaine\, 4051\, Belgique
CATEGORIES:Marché
ATTACH;FMTTYPE=image/jpeg:https://www.chaudfontaine.be/wp-content/uploads/2026/01/Marche-vaux.jpg
ORGANIZER;CN="Commune de Chaudfontaine":MAILTO:commune@chaudfontaine.be
END:VEVENT
BEGIN:VEVENT
DTSTART;TZID=Europe/Brussels:20290718T113000
DTEND;TZID=Europe/Brussels:20290718T153000
DTSTAMP:20260422T072013
CREATED:20260128T104744Z
LAST-MODIFIED:20260128T104744Z
UID:10003714-1879068600-1879083000@www.chaudfontaine.be
SUMMARY:Food truck: Chicken chick
DESCRIPTION:Food truck de poulets rôtis\, spare ribs et ses assortiments. \nTous les mercredi de 11h00 à 15h30\, place Foguenne à Vaux-sous-Chèvremont
URL:https://www.chaudfontaine.be/evenement/food-truck-chicken-chick/2029-07-18/
LOCATION:Place Foguenne\, Place Foguenne\, Chaudfontaine\, 4051\, Belgique
CATEGORIES:Commerce,Marché
ATTACH;FMTTYPE=image/jpeg:https://www.chaudfontaine.be/wp-content/uploads/2024/09/ChickenChick.jpg
END:VEVENT
BEGIN:VEVENT
DTSTART;TZID=Europe/Brussels:20290720T080000
DTEND;TZID=Europe/Brussels:20290720T130000
DTSTAMP:20260422T072013
CREATED:20260115T092451Z
LAST-MODIFIED:20260115T092451Z
UID:10003449-1879228800-1879246800@www.chaudfontaine.be
SUMMARY:Marché de Vaux-sous-Chèvremont
DESCRIPTION:Tous les vendredis de 08h à 13h a lieu le marché de Vaux-sous-Chèvremont.\nVenez retrouver les producteurs locaux qui vous proposent des produits de qualité: fromages\, charcuteries\, pains\, pâtisseries\, fleurs\, plantes\, …\nC’est le moment de favoriser l’économie local dans une ambiance conviviale.
URL:https://www.chaudfontaine.be/evenement/marche-de-vaux-sous-chevremont/2029-07-20/
LOCATION:Place Foguenne\, Place Foguenne\, Chaudfontaine\, 4051\, Belgique
CATEGORIES:Marché
ATTACH;FMTTYPE=image/jpeg:https://www.chaudfontaine.be/wp-content/uploads/2026/01/Marche-vaux.jpg
ORGANIZER;CN="Commune de Chaudfontaine":MAILTO:commune@chaudfontaine.be
END:VEVENT
BEGIN:VEVENT
DTSTART;TZID=Europe/Brussels:20290725T113000
DTEND;TZID=Europe/Brussels:20290725T153000
DTSTAMP:20260422T072013
CREATED:20260128T104744Z
LAST-MODIFIED:20260128T104744Z
UID:10003715-1879673400-1879687800@www.chaudfontaine.be
SUMMARY:Food truck: Chicken chick
DESCRIPTION:Food truck de poulets rôtis\, spare ribs et ses assortiments. \nTous les mercredi de 11h00 à 15h30\, place Foguenne à Vaux-sous-Chèvremont
URL:https://www.chaudfontaine.be/evenement/food-truck-chicken-chick/2029-07-25/
LOCATION:Place Foguenne\, Place Foguenne\, Chaudfontaine\, 4051\, Belgique
CATEGORIES:Commerce,Marché
ATTACH;FMTTYPE=image/jpeg:https://www.chaudfontaine.be/wp-content/uploads/2024/09/ChickenChick.jpg
END:VEVENT
BEGIN:VEVENT
DTSTART;TZID=Europe/Brussels:20290727T080000
DTEND;TZID=Europe/Brussels:20290727T130000
DTSTAMP:20260422T072013
CREATED:20260115T092451Z
LAST-MODIFIED:20260115T092451Z
UID:10003450-1879833600-1879851600@www.chaudfontaine.be
SUMMARY:Marché de Vaux-sous-Chèvremont
DESCRIPTION:Tous les vendredis de 08h à 13h a lieu le marché de Vaux-sous-Chèvremont.\nVenez retrouver les producteurs locaux qui vous proposent des produits de qualité: fromages\, charcuteries\, pains\, pâtisseries\, fleurs\, plantes\, …\nC’est le moment de favoriser l’économie local dans une ambiance conviviale.
URL:https://www.chaudfontaine.be/evenement/marche-de-vaux-sous-chevremont/2029-07-27/
LOCATION:Place Foguenne\, Place Foguenne\, Chaudfontaine\, 4051\, Belgique
CATEGORIES:Marché
ATTACH;FMTTYPE=image/jpeg:https://www.chaudfontaine.be/wp-content/uploads/2026/01/Marche-vaux.jpg
ORGANIZER;CN="Commune de Chaudfontaine":MAILTO:commune@chaudfontaine.be
END:VEVENT
BEGIN:VEVENT
DTSTART;TZID=Europe/Brussels:20290801T113000
DTEND;TZID=Europe/Brussels:20290801T153000
DTSTAMP:20260422T072013
CREATED:20260128T104744Z
LAST-MODIFIED:20260128T104744Z
UID:10003716-1880278200-1880292600@www.chaudfontaine.be
SUMMARY:Food truck: Chicken chick
DESCRIPTION:Food truck de poulets rôtis\, spare ribs et ses assortiments. \nTous les mercredi de 11h00 à 15h30\, place Foguenne à Vaux-sous-Chèvremont
URL:https://www.chaudfontaine.be/evenement/food-truck-chicken-chick/2029-08-01/
LOCATION:Place Foguenne\, Place Foguenne\, Chaudfontaine\, 4051\, Belgique
CATEGORIES:Commerce,Marché
ATTACH;FMTTYPE=image/jpeg:https://www.chaudfontaine.be/wp-content/uploads/2024/09/ChickenChick.jpg
END:VEVENT
BEGIN:VEVENT
DTSTART;TZID=Europe/Brussels:20290803T080000
DTEND;TZID=Europe/Brussels:20290803T130000
DTSTAMP:20260422T072013
CREATED:20260115T092451Z
LAST-MODIFIED:20260115T092451Z
UID:10003451-1880438400-1880456400@www.chaudfontaine.be
SUMMARY:Marché de Vaux-sous-Chèvremont
DESCRIPTION:Tous les vendredis de 08h à 13h a lieu le marché de Vaux-sous-Chèvremont.\nVenez retrouver les producteurs locaux qui vous proposent des produits de qualité: fromages\, charcuteries\, pains\, pâtisseries\, fleurs\, plantes\, …\nC’est le moment de favoriser l’économie local dans une ambiance conviviale.
URL:https://www.chaudfontaine.be/evenement/marche-de-vaux-sous-chevremont/2029-08-03/
LOCATION:Place Foguenne\, Place Foguenne\, Chaudfontaine\, 4051\, Belgique
CATEGORIES:Marché
ATTACH;FMTTYPE=image/jpeg:https://www.chaudfontaine.be/wp-content/uploads/2026/01/Marche-vaux.jpg
ORGANIZER;CN="Commune de Chaudfontaine":MAILTO:commune@chaudfontaine.be
END:VEVENT
BEGIN:VEVENT
DTSTART;TZID=Europe/Brussels:20290808T113000
DTEND;TZID=Europe/Brussels:20290808T153000
DTSTAMP:20260422T072013
CREATED:20260128T104744Z
LAST-MODIFIED:20260128T104744Z
UID:10003717-1880883000-1880897400@www.chaudfontaine.be
SUMMARY:Food truck: Chicken chick
DESCRIPTION:Food truck de poulets rôtis\, spare ribs et ses assortiments. \nTous les mercredi de 11h00 à 15h30\, place Foguenne à Vaux-sous-Chèvremont
URL:https://www.chaudfontaine.be/evenement/food-truck-chicken-chick/2029-08-08/
LOCATION:Place Foguenne\, Place Foguenne\, Chaudfontaine\, 4051\, Belgique
CATEGORIES:Commerce,Marché
ATTACH;FMTTYPE=image/jpeg:https://www.chaudfontaine.be/wp-content/uploads/2024/09/ChickenChick.jpg
END:VEVENT
BEGIN:VEVENT
DTSTART;TZID=Europe/Brussels:20290810T080000
DTEND;TZID=Europe/Brussels:20290810T130000
DTSTAMP:20260422T072013
CREATED:20260115T092451Z
LAST-MODIFIED:20260115T092451Z
UID:10003452-1881043200-1881061200@www.chaudfontaine.be
SUMMARY:Marché de Vaux-sous-Chèvremont
DESCRIPTION:Tous les vendredis de 08h à 13h a lieu le marché de Vaux-sous-Chèvremont.\nVenez retrouver les producteurs locaux qui vous proposent des produits de qualité: fromages\, charcuteries\, pains\, pâtisseries\, fleurs\, plantes\, …\nC’est le moment de favoriser l’économie local dans une ambiance conviviale.
URL:https://www.chaudfontaine.be/evenement/marche-de-vaux-sous-chevremont/2029-08-10/
LOCATION:Place Foguenne\, Place Foguenne\, Chaudfontaine\, 4051\, Belgique
CATEGORIES:Marché
ATTACH;FMTTYPE=image/jpeg:https://www.chaudfontaine.be/wp-content/uploads/2026/01/Marche-vaux.jpg
ORGANIZER;CN="Commune de Chaudfontaine":MAILTO:commune@chaudfontaine.be
END:VEVENT
BEGIN:VEVENT
DTSTART;TZID=Europe/Brussels:20290815T113000
DTEND;TZID=Europe/Brussels:20290815T153000
DTSTAMP:20260422T072013
CREATED:20260128T104744Z
LAST-MODIFIED:20260128T104744Z
UID:10003718-1881487800-1881502200@www.chaudfontaine.be
SUMMARY:Food truck: Chicken chick
DESCRIPTION:Food truck de poulets rôtis\, spare ribs et ses assortiments. \nTous les mercredi de 11h00 à 15h30\, place Foguenne à Vaux-sous-Chèvremont
URL:https://www.chaudfontaine.be/evenement/food-truck-chicken-chick/2029-08-15/
LOCATION:Place Foguenne\, Place Foguenne\, Chaudfontaine\, 4051\, Belgique
CATEGORIES:Commerce,Marché
ATTACH;FMTTYPE=image/jpeg:https://www.chaudfontaine.be/wp-content/uploads/2024/09/ChickenChick.jpg
END:VEVENT
BEGIN:VEVENT
DTSTART;TZID=Europe/Brussels:20290817T080000
DTEND;TZID=Europe/Brussels:20290817T130000
DTSTAMP:20260422T072013
CREATED:20260115T092451Z
LAST-MODIFIED:20260115T092451Z
UID:10003453-1881648000-1881666000@www.chaudfontaine.be
SUMMARY:Marché de Vaux-sous-Chèvremont
DESCRIPTION:Tous les vendredis de 08h à 13h a lieu le marché de Vaux-sous-Chèvremont.\nVenez retrouver les producteurs locaux qui vous proposent des produits de qualité: fromages\, charcuteries\, pains\, pâtisseries\, fleurs\, plantes\, …\nC’est le moment de favoriser l’économie local dans une ambiance conviviale.
URL:https://www.chaudfontaine.be/evenement/marche-de-vaux-sous-chevremont/2029-08-17/
LOCATION:Place Foguenne\, Place Foguenne\, Chaudfontaine\, 4051\, Belgique
CATEGORIES:Marché
ATTACH;FMTTYPE=image/jpeg:https://www.chaudfontaine.be/wp-content/uploads/2026/01/Marche-vaux.jpg
ORGANIZER;CN="Commune de Chaudfontaine":MAILTO:commune@chaudfontaine.be
END:VEVENT
BEGIN:VEVENT
DTSTART;TZID=Europe/Brussels:20290822T113000
DTEND;TZID=Europe/Brussels:20290822T153000
DTSTAMP:20260422T072013
CREATED:20260128T104744Z
LAST-MODIFIED:20260128T104744Z
UID:10003719-1882092600-1882107000@www.chaudfontaine.be
SUMMARY:Food truck: Chicken chick
DESCRIPTION:Food truck de poulets rôtis\, spare ribs et ses assortiments. \nTous les mercredi de 11h00 à 15h30\, place Foguenne à Vaux-sous-Chèvremont
URL:https://www.chaudfontaine.be/evenement/food-truck-chicken-chick/2029-08-22/
LOCATION:Place Foguenne\, Place Foguenne\, Chaudfontaine\, 4051\, Belgique
CATEGORIES:Commerce,Marché
ATTACH;FMTTYPE=image/jpeg:https://www.chaudfontaine.be/wp-content/uploads/2024/09/ChickenChick.jpg
END:VEVENT
BEGIN:VEVENT
DTSTART;TZID=Europe/Brussels:20290824T080000
DTEND;TZID=Europe/Brussels:20290824T130000
DTSTAMP:20260422T072013
CREATED:20260115T092451Z
LAST-MODIFIED:20260115T092451Z
UID:10003454-1882252800-1882270800@www.chaudfontaine.be
SUMMARY:Marché de Vaux-sous-Chèvremont
DESCRIPTION:Tous les vendredis de 08h à 13h a lieu le marché de Vaux-sous-Chèvremont.\nVenez retrouver les producteurs locaux qui vous proposent des produits de qualité: fromages\, charcuteries\, pains\, pâtisseries\, fleurs\, plantes\, …\nC’est le moment de favoriser l’économie local dans une ambiance conviviale.
URL:https://www.chaudfontaine.be/evenement/marche-de-vaux-sous-chevremont/2029-08-24/
LOCATION:Place Foguenne\, Place Foguenne\, Chaudfontaine\, 4051\, Belgique
CATEGORIES:Marché
ATTACH;FMTTYPE=image/jpeg:https://www.chaudfontaine.be/wp-content/uploads/2026/01/Marche-vaux.jpg
ORGANIZER;CN="Commune de Chaudfontaine":MAILTO:commune@chaudfontaine.be
END:VEVENT
BEGIN:VEVENT
DTSTART;TZID=Europe/Brussels:20290829T113000
DTEND;TZID=Europe/Brussels:20290829T153000
DTSTAMP:20260422T072013
CREATED:20260128T104744Z
LAST-MODIFIED:20260128T104744Z
UID:10003720-1882697400-1882711800@www.chaudfontaine.be
SUMMARY:Food truck: Chicken chick
DESCRIPTION:Food truck de poulets rôtis\, spare ribs et ses assortiments. \nTous les mercredi de 11h00 à 15h30\, place Foguenne à Vaux-sous-Chèvremont
URL:https://www.chaudfontaine.be/evenement/food-truck-chicken-chick/2029-08-29/
LOCATION:Place Foguenne\, Place Foguenne\, Chaudfontaine\, 4051\, Belgique
CATEGORIES:Commerce,Marché
ATTACH;FMTTYPE=image/jpeg:https://www.chaudfontaine.be/wp-content/uploads/2024/09/ChickenChick.jpg
END:VEVENT
BEGIN:VEVENT
DTSTART;TZID=Europe/Brussels:20290831T080000
DTEND;TZID=Europe/Brussels:20290831T130000
DTSTAMP:20260422T072013
CREATED:20260115T092451Z
LAST-MODIFIED:20260115T092451Z
UID:10003455-1882857600-1882875600@www.chaudfontaine.be
SUMMARY:Marché de Vaux-sous-Chèvremont
DESCRIPTION:Tous les vendredis de 08h à 13h a lieu le marché de Vaux-sous-Chèvremont.\nVenez retrouver les producteurs locaux qui vous proposent des produits de qualité: fromages\, charcuteries\, pains\, pâtisseries\, fleurs\, plantes\, …\nC’est le moment de favoriser l’économie local dans une ambiance conviviale.
URL:https://www.chaudfontaine.be/evenement/marche-de-vaux-sous-chevremont/2029-08-31/
LOCATION:Place Foguenne\, Place Foguenne\, Chaudfontaine\, 4051\, Belgique
CATEGORIES:Marché
ATTACH;FMTTYPE=image/jpeg:https://www.chaudfontaine.be/wp-content/uploads/2026/01/Marche-vaux.jpg
ORGANIZER;CN="Commune de Chaudfontaine":MAILTO:commune@chaudfontaine.be
END:VEVENT
END:VCALENDAR