BEGIN:VCALENDAR
VERSION:2.0
PRODID:-//Commune de Chaudfontaine - ECPv6.15.20//NONSGML v1.0//EN
CALSCALE:GREGORIAN
METHOD:PUBLISH
X-WR-CALNAME:Commune de Chaudfontaine
X-ORIGINAL-URL:https://www.chaudfontaine.be
X-WR-CALDESC:Évènements pour Commune de Chaudfontaine
REFRESH-INTERVAL;VALUE=DURATION:PT1H
X-Robots-Tag:noindex
X-PUBLISHED-TTL:PT1H
BEGIN:VTIMEZONE
TZID:Europe/Brussels
BEGIN:DAYLIGHT
TZOFFSETFROM:+0100
TZOFFSETTO:+0200
TZNAME:CEST
DTSTART:20280326T010000
END:DAYLIGHT
BEGIN:STANDARD
TZOFFSETFROM:+0200
TZOFFSETTO:+0100
TZNAME:CET
DTSTART:20281029T010000
END:STANDARD
BEGIN:DAYLIGHT
TZOFFSETFROM:+0100
TZOFFSETTO:+0200
TZNAME:CEST
DTSTART:20290325T010000
END:DAYLIGHT
BEGIN:STANDARD
TZOFFSETFROM:+0200
TZOFFSETTO:+0100
TZNAME:CET
DTSTART:20291028T010000
END:STANDARD
BEGIN:DAYLIGHT
TZOFFSETFROM:+0100
TZOFFSETTO:+0200
TZNAME:CEST
DTSTART:20300331T010000
END:DAYLIGHT
BEGIN:STANDARD
TZOFFSETFROM:+0200
TZOFFSETTO:+0100
TZNAME:CET
DTSTART:20301027T010000
END:STANDARD
END:VTIMEZONE
BEGIN:VEVENT
DTSTART;TZID=Europe/Brussels:20290824T080000
DTEND;TZID=Europe/Brussels:20290824T130000
DTSTAMP:20260422T132504
CREATED:20260115T092451Z
LAST-MODIFIED:20260115T092451Z
UID:10003454-1882252800-1882270800@www.chaudfontaine.be
SUMMARY:Marché de Vaux-sous-Chèvremont
DESCRIPTION:Tous les vendredis de 08h à 13h a lieu le marché de Vaux-sous-Chèvremont.\nVenez retrouver les producteurs locaux qui vous proposent des produits de qualité: fromages\, charcuteries\, pains\, pâtisseries\, fleurs\, plantes\, …\nC’est le moment de favoriser l’économie local dans une ambiance conviviale.
URL:https://www.chaudfontaine.be/evenement/marche-de-vaux-sous-chevremont/2029-08-24/
LOCATION:Place Foguenne\, Place Foguenne\, Chaudfontaine\, 4051\, Belgique
CATEGORIES:Marché
ATTACH;FMTTYPE=image/jpeg:https://www.chaudfontaine.be/wp-content/uploads/2026/01/Marche-vaux.jpg
ORGANIZER;CN="Commune de Chaudfontaine":MAILTO:commune@chaudfontaine.be
END:VEVENT
BEGIN:VEVENT
DTSTART;TZID=Europe/Brussels:20290829T113000
DTEND;TZID=Europe/Brussels:20290829T153000
DTSTAMP:20260422T132504
CREATED:20260128T104744Z
LAST-MODIFIED:20260128T104744Z
UID:10003720-1882697400-1882711800@www.chaudfontaine.be
SUMMARY:Food truck: Chicken chick
DESCRIPTION:Food truck de poulets rôtis\, spare ribs et ses assortiments. \nTous les mercredi de 11h00 à 15h30\, place Foguenne à Vaux-sous-Chèvremont
URL:https://www.chaudfontaine.be/evenement/food-truck-chicken-chick/2029-08-29/
LOCATION:Place Foguenne\, Place Foguenne\, Chaudfontaine\, 4051\, Belgique
CATEGORIES:Commerce,Marché
ATTACH;FMTTYPE=image/jpeg:https://www.chaudfontaine.be/wp-content/uploads/2024/09/ChickenChick.jpg
END:VEVENT
BEGIN:VEVENT
DTSTART;TZID=Europe/Brussels:20290831T080000
DTEND;TZID=Europe/Brussels:20290831T130000
DTSTAMP:20260422T132504
CREATED:20260115T092451Z
LAST-MODIFIED:20260115T092451Z
UID:10003455-1882857600-1882875600@www.chaudfontaine.be
SUMMARY:Marché de Vaux-sous-Chèvremont
DESCRIPTION:Tous les vendredis de 08h à 13h a lieu le marché de Vaux-sous-Chèvremont.\nVenez retrouver les producteurs locaux qui vous proposent des produits de qualité: fromages\, charcuteries\, pains\, pâtisseries\, fleurs\, plantes\, …\nC’est le moment de favoriser l’économie local dans une ambiance conviviale.
URL:https://www.chaudfontaine.be/evenement/marche-de-vaux-sous-chevremont/2029-08-31/
LOCATION:Place Foguenne\, Place Foguenne\, Chaudfontaine\, 4051\, Belgique
CATEGORIES:Marché
ATTACH;FMTTYPE=image/jpeg:https://www.chaudfontaine.be/wp-content/uploads/2026/01/Marche-vaux.jpg
ORGANIZER;CN="Commune de Chaudfontaine":MAILTO:commune@chaudfontaine.be
END:VEVENT
BEGIN:VEVENT
DTSTART;TZID=Europe/Brussels:20290905T113000
DTEND;TZID=Europe/Brussels:20290905T153000
DTSTAMP:20260422T132504
CREATED:20260128T104744Z
LAST-MODIFIED:20260128T104744Z
UID:10003721-1883302200-1883316600@www.chaudfontaine.be
SUMMARY:Food truck: Chicken chick
DESCRIPTION:Food truck de poulets rôtis\, spare ribs et ses assortiments. \nTous les mercredi de 11h00 à 15h30\, place Foguenne à Vaux-sous-Chèvremont
URL:https://www.chaudfontaine.be/evenement/food-truck-chicken-chick/2029-09-05/
LOCATION:Place Foguenne\, Place Foguenne\, Chaudfontaine\, 4051\, Belgique
CATEGORIES:Commerce,Marché
ATTACH;FMTTYPE=image/jpeg:https://www.chaudfontaine.be/wp-content/uploads/2024/09/ChickenChick.jpg
END:VEVENT
BEGIN:VEVENT
DTSTART;TZID=Europe/Brussels:20290907T080000
DTEND;TZID=Europe/Brussels:20290907T130000
DTSTAMP:20260422T132504
CREATED:20260115T092451Z
LAST-MODIFIED:20260115T092451Z
UID:10003456-1883462400-1883480400@www.chaudfontaine.be
SUMMARY:Marché de Vaux-sous-Chèvremont
DESCRIPTION:Tous les vendredis de 08h à 13h a lieu le marché de Vaux-sous-Chèvremont.\nVenez retrouver les producteurs locaux qui vous proposent des produits de qualité: fromages\, charcuteries\, pains\, pâtisseries\, fleurs\, plantes\, …\nC’est le moment de favoriser l’économie local dans une ambiance conviviale.
URL:https://www.chaudfontaine.be/evenement/marche-de-vaux-sous-chevremont/2029-09-07/
LOCATION:Place Foguenne\, Place Foguenne\, Chaudfontaine\, 4051\, Belgique
CATEGORIES:Marché
ATTACH;FMTTYPE=image/jpeg:https://www.chaudfontaine.be/wp-content/uploads/2026/01/Marche-vaux.jpg
ORGANIZER;CN="Commune de Chaudfontaine":MAILTO:commune@chaudfontaine.be
END:VEVENT
BEGIN:VEVENT
DTSTART;TZID=Europe/Brussels:20290912T113000
DTEND;TZID=Europe/Brussels:20290912T153000
DTSTAMP:20260422T132504
CREATED:20260128T104744Z
LAST-MODIFIED:20260128T104744Z
UID:10003722-1883907000-1883921400@www.chaudfontaine.be
SUMMARY:Food truck: Chicken chick
DESCRIPTION:Food truck de poulets rôtis\, spare ribs et ses assortiments. \nTous les mercredi de 11h00 à 15h30\, place Foguenne à Vaux-sous-Chèvremont
URL:https://www.chaudfontaine.be/evenement/food-truck-chicken-chick/2029-09-12/
LOCATION:Place Foguenne\, Place Foguenne\, Chaudfontaine\, 4051\, Belgique
CATEGORIES:Commerce,Marché
ATTACH;FMTTYPE=image/jpeg:https://www.chaudfontaine.be/wp-content/uploads/2024/09/ChickenChick.jpg
END:VEVENT
BEGIN:VEVENT
DTSTART;TZID=Europe/Brussels:20290914T080000
DTEND;TZID=Europe/Brussels:20290914T130000
DTSTAMP:20260422T132504
CREATED:20260115T092451Z
LAST-MODIFIED:20260115T092451Z
UID:10003457-1884067200-1884085200@www.chaudfontaine.be
SUMMARY:Marché de Vaux-sous-Chèvremont
DESCRIPTION:Tous les vendredis de 08h à 13h a lieu le marché de Vaux-sous-Chèvremont.\nVenez retrouver les producteurs locaux qui vous proposent des produits de qualité: fromages\, charcuteries\, pains\, pâtisseries\, fleurs\, plantes\, …\nC’est le moment de favoriser l’économie local dans une ambiance conviviale.
URL:https://www.chaudfontaine.be/evenement/marche-de-vaux-sous-chevremont/2029-09-14/
LOCATION:Place Foguenne\, Place Foguenne\, Chaudfontaine\, 4051\, Belgique
CATEGORIES:Marché
ATTACH;FMTTYPE=image/jpeg:https://www.chaudfontaine.be/wp-content/uploads/2026/01/Marche-vaux.jpg
ORGANIZER;CN="Commune de Chaudfontaine":MAILTO:commune@chaudfontaine.be
END:VEVENT
BEGIN:VEVENT
DTSTART;TZID=Europe/Brussels:20290919T113000
DTEND;TZID=Europe/Brussels:20290919T153000
DTSTAMP:20260422T132504
CREATED:20260128T104744Z
LAST-MODIFIED:20260128T104744Z
UID:10003723-1884511800-1884526200@www.chaudfontaine.be
SUMMARY:Food truck: Chicken chick
DESCRIPTION:Food truck de poulets rôtis\, spare ribs et ses assortiments. \nTous les mercredi de 11h00 à 15h30\, place Foguenne à Vaux-sous-Chèvremont
URL:https://www.chaudfontaine.be/evenement/food-truck-chicken-chick/2029-09-19/
LOCATION:Place Foguenne\, Place Foguenne\, Chaudfontaine\, 4051\, Belgique
CATEGORIES:Commerce,Marché
ATTACH;FMTTYPE=image/jpeg:https://www.chaudfontaine.be/wp-content/uploads/2024/09/ChickenChick.jpg
END:VEVENT
BEGIN:VEVENT
DTSTART;TZID=Europe/Brussels:20290921T080000
DTEND;TZID=Europe/Brussels:20290921T130000
DTSTAMP:20260422T132504
CREATED:20260115T092451Z
LAST-MODIFIED:20260115T092451Z
UID:10003458-1884672000-1884690000@www.chaudfontaine.be
SUMMARY:Marché de Vaux-sous-Chèvremont
DESCRIPTION:Tous les vendredis de 08h à 13h a lieu le marché de Vaux-sous-Chèvremont.\nVenez retrouver les producteurs locaux qui vous proposent des produits de qualité: fromages\, charcuteries\, pains\, pâtisseries\, fleurs\, plantes\, …\nC’est le moment de favoriser l’économie local dans une ambiance conviviale.
URL:https://www.chaudfontaine.be/evenement/marche-de-vaux-sous-chevremont/2029-09-21/
LOCATION:Place Foguenne\, Place Foguenne\, Chaudfontaine\, 4051\, Belgique
CATEGORIES:Marché
ATTACH;FMTTYPE=image/jpeg:https://www.chaudfontaine.be/wp-content/uploads/2026/01/Marche-vaux.jpg
ORGANIZER;CN="Commune de Chaudfontaine":MAILTO:commune@chaudfontaine.be
END:VEVENT
BEGIN:VEVENT
DTSTART;TZID=Europe/Brussels:20290926T113000
DTEND;TZID=Europe/Brussels:20290926T153000
DTSTAMP:20260422T132504
CREATED:20260128T104744Z
LAST-MODIFIED:20260128T104744Z
UID:10003724-1885116600-1885131000@www.chaudfontaine.be
SUMMARY:Food truck: Chicken chick
DESCRIPTION:Food truck de poulets rôtis\, spare ribs et ses assortiments. \nTous les mercredi de 11h00 à 15h30\, place Foguenne à Vaux-sous-Chèvremont
URL:https://www.chaudfontaine.be/evenement/food-truck-chicken-chick/2029-09-26/
LOCATION:Place Foguenne\, Place Foguenne\, Chaudfontaine\, 4051\, Belgique
CATEGORIES:Commerce,Marché
ATTACH;FMTTYPE=image/jpeg:https://www.chaudfontaine.be/wp-content/uploads/2024/09/ChickenChick.jpg
END:VEVENT
BEGIN:VEVENT
DTSTART;TZID=Europe/Brussels:20290928T080000
DTEND;TZID=Europe/Brussels:20290928T130000
DTSTAMP:20260422T132504
CREATED:20260115T092451Z
LAST-MODIFIED:20260115T092451Z
UID:10003459-1885276800-1885294800@www.chaudfontaine.be
SUMMARY:Marché de Vaux-sous-Chèvremont
DESCRIPTION:Tous les vendredis de 08h à 13h a lieu le marché de Vaux-sous-Chèvremont.\nVenez retrouver les producteurs locaux qui vous proposent des produits de qualité: fromages\, charcuteries\, pains\, pâtisseries\, fleurs\, plantes\, …\nC’est le moment de favoriser l’économie local dans une ambiance conviviale.
URL:https://www.chaudfontaine.be/evenement/marche-de-vaux-sous-chevremont/2029-09-28/
LOCATION:Place Foguenne\, Place Foguenne\, Chaudfontaine\, 4051\, Belgique
CATEGORIES:Marché
ATTACH;FMTTYPE=image/jpeg:https://www.chaudfontaine.be/wp-content/uploads/2026/01/Marche-vaux.jpg
ORGANIZER;CN="Commune de Chaudfontaine":MAILTO:commune@chaudfontaine.be
END:VEVENT
BEGIN:VEVENT
DTSTART;TZID=Europe/Brussels:20291003T113000
DTEND;TZID=Europe/Brussels:20291003T153000
DTSTAMP:20260422T132504
CREATED:20260128T104744Z
LAST-MODIFIED:20260128T104744Z
UID:10003725-1885721400-1885735800@www.chaudfontaine.be
SUMMARY:Food truck: Chicken chick
DESCRIPTION:Food truck de poulets rôtis\, spare ribs et ses assortiments. \nTous les mercredi de 11h00 à 15h30\, place Foguenne à Vaux-sous-Chèvremont
URL:https://www.chaudfontaine.be/evenement/food-truck-chicken-chick/2029-10-03/
LOCATION:Place Foguenne\, Place Foguenne\, Chaudfontaine\, 4051\, Belgique
CATEGORIES:Commerce,Marché
ATTACH;FMTTYPE=image/jpeg:https://www.chaudfontaine.be/wp-content/uploads/2024/09/ChickenChick.jpg
END:VEVENT
BEGIN:VEVENT
DTSTART;TZID=Europe/Brussels:20291005T080000
DTEND;TZID=Europe/Brussels:20291005T130000
DTSTAMP:20260422T132504
CREATED:20260115T092451Z
LAST-MODIFIED:20260115T092451Z
UID:10003460-1885881600-1885899600@www.chaudfontaine.be
SUMMARY:Marché de Vaux-sous-Chèvremont
DESCRIPTION:Tous les vendredis de 08h à 13h a lieu le marché de Vaux-sous-Chèvremont.\nVenez retrouver les producteurs locaux qui vous proposent des produits de qualité: fromages\, charcuteries\, pains\, pâtisseries\, fleurs\, plantes\, …\nC’est le moment de favoriser l’économie local dans une ambiance conviviale.
URL:https://www.chaudfontaine.be/evenement/marche-de-vaux-sous-chevremont/2029-10-05/
LOCATION:Place Foguenne\, Place Foguenne\, Chaudfontaine\, 4051\, Belgique
CATEGORIES:Marché
ATTACH;FMTTYPE=image/jpeg:https://www.chaudfontaine.be/wp-content/uploads/2026/01/Marche-vaux.jpg
ORGANIZER;CN="Commune de Chaudfontaine":MAILTO:commune@chaudfontaine.be
END:VEVENT
BEGIN:VEVENT
DTSTART;TZID=Europe/Brussels:20291010T113000
DTEND;TZID=Europe/Brussels:20291010T153000
DTSTAMP:20260422T132504
CREATED:20260128T104744Z
LAST-MODIFIED:20260128T104744Z
UID:10003726-1886326200-1886340600@www.chaudfontaine.be
SUMMARY:Food truck: Chicken chick
DESCRIPTION:Food truck de poulets rôtis\, spare ribs et ses assortiments. \nTous les mercredi de 11h00 à 15h30\, place Foguenne à Vaux-sous-Chèvremont
URL:https://www.chaudfontaine.be/evenement/food-truck-chicken-chick/2029-10-10/
LOCATION:Place Foguenne\, Place Foguenne\, Chaudfontaine\, 4051\, Belgique
CATEGORIES:Commerce,Marché
ATTACH;FMTTYPE=image/jpeg:https://www.chaudfontaine.be/wp-content/uploads/2024/09/ChickenChick.jpg
END:VEVENT
BEGIN:VEVENT
DTSTART;TZID=Europe/Brussels:20291012T080000
DTEND;TZID=Europe/Brussels:20291012T130000
DTSTAMP:20260422T132504
CREATED:20260115T092451Z
LAST-MODIFIED:20260115T092451Z
UID:10003461-1886486400-1886504400@www.chaudfontaine.be
SUMMARY:Marché de Vaux-sous-Chèvremont
DESCRIPTION:Tous les vendredis de 08h à 13h a lieu le marché de Vaux-sous-Chèvremont.\nVenez retrouver les producteurs locaux qui vous proposent des produits de qualité: fromages\, charcuteries\, pains\, pâtisseries\, fleurs\, plantes\, …\nC’est le moment de favoriser l’économie local dans une ambiance conviviale.
URL:https://www.chaudfontaine.be/evenement/marche-de-vaux-sous-chevremont/2029-10-12/
LOCATION:Place Foguenne\, Place Foguenne\, Chaudfontaine\, 4051\, Belgique
CATEGORIES:Marché
ATTACH;FMTTYPE=image/jpeg:https://www.chaudfontaine.be/wp-content/uploads/2026/01/Marche-vaux.jpg
ORGANIZER;CN="Commune de Chaudfontaine":MAILTO:commune@chaudfontaine.be
END:VEVENT
BEGIN:VEVENT
DTSTART;TZID=Europe/Brussels:20291017T113000
DTEND;TZID=Europe/Brussels:20291017T153000
DTSTAMP:20260422T132504
CREATED:20260128T104744Z
LAST-MODIFIED:20260128T104744Z
UID:10003727-1886931000-1886945400@www.chaudfontaine.be
SUMMARY:Food truck: Chicken chick
DESCRIPTION:Food truck de poulets rôtis\, spare ribs et ses assortiments. \nTous les mercredi de 11h00 à 15h30\, place Foguenne à Vaux-sous-Chèvremont
URL:https://www.chaudfontaine.be/evenement/food-truck-chicken-chick/2029-10-17/
LOCATION:Place Foguenne\, Place Foguenne\, Chaudfontaine\, 4051\, Belgique
CATEGORIES:Commerce,Marché
ATTACH;FMTTYPE=image/jpeg:https://www.chaudfontaine.be/wp-content/uploads/2024/09/ChickenChick.jpg
END:VEVENT
BEGIN:VEVENT
DTSTART;TZID=Europe/Brussels:20291019T080000
DTEND;TZID=Europe/Brussels:20291019T130000
DTSTAMP:20260422T132504
CREATED:20260115T092451Z
LAST-MODIFIED:20260115T092451Z
UID:10003462-1887091200-1887109200@www.chaudfontaine.be
SUMMARY:Marché de Vaux-sous-Chèvremont
DESCRIPTION:Tous les vendredis de 08h à 13h a lieu le marché de Vaux-sous-Chèvremont.\nVenez retrouver les producteurs locaux qui vous proposent des produits de qualité: fromages\, charcuteries\, pains\, pâtisseries\, fleurs\, plantes\, …\nC’est le moment de favoriser l’économie local dans une ambiance conviviale.
URL:https://www.chaudfontaine.be/evenement/marche-de-vaux-sous-chevremont/2029-10-19/
LOCATION:Place Foguenne\, Place Foguenne\, Chaudfontaine\, 4051\, Belgique
CATEGORIES:Marché
ATTACH;FMTTYPE=image/jpeg:https://www.chaudfontaine.be/wp-content/uploads/2026/01/Marche-vaux.jpg
ORGANIZER;CN="Commune de Chaudfontaine":MAILTO:commune@chaudfontaine.be
END:VEVENT
BEGIN:VEVENT
DTSTART;TZID=Europe/Brussels:20291024T113000
DTEND;TZID=Europe/Brussels:20291024T153000
DTSTAMP:20260422T132504
CREATED:20260128T104744Z
LAST-MODIFIED:20260128T104744Z
UID:10003728-1887535800-1887550200@www.chaudfontaine.be
SUMMARY:Food truck: Chicken chick
DESCRIPTION:Food truck de poulets rôtis\, spare ribs et ses assortiments. \nTous les mercredi de 11h00 à 15h30\, place Foguenne à Vaux-sous-Chèvremont
URL:https://www.chaudfontaine.be/evenement/food-truck-chicken-chick/2029-10-24/
LOCATION:Place Foguenne\, Place Foguenne\, Chaudfontaine\, 4051\, Belgique
CATEGORIES:Commerce,Marché
ATTACH;FMTTYPE=image/jpeg:https://www.chaudfontaine.be/wp-content/uploads/2024/09/ChickenChick.jpg
END:VEVENT
BEGIN:VEVENT
DTSTART;TZID=Europe/Brussels:20291026T080000
DTEND;TZID=Europe/Brussels:20291026T130000
DTSTAMP:20260422T132504
CREATED:20260115T092451Z
LAST-MODIFIED:20260115T092451Z
UID:10003463-1887696000-1887714000@www.chaudfontaine.be
SUMMARY:Marché de Vaux-sous-Chèvremont
DESCRIPTION:Tous les vendredis de 08h à 13h a lieu le marché de Vaux-sous-Chèvremont.\nVenez retrouver les producteurs locaux qui vous proposent des produits de qualité: fromages\, charcuteries\, pains\, pâtisseries\, fleurs\, plantes\, …\nC’est le moment de favoriser l’économie local dans une ambiance conviviale.
URL:https://www.chaudfontaine.be/evenement/marche-de-vaux-sous-chevremont/2029-10-26/
LOCATION:Place Foguenne\, Place Foguenne\, Chaudfontaine\, 4051\, Belgique
CATEGORIES:Marché
ATTACH;FMTTYPE=image/jpeg:https://www.chaudfontaine.be/wp-content/uploads/2026/01/Marche-vaux.jpg
ORGANIZER;CN="Commune de Chaudfontaine":MAILTO:commune@chaudfontaine.be
END:VEVENT
BEGIN:VEVENT
DTSTART;TZID=Europe/Brussels:20291031T113000
DTEND;TZID=Europe/Brussels:20291031T153000
DTSTAMP:20260422T132504
CREATED:20260128T104744Z
LAST-MODIFIED:20260128T104744Z
UID:10003729-1888140600-1888155000@www.chaudfontaine.be
SUMMARY:Food truck: Chicken chick
DESCRIPTION:Food truck de poulets rôtis\, spare ribs et ses assortiments. \nTous les mercredi de 11h00 à 15h30\, place Foguenne à Vaux-sous-Chèvremont
URL:https://www.chaudfontaine.be/evenement/food-truck-chicken-chick/2029-10-31/
LOCATION:Place Foguenne\, Place Foguenne\, Chaudfontaine\, 4051\, Belgique
CATEGORIES:Commerce,Marché
ATTACH;FMTTYPE=image/jpeg:https://www.chaudfontaine.be/wp-content/uploads/2024/09/ChickenChick.jpg
END:VEVENT
BEGIN:VEVENT
DTSTART;TZID=Europe/Brussels:20291102T080000
DTEND;TZID=Europe/Brussels:20291102T130000
DTSTAMP:20260422T132504
CREATED:20260115T092451Z
LAST-MODIFIED:20260115T092451Z
UID:10003464-1888300800-1888318800@www.chaudfontaine.be
SUMMARY:Marché de Vaux-sous-Chèvremont
DESCRIPTION:Tous les vendredis de 08h à 13h a lieu le marché de Vaux-sous-Chèvremont.\nVenez retrouver les producteurs locaux qui vous proposent des produits de qualité: fromages\, charcuteries\, pains\, pâtisseries\, fleurs\, plantes\, …\nC’est le moment de favoriser l’économie local dans une ambiance conviviale.
URL:https://www.chaudfontaine.be/evenement/marche-de-vaux-sous-chevremont/2029-11-02/
LOCATION:Place Foguenne\, Place Foguenne\, Chaudfontaine\, 4051\, Belgique
CATEGORIES:Marché
ATTACH;FMTTYPE=image/jpeg:https://www.chaudfontaine.be/wp-content/uploads/2026/01/Marche-vaux.jpg
ORGANIZER;CN="Commune de Chaudfontaine":MAILTO:commune@chaudfontaine.be
END:VEVENT
BEGIN:VEVENT
DTSTART;TZID=Europe/Brussels:20291107T113000
DTEND;TZID=Europe/Brussels:20291107T153000
DTSTAMP:20260422T132504
CREATED:20260128T104744Z
LAST-MODIFIED:20260128T104744Z
UID:10003730-1888745400-1888759800@www.chaudfontaine.be
SUMMARY:Food truck: Chicken chick
DESCRIPTION:Food truck de poulets rôtis\, spare ribs et ses assortiments. \nTous les mercredi de 11h00 à 15h30\, place Foguenne à Vaux-sous-Chèvremont
URL:https://www.chaudfontaine.be/evenement/food-truck-chicken-chick/2029-11-07/
LOCATION:Place Foguenne\, Place Foguenne\, Chaudfontaine\, 4051\, Belgique
CATEGORIES:Commerce,Marché
ATTACH;FMTTYPE=image/jpeg:https://www.chaudfontaine.be/wp-content/uploads/2024/09/ChickenChick.jpg
END:VEVENT
BEGIN:VEVENT
DTSTART;TZID=Europe/Brussels:20291109T080000
DTEND;TZID=Europe/Brussels:20291109T130000
DTSTAMP:20260422T132504
CREATED:20260115T092451Z
LAST-MODIFIED:20260115T092451Z
UID:10003465-1888905600-1888923600@www.chaudfontaine.be
SUMMARY:Marché de Vaux-sous-Chèvremont
DESCRIPTION:Tous les vendredis de 08h à 13h a lieu le marché de Vaux-sous-Chèvremont.\nVenez retrouver les producteurs locaux qui vous proposent des produits de qualité: fromages\, charcuteries\, pains\, pâtisseries\, fleurs\, plantes\, …\nC’est le moment de favoriser l’économie local dans une ambiance conviviale.
URL:https://www.chaudfontaine.be/evenement/marche-de-vaux-sous-chevremont/2029-11-09/
LOCATION:Place Foguenne\, Place Foguenne\, Chaudfontaine\, 4051\, Belgique
CATEGORIES:Marché
ATTACH;FMTTYPE=image/jpeg:https://www.chaudfontaine.be/wp-content/uploads/2026/01/Marche-vaux.jpg
ORGANIZER;CN="Commune de Chaudfontaine":MAILTO:commune@chaudfontaine.be
END:VEVENT
BEGIN:VEVENT
DTSTART;TZID=Europe/Brussels:20291114T113000
DTEND;TZID=Europe/Brussels:20291114T153000
DTSTAMP:20260422T132504
CREATED:20260128T104744Z
LAST-MODIFIED:20260128T104744Z
UID:10003731-1889350200-1889364600@www.chaudfontaine.be
SUMMARY:Food truck: Chicken chick
DESCRIPTION:Food truck de poulets rôtis\, spare ribs et ses assortiments. \nTous les mercredi de 11h00 à 15h30\, place Foguenne à Vaux-sous-Chèvremont
URL:https://www.chaudfontaine.be/evenement/food-truck-chicken-chick/2029-11-14/
LOCATION:Place Foguenne\, Place Foguenne\, Chaudfontaine\, 4051\, Belgique
CATEGORIES:Commerce,Marché
ATTACH;FMTTYPE=image/jpeg:https://www.chaudfontaine.be/wp-content/uploads/2024/09/ChickenChick.jpg
END:VEVENT
BEGIN:VEVENT
DTSTART;TZID=Europe/Brussels:20291116T080000
DTEND;TZID=Europe/Brussels:20291116T130000
DTSTAMP:20260422T132504
CREATED:20260115T092451Z
LAST-MODIFIED:20260115T092451Z
UID:10003466-1889510400-1889528400@www.chaudfontaine.be
SUMMARY:Marché de Vaux-sous-Chèvremont
DESCRIPTION:Tous les vendredis de 08h à 13h a lieu le marché de Vaux-sous-Chèvremont.\nVenez retrouver les producteurs locaux qui vous proposent des produits de qualité: fromages\, charcuteries\, pains\, pâtisseries\, fleurs\, plantes\, …\nC’est le moment de favoriser l’économie local dans une ambiance conviviale.
URL:https://www.chaudfontaine.be/evenement/marche-de-vaux-sous-chevremont/2029-11-16/
LOCATION:Place Foguenne\, Place Foguenne\, Chaudfontaine\, 4051\, Belgique
CATEGORIES:Marché
ATTACH;FMTTYPE=image/jpeg:https://www.chaudfontaine.be/wp-content/uploads/2026/01/Marche-vaux.jpg
ORGANIZER;CN="Commune de Chaudfontaine":MAILTO:commune@chaudfontaine.be
END:VEVENT
BEGIN:VEVENT
DTSTART;TZID=Europe/Brussels:20291121T113000
DTEND;TZID=Europe/Brussels:20291121T153000
DTSTAMP:20260422T132504
CREATED:20260128T104744Z
LAST-MODIFIED:20260128T104744Z
UID:10003732-1889955000-1889969400@www.chaudfontaine.be
SUMMARY:Food truck: Chicken chick
DESCRIPTION:Food truck de poulets rôtis\, spare ribs et ses assortiments. \nTous les mercredi de 11h00 à 15h30\, place Foguenne à Vaux-sous-Chèvremont
URL:https://www.chaudfontaine.be/evenement/food-truck-chicken-chick/2029-11-21/
LOCATION:Place Foguenne\, Place Foguenne\, Chaudfontaine\, 4051\, Belgique
CATEGORIES:Commerce,Marché
ATTACH;FMTTYPE=image/jpeg:https://www.chaudfontaine.be/wp-content/uploads/2024/09/ChickenChick.jpg
END:VEVENT
BEGIN:VEVENT
DTSTART;TZID=Europe/Brussels:20291123T080000
DTEND;TZID=Europe/Brussels:20291123T130000
DTSTAMP:20260422T132504
CREATED:20260115T092451Z
LAST-MODIFIED:20260115T092451Z
UID:10003467-1890115200-1890133200@www.chaudfontaine.be
SUMMARY:Marché de Vaux-sous-Chèvremont
DESCRIPTION:Tous les vendredis de 08h à 13h a lieu le marché de Vaux-sous-Chèvremont.\nVenez retrouver les producteurs locaux qui vous proposent des produits de qualité: fromages\, charcuteries\, pains\, pâtisseries\, fleurs\, plantes\, …\nC’est le moment de favoriser l’économie local dans une ambiance conviviale.
URL:https://www.chaudfontaine.be/evenement/marche-de-vaux-sous-chevremont/2029-11-23/
LOCATION:Place Foguenne\, Place Foguenne\, Chaudfontaine\, 4051\, Belgique
CATEGORIES:Marché
ATTACH;FMTTYPE=image/jpeg:https://www.chaudfontaine.be/wp-content/uploads/2026/01/Marche-vaux.jpg
ORGANIZER;CN="Commune de Chaudfontaine":MAILTO:commune@chaudfontaine.be
END:VEVENT
BEGIN:VEVENT
DTSTART;TZID=Europe/Brussels:20291128T113000
DTEND;TZID=Europe/Brussels:20291128T153000
DTSTAMP:20260422T132504
CREATED:20260128T104744Z
LAST-MODIFIED:20260128T104744Z
UID:10003733-1890559800-1890574200@www.chaudfontaine.be
SUMMARY:Food truck: Chicken chick
DESCRIPTION:Food truck de poulets rôtis\, spare ribs et ses assortiments. \nTous les mercredi de 11h00 à 15h30\, place Foguenne à Vaux-sous-Chèvremont
URL:https://www.chaudfontaine.be/evenement/food-truck-chicken-chick/2029-11-28/
LOCATION:Place Foguenne\, Place Foguenne\, Chaudfontaine\, 4051\, Belgique
CATEGORIES:Commerce,Marché
ATTACH;FMTTYPE=image/jpeg:https://www.chaudfontaine.be/wp-content/uploads/2024/09/ChickenChick.jpg
END:VEVENT
BEGIN:VEVENT
DTSTART;TZID=Europe/Brussels:20291130T080000
DTEND;TZID=Europe/Brussels:20291130T130000
DTSTAMP:20260422T132504
CREATED:20260115T092451Z
LAST-MODIFIED:20260115T092451Z
UID:10003468-1890720000-1890738000@www.chaudfontaine.be
SUMMARY:Marché de Vaux-sous-Chèvremont
DESCRIPTION:Tous les vendredis de 08h à 13h a lieu le marché de Vaux-sous-Chèvremont.\nVenez retrouver les producteurs locaux qui vous proposent des produits de qualité: fromages\, charcuteries\, pains\, pâtisseries\, fleurs\, plantes\, …\nC’est le moment de favoriser l’économie local dans une ambiance conviviale.
URL:https://www.chaudfontaine.be/evenement/marche-de-vaux-sous-chevremont/2029-11-30/
LOCATION:Place Foguenne\, Place Foguenne\, Chaudfontaine\, 4051\, Belgique
CATEGORIES:Marché
ATTACH;FMTTYPE=image/jpeg:https://www.chaudfontaine.be/wp-content/uploads/2026/01/Marche-vaux.jpg
ORGANIZER;CN="Commune de Chaudfontaine":MAILTO:commune@chaudfontaine.be
END:VEVENT
BEGIN:VEVENT
DTSTART;TZID=Europe/Brussels:20291205T113000
DTEND;TZID=Europe/Brussels:20291205T153000
DTSTAMP:20260422T132504
CREATED:20260128T104744Z
LAST-MODIFIED:20260128T104744Z
UID:10003734-1891164600-1891179000@www.chaudfontaine.be
SUMMARY:Food truck: Chicken chick
DESCRIPTION:Food truck de poulets rôtis\, spare ribs et ses assortiments. \nTous les mercredi de 11h00 à 15h30\, place Foguenne à Vaux-sous-Chèvremont
URL:https://www.chaudfontaine.be/evenement/food-truck-chicken-chick/2029-12-05/
LOCATION:Place Foguenne\, Place Foguenne\, Chaudfontaine\, 4051\, Belgique
CATEGORIES:Commerce,Marché
ATTACH;FMTTYPE=image/jpeg:https://www.chaudfontaine.be/wp-content/uploads/2024/09/ChickenChick.jpg
END:VEVENT
END:VCALENDAR