BEGIN:VCALENDAR
VERSION:2.0
PRODID:-//Commune de Chaudfontaine - ECPv6.15.20//NONSGML v1.0//EN
CALSCALE:GREGORIAN
METHOD:PUBLISH
X-WR-CALNAME:Commune de Chaudfontaine
X-ORIGINAL-URL:https://www.chaudfontaine.be
X-WR-CALDESC:Évènements pour Commune de Chaudfontaine
REFRESH-INTERVAL;VALUE=DURATION:PT1H
X-Robots-Tag:noindex
X-PUBLISHED-TTL:PT1H
BEGIN:VTIMEZONE
TZID:Europe/Brussels
BEGIN:DAYLIGHT
TZOFFSETFROM:+0100
TZOFFSETTO:+0200
TZNAME:CEST
DTSTART:20300331T010000
END:DAYLIGHT
BEGIN:STANDARD
TZOFFSETFROM:+0200
TZOFFSETTO:+0100
TZNAME:CET
DTSTART:20301027T010000
END:STANDARD
BEGIN:DAYLIGHT
TZOFFSETFROM:+0100
TZOFFSETTO:+0200
TZNAME:CEST
DTSTART:20310330T010000
END:DAYLIGHT
BEGIN:STANDARD
TZOFFSETFROM:+0200
TZOFFSETTO:+0100
TZNAME:CET
DTSTART:20311026T010000
END:STANDARD
BEGIN:DAYLIGHT
TZOFFSETFROM:+0100
TZOFFSETTO:+0200
TZNAME:CEST
DTSTART:20320328T010000
END:DAYLIGHT
BEGIN:STANDARD
TZOFFSETFROM:+0200
TZOFFSETTO:+0100
TZNAME:CET
DTSTART:20321031T010000
END:STANDARD
END:VTIMEZONE
BEGIN:VEVENT
DTSTART;TZID=Europe/Brussels:20310115T113000
DTEND;TZID=Europe/Brussels:20310115T153000
DTSTAMP:20260423T121804
CREATED:20260128T104744Z
LAST-MODIFIED:20260128T104744Z
UID:10003792-1926243000-1926257400@www.chaudfontaine.be
SUMMARY:Food truck: Chicken chick
DESCRIPTION:Food truck de poulets rôtis\, spare ribs et ses assortiments. \nTous les mercredi de 11h00 à 15h30\, place Foguenne à Vaux-sous-Chèvremont
URL:https://www.chaudfontaine.be/evenement/food-truck-chicken-chick/2031-01-15/
LOCATION:Place Foguenne\, Place Foguenne\, Chaudfontaine\, 4051\, Belgique
CATEGORIES:Commerce,Marché
ATTACH;FMTTYPE=image/jpeg:https://www.chaudfontaine.be/wp-content/uploads/2024/09/ChickenChick.jpg
END:VEVENT
BEGIN:VEVENT
DTSTART;TZID=Europe/Brussels:20310122T113000
DTEND;TZID=Europe/Brussels:20310122T153000
DTSTAMP:20260423T121804
CREATED:20260128T104744Z
LAST-MODIFIED:20260128T104744Z
UID:10003793-1926847800-1926862200@www.chaudfontaine.be
SUMMARY:Food truck: Chicken chick
DESCRIPTION:Food truck de poulets rôtis\, spare ribs et ses assortiments. \nTous les mercredi de 11h00 à 15h30\, place Foguenne à Vaux-sous-Chèvremont
URL:https://www.chaudfontaine.be/evenement/food-truck-chicken-chick/2031-01-22/
LOCATION:Place Foguenne\, Place Foguenne\, Chaudfontaine\, 4051\, Belgique
CATEGORIES:Commerce,Marché
ATTACH;FMTTYPE=image/jpeg:https://www.chaudfontaine.be/wp-content/uploads/2024/09/ChickenChick.jpg
END:VEVENT
END:VCALENDAR