BEGIN:VCALENDAR
VERSION:2.0
PRODID:-//Commune de Chaudfontaine - ECPv6.15.20//NONSGML v1.0//EN
CALSCALE:GREGORIAN
METHOD:PUBLISH
X-ORIGINAL-URL:https://www.chaudfontaine.be
X-WR-CALDESC:Évènements pour Commune de Chaudfontaine
REFRESH-INTERVAL;VALUE=DURATION:PT1H
X-Robots-Tag:noindex
X-PUBLISHED-TTL:PT1H
BEGIN:VTIMEZONE
TZID:Europe/Brussels
BEGIN:DAYLIGHT
TZOFFSETFROM:+0100
TZOFFSETTO:+0200
TZNAME:CEST
DTSTART:20230326T010000
END:DAYLIGHT
BEGIN:STANDARD
TZOFFSETFROM:+0200
TZOFFSETTO:+0100
TZNAME:CET
DTSTART:20231029T010000
END:STANDARD
BEGIN:DAYLIGHT
TZOFFSETFROM:+0100
TZOFFSETTO:+0200
TZNAME:CEST
DTSTART:20240331T010000
END:DAYLIGHT
BEGIN:STANDARD
TZOFFSETFROM:+0200
TZOFFSETTO:+0100
TZNAME:CET
DTSTART:20241027T010000
END:STANDARD
BEGIN:DAYLIGHT
TZOFFSETFROM:+0100
TZOFFSETTO:+0200
TZNAME:CEST
DTSTART:20250330T010000
END:DAYLIGHT
BEGIN:STANDARD
TZOFFSETFROM:+0200
TZOFFSETTO:+0100
TZNAME:CET
DTSTART:20251026T010000
END:STANDARD
BEGIN:DAYLIGHT
TZOFFSETFROM:+0100
TZOFFSETTO:+0200
TZNAME:CEST
DTSTART:20260329T010000
END:DAYLIGHT
BEGIN:STANDARD
TZOFFSETFROM:+0200
TZOFFSETTO:+0100
TZNAME:CET
DTSTART:20261025T010000
END:STANDARD
BEGIN:DAYLIGHT
TZOFFSETFROM:+0100
TZOFFSETTO:+0200
TZNAME:CEST
DTSTART:20270328T010000
END:DAYLIGHT
BEGIN:STANDARD
TZOFFSETFROM:+0200
TZOFFSETTO:+0100
TZNAME:CET
DTSTART:20271031T010000
END:STANDARD
END:VTIMEZONE
BEGIN:VEVENT
DTSTART;TZID=Europe/Brussels:20260411T200000
DTEND;TZID=Europe/Brussels:20260411T220000
DTSTAMP:20260419T182710
CREATED:20250716T071918Z
LAST-MODIFIED:20251209T132915Z
UID:10002957-1775937600-1775944800@www.chaudfontaine.be
SUMMARY:« Au bout des Planches » avec Jean-Luc Piraux
DESCRIPTION:Quand sait-on que c’est la dernière fois ? \nGénéralement\, la première\, on s’en souvient. Mais la dernière ? \nJean-Luc Piraux a une girafe dans le cœur. C’est pas graf\, docteur. Enfin pas pour le moment. \nMais plus tard ? Va-t-elle s’arrêter de danser ? De le mener par le bout du nez (rouge) ? Et puis \nil y a quoi\, après la girafe ? \nJean-Luc s’est vu dans le reflet d’une vitrine\, près de la gare du Nord. Il a failli se dire bonjour : \nil ne s’était pas reconnu tout de suite. « Si vieux\, si vieux\, si vite. On dirait une antiquité. Je me \ndemande combien je vaux. » Il s’identifie au monde : la déforestation\, c’est son crâne pelé. \nL’affaissement de la calotte glacière\, c’est celle de ses abdos. \nPlutôt que de s’écrouler\, Jean-Luc veut danser. Exorciser la mort. Sur les planches\, tout est \npermis. Et s’il répétait ? S’il essayait de voir d’avance quel effet ça fait de se voir partir dans sa \nboîte ? S’il beurrait lui-même les sandwiches ? Il pourrait même choisir la musique. \nÇa a quelle forme\, une ligne de vie ? Un long tracé avec un point au bout ? Un point d’exclamation ! \nOu un point d’interrogation ? Des pointillés… Des dents de scie ? Une petite virgule\, un huit aérien ? \nSes enfants disent qu’il ne doit pas s’inquiéter : la vie\, c’est une boucle. Mais est-il d’humeur à \nservir d’humus pour une planète enfin sauvée de la folie de la destruction ? \nAvec une infinie tendresse pour nos peurs les plus inavouables\, Jean-Luc Piraux se dépouille et \ns’interroge sur la seule question qui compte vraiment : y a-t-il une vie avant la mort ? \nAprès une série de solos joués aux quatre coins du monde (« Faut y aller »\, « En toute inquiétude »\, \n« Six pieds sur terre »\, « Rage dedans »)\, Jean-Luc Piraux poursuit et approfondit son exploration \ntragicomique de nos existences. Comme un plongeur de nos rêves sous-marins\, il descend encore \nun peu plus loin à la recherche de nos pépites\, de nos errances\, de nos silences. Avec « Au bout des \nplanches »\, dépouillé de tout artifice\, il explore la question de l’ultime échéance\, avec une extrême élégance : celle du rire qui répare et réchauffe. \nCe qu’en dit la presse : \n« Au bout des planches » : Jean-Luc Piraux\, la mort dans l’âme. Comme les pissenlits\, qu’on finit tous par manger par la racine\, il y a un goût amer dans ses méditations sur la mort mais aussi un humour qui peut virer au jaune éclatant. » – Le soir. \nDans le cadre des Tréteaux de la Ferme. \nRéservation : https://my.weezevent.com/au-bout-des-planches-avec-jean-luc-piraux
URL:https://www.chaudfontaine.be/evenement/au-bout-des-planches-avec-jean-luc-piraux/
LOCATION:Ferme d’Embourg\, Rue du Curé Bosch\, Chaudfontaine\, Liège\, 4053\, Belgique
CATEGORIES:Senior,Spectacle,Téteaux,Théâtre
ATTACH;FMTTYPE=image/jpeg:https://www.chaudfontaine.be/wp-content/uploads/2025/07/Jean-Luc-Au-bout-des-planches-14-scaled-e1752650286408.jpg
END:VEVENT
BEGIN:VEVENT
DTSTART;TZID=Europe/Brussels:20260306T200000
DTEND;TZID=Europe/Brussels:20260306T213000
DTSTAMP:20260419T182710
CREATED:20260120T093157Z
LAST-MODIFIED:20260120T093336Z
UID:10003528-1772827200-1772832600@www.chaudfontaine.be
SUMMARY:Game ovaires
DESCRIPTION:Un spectacle drôle et rythmé qui aborde la ménopause avec humour et légèreté \n« On ne la voit pas venir\, on frise les 50\, tout va bien et puis paf\, un jour\, tout bascule et ça se met à péter de partout ! » \nLes femmes chuchotent entre copines\, partagent leurs astuces et masquent les changements induits par la ménopause. Bref\, elles surcompensent pour traverser au mieux cette zone de turbulence tandis que les hommes\, perplexes\, ne parviennent plus à suivre. \nIl était temps de lever les tabous autour de la ménopause\, c’est ce que se sont dit les comédiennes Sylvie et Elisabeth en se lançant dans l’écriture de GAME OVAIRES. \nSur scène\, les situations cocasses et pourtant si quotidiennes s’enchainent avec rythme. On s’interroge\, on rit et on s’informe aussi ! GAME OVAIRES bouscule les idées reçues\, positive et surtout dédramatise avec humour et légèreté cette période charnière de la vie des femmes. \nC’est un spectacle drôle et inspirant qui s’adresse aux femmes comme aux hommes. \nUn spectacle en français d’une heure en paroles mais aussi en chansons ! \n  \nRéservations ici.
URL:https://www.chaudfontaine.be/evenement/game-ovaires/
LOCATION:Casino de Chaudfontaine\, Esplanade\, 2\, Chaudfontaine\, 4050\, Belgique
CATEGORIES:Spectacle,Théâtre
ATTACH;FMTTYPE=image/jpeg:https://www.chaudfontaine.be/wp-content/uploads/2026/01/GO_pub_1.jpg
ORGANIZER;CN="Service des Affaires sociales":MAILTO:affaires.sociales@chaudfontaine.be
END:VEVENT
BEGIN:VEVENT
DTSTART;TZID=Europe/Brussels:20260207T200000
DTEND;TZID=Europe/Brussels:20260207T211000
DTSTAMP:20260419T182710
CREATED:20250716T071010Z
LAST-MODIFIED:20260130T095211Z
UID:10002955-1770494400-1770498600@www.chaudfontaine.be
SUMMARY:Frou-Frou (une vie sauvage)
DESCRIPTION:Une adaptation de la nouvelle Frou-Frou de Caroline Lamarche issue de Nous sommes à la lisière\, recueil paru aux Editions Gallimard. Prix Goncourt de la nouvelle en 2019. \nRésumé : \nUn homme un peu esseulé\, bénévole dans un centre de revalidation pour oiseaux sauvages\, prend soin chez lui d’une cane blessée qui ne pourra peut-être jamais voler. C’est le récit d’une émancipation conjointe et d’une alliance entre l’animal.e et l’humain.e\, où l’on ne sait qui aide l’autre\, finalement. Frou- Frou (une vie sauvage) est une histoire d’amour avant tout\, un amour singulier et unique. \nA partir des mots de Caroline Lamarche\, il y a le désir d’un théâtre qui semble surgir de presque rien\, qui se tient comme au bord du vide. Un théâtre où les mots\, les silences\, mais aussi le corps se rencontrent. C’est aussi la possibilité d’un théâtre où le ténu\, l’intime côtoie l’universel et où la tendresse\, le léger mais aussi le grave\, le plus sombre se répondent. Et puis si c’est un récit fluide\, il y a aussi dans l’écriture et dans le théâtre qu’elle génère la possibilité de moments plus éruptifs\, qui semblent naitre là. \nLa distribution : \nTexte : Caroline Lamarche \nConception et jeu : Gaëtan Lejeune \nMise en scène : Serge Demoulin \nScénographie et costume : Laurence Hermant \nCréation sonore\, lumières\, direction technique : Frédéric Vannes \nRégie générale : Frédéric Vannes en alternance avec Julien Vernay \nRegards extérieurs et accompagnement : Caroline Lamarche\, Caroline Cornelis\, Anne-Sophie Sterck \nDiffusion : Mademoiselle Jeanne – Anne Hautem\, Annaïg Bouguet\, Cassandre Prieux \nCe qu’en dit la presse : \n« Gaëtan Lejeune donne chair et vibrations au texte\, lui ajoute une troisième dimension\, se l’approprie\, avec une tendresse bourrue\, une physicalité subjuguante parfois\, et nous la raconte comme s’il s’agissait d’un amour perdu.« \nLaurence Bertels La Libre \n« Une histoire d’amour\, une vraie\, explorant les rapports complexes entre l’humain et l’animal\, entre Louis\, le bénévole désintéressé et Frou-Frou\, la cane assoiffée de liberté. Un texte sobre\, direct\, vivant\, porté par un comédien en état de grâce. Un moment de magie\, tout simplement. »\nJean Marie Wynants Le SOIR \nDurée du spectacle: 1h10 \nÀ partir de 14 ans \nRéservation : https://my.weezevent.com/frou-frou-une-vie-sauvage
URL:https://www.chaudfontaine.be/evenement/frou-frou-une-vie-sauvage/
LOCATION:Ferme d’Embourg\, Rue du Curé Bosch\, Chaudfontaine\, Liège\, 4053\, Belgique
CATEGORIES:Senior,Spectacle,Téteaux,Théâtre
ATTACH;FMTTYPE=image/jpeg:https://www.chaudfontaine.be/wp-content/uploads/2025/07/Frou-Frou-1-©Alice-Piemme-e1752649780570.jpg
END:VEVENT
BEGIN:VEVENT
DTSTART;TZID=Europe/Brussels:20250928T130000
DTEND;TZID=Europe/Brussels:20250928T180000
DTSTAMP:20260419T182710
CREATED:20250813T084926Z
LAST-MODIFIED:20250813T084926Z
UID:10003003-1759064400-1759082400@www.chaudfontaine.be
SUMMARY:Viva Vaux
DESCRIPTION:Au programme: \n13h00: Départ en FANFARE de la Place Foguenne vers le Maka\n13h00-18h00:\n– Animations ludiques et artistiques: ateliers graffiti\, grimages\, jeux en bois\, château gonflable\n– Démos de la NOVA MJ\n– Atelier percussion pour les enfants\n– Bar et restauration\n15h00: PIERRE ET LE LOUP (SUR LA ROUTE). Une version inédite du célèbre conte musical de Prokofiev entre théâtre de rue et musique de chambre. Mise en scène déjantée pour tous les publics dès 3 ans. \nUne collaboration du Foyer culturel\, de la Nova MJ\, de Festiv-Vaux\, du Plan de cohésion sociale et de la Galerie du Livre et de l’étrange théâtre.
URL:https://www.chaudfontaine.be/evenement/viva-vaux/
LOCATION:Site du Maka\, Rue Emile Vandervelde\, 2\, Chaudfontaine (Vaux-sous-Chèvremont)\, 4051\, Belgique
CATEGORIES:Folklore,Spectacle,Théâtre
ATTACH;FMTTYPE=image/jpeg:https://www.chaudfontaine.be/wp-content/uploads/2025/08/VivaVaux.jpg
END:VEVENT
BEGIN:VEVENT
DTSTART;TZID=Europe/Brussels:20250412T200000
DTEND;TZID=Europe/Brussels:20250412T220000
DTSTAMP:20260419T182710
CREATED:20240816T082550Z
LAST-MODIFIED:20240816T082646Z
UID:10001412-1744488000-1744495200@www.chaudfontaine.be
SUMMARY:Les Tréteaux de la ferme: "Le Vieil homme rangé" de Jean Pierre Dopagne
DESCRIPTION:Avec Patrick Donnay et Manon Hanseeuw – mise en scène par Michel Wright \nHenri Cambier\, vieil archéologue de renom\, part se promener au bord de la rivière et disparaît sans laisser de trace. On le croit mort. Un an et 14 jours plus tard\, le 30 décembre à 21 heures\, Jeanne “liquide” livres et papiers\, derniers souvenirs de son père\, quand la porte s’ouvre\, découvrant Henri qui s’exclame: « Tu fouilles? »… \nPaiement via le service billeterie en ligne: www.weezevent.com
URL:https://www.chaudfontaine.be/evenement/les-treteaux-de-la-ferme-le-vieil-homme-range-de-jean-pierre-dopagne/
LOCATION:Ferme d’Embourg\, Rue du Curé Bosch\, Chaudfontaine\, Liège\, 4053\, Belgique
CATEGORIES:Théâtre
ATTACH;FMTTYPE=image/jpeg:https://www.chaudfontaine.be/wp-content/uploads/2024/08/PDonnay_MHanseeuw.jpg
END:VEVENT
BEGIN:VEVENT
DTSTART;TZID=Europe/Brussels:20250115T160000
DTEND;TZID=Europe/Brussels:20250115T163000
DTSTAMP:20260419T182710
CREATED:20241212T124739Z
LAST-MODIFIED:20241212T125650Z
UID:10001729-1736956800-1736958600@www.chaudfontaine.be
SUMMARY:Spectacle "Rouge\, fil rouge" (2-6 ans)
DESCRIPTION:Par le Théâtre de la Guimbarde \nUn moment complice cousu de fil rouge autour des histoires\, des berceuses\, des comptines et des livres pour les tout-petits. Cachettes\, jeux de mots et de doigts\, rimes et onomatopées pour ravir les yeux et les oreilles et ouvrir les portes de l’imaginaire. \nDurée 35 min \nPlus d’info sur le spectacle : https://laguimbarde.be/spectacles/rouge-fil-rouge/ \nRéservation : 04/36.15.669
URL:https://www.chaudfontaine.be/evenement/spectacle-rouge-fil-rouge-2-6-ans/
LOCATION:Bibliothèque d’Embourg\, Voie de l'Ardenne\, 78\, Embourg (Chaudfontaine)\, 4053\, Belgique
CATEGORIES:Jeunesse,Spectacle,Théâtre
ATTACH;FMTTYPE=image/jpeg:https://www.chaudfontaine.be/wp-content/uploads/2024/12/Guimbarde_rouge_copyright_OlivierCalicis_web03-1-1024x656-1-e1734008206196.jpg
ORGANIZER;CN="Biblioth%C3%A8ques communales":MAILTO:bibliotheques@chaudfontaine.be
GEO:50.59236;5.60598
X-APPLE-STRUCTURED-LOCATION;VALUE=URI;X-ADDRESS=Bibliothèque d’Embourg Voie de l'Ardenne 78 Embourg (Chaudfontaine) 4053 Belgique;X-APPLE-RADIUS=500;X-TITLE=Voie de l'Ardenne\, 78:geo:5.60598,50.59236
END:VEVENT
BEGIN:VEVENT
DTSTART;TZID=Europe/Brussels:20241127T193000
DTEND;TZID=Europe/Brussels:20241127T220000
DTSTAMP:20260419T182710
CREATED:20241029T153334Z
LAST-MODIFIED:20241105T153705Z
UID:10001653-1732735800-1732744800@www.chaudfontaine.be
SUMMARY:Théâtre: Comme on brûle encore
DESCRIPTION:Dans le cadre de la Campagne du Ruban Blanc\, STOPP VIF vous invite au spectacle contre les Violences faites aux femmes « Comme on brûle encore » de Macha Orlova. \nPour rappel\, depuis 2020 la lutte contre les violences conjugales et intrafamiliales est une priorité d’action de la zone de police SECOVA .\nFortes de leurs expériences respectives\, les cinq communes de cette zone : Aywaille\, Chaudfontaine\, Esneux\, Sprimont et Trooz\, se sont associées pour créer un réseau intercommunal multidisciplinaire afin de de proposer une prise en charge adéquate des victimes\, auteurs et témoins de violences intrafamiliales: Service de Terrain Œuvrant pour la Prévention et la Prise en charge des Violences IntraFamiliales: STOPP VIF. \nRéservation: 04.361.55.81 ou par E-mai à stoppvif@chaudfontaine.be
URL:https://www.chaudfontaine.be/evenement/theatre-comme-on-brule-encore/
LOCATION:Casino de Chaudfontaine\, Esplanade\, 2\, Chaudfontaine\, 4050\, Belgique
CATEGORIES:Spectacle,Théâtre
ATTACH;FMTTYPE=image/jpeg:https://www.chaudfontaine.be/wp-content/uploads/2024/10/MachaOrlova.jpg
ORGANIZER;CN="Service des Affaires sociales":MAILTO:affaires.sociales@chaudfontaine.be
END:VEVENT
END:VCALENDAR