BEGIN:VCALENDAR
VERSION:2.0
PRODID:-//Commune de Chaudfontaine - ECPv6.15.20//NONSGML v1.0//EN
CALSCALE:GREGORIAN
METHOD:PUBLISH
X-ORIGINAL-URL:https://www.chaudfontaine.be
X-WR-CALDESC:Évènements pour Commune de Chaudfontaine
REFRESH-INTERVAL;VALUE=DURATION:PT1H
X-Robots-Tag:noindex
X-PUBLISHED-TTL:PT1H
BEGIN:VTIMEZONE
TZID:Europe/Brussels
BEGIN:DAYLIGHT
TZOFFSETFROM:+0100
TZOFFSETTO:+0200
TZNAME:CEST
DTSTART:20250330T010000
END:DAYLIGHT
BEGIN:STANDARD
TZOFFSETFROM:+0200
TZOFFSETTO:+0100
TZNAME:CET
DTSTART:20251026T010000
END:STANDARD
BEGIN:DAYLIGHT
TZOFFSETFROM:+0100
TZOFFSETTO:+0200
TZNAME:CEST
DTSTART:20260329T010000
END:DAYLIGHT
BEGIN:STANDARD
TZOFFSETFROM:+0200
TZOFFSETTO:+0100
TZNAME:CET
DTSTART:20261025T010000
END:STANDARD
BEGIN:DAYLIGHT
TZOFFSETFROM:+0100
TZOFFSETTO:+0200
TZNAME:CEST
DTSTART:20270328T010000
END:DAYLIGHT
BEGIN:STANDARD
TZOFFSETFROM:+0200
TZOFFSETTO:+0100
TZNAME:CET
DTSTART:20271031T010000
END:STANDARD
END:VTIMEZONE
BEGIN:VEVENT
DTSTART;TZID=Europe/Brussels:20260521T200000
DTEND;TZID=Europe/Brussels:20260521T220000
DTSTAMP:20260419T170045
CREATED:20260319T143053Z
LAST-MODIFIED:20260323T074558Z
UID:10003861-1779393600-1779400800@www.chaudfontaine.be
SUMMARY:Théâtre - "Le Nez Rouge"
DESCRIPTION:Dans le cadre du salon « Bien Vivre Son Âge » \n\n\n\nDans la famille Michel\, lorsqu’on se retrouve\, comme d’habitude : on s’engueule\, on rit\, on règle de vieux comptes… Mais cette fois\, Raphaël\, le père\, a quelque chose à annoncer. Une décision radicale : choisir lui-même la fin de sa vie. Entre disputes\, révélations et moments d’une tendresse inattendue\, la famille va devoir affronter ce qu’elle a toujours évité : se dire la vérité. Le Nez Rouge est une pièce de théâtre drôle\, tendre et bouleversante sur la famille\, la mémoire et la dignité face à la fin de vie. \nUne pièce de Paul Gosset. \n\n\n\nUne séance de questions/réponses est prévue après la représentation sur la thématique de l’euthanasie et de la fin de vie avec le Professeur François DAMAS\, médecin titulaire d’une consultation sur la fin de vie et auteur de « La mort choisie ». \n  \n\n  Réservations: https://my.weezevent.com/le-nez-rouge
URL:https://www.chaudfontaine.be/evenement/theatre-le-nez-rouge/
LOCATION:Casino de Chaudfontaine\, Esplanade\, 2\, Chaudfontaine\, 4050\, Belgique
CATEGORIES:Spectacle,Théâtre
ATTACH;FMTTYPE=image/jpeg:https://www.chaudfontaine.be/wp-content/uploads/2026/03/funny-glasses-a-red-clown-nose-and-tie-on-a-color-2026-03-10-01-05-34-utc-scaled.jpg
ORGANIZER;CN="Service des Affaires sociales":MAILTO:affaires.sociales@chaudfontaine.be
END:VEVENT
END:VCALENDAR