BEGIN:VCALENDAR
VERSION:2.0
PRODID:-//Commune de Chaudfontaine - ECPv6.15.20//NONSGML v1.0//EN
CALSCALE:GREGORIAN
METHOD:PUBLISH
X-WR-CALNAME:Commune de Chaudfontaine
X-ORIGINAL-URL:https://www.chaudfontaine.be
X-WR-CALDESC:Évènements pour Commune de Chaudfontaine
REFRESH-INTERVAL;VALUE=DURATION:PT1H
X-Robots-Tag:noindex
X-PUBLISHED-TTL:PT1H
BEGIN:VTIMEZONE
TZID:Europe/Brussels
BEGIN:DAYLIGHT
TZOFFSETFROM:+0100
TZOFFSETTO:+0200
TZNAME:CEST
DTSTART:20290325T010000
END:DAYLIGHT
BEGIN:STANDARD
TZOFFSETFROM:+0200
TZOFFSETTO:+0100
TZNAME:CET
DTSTART:20291028T010000
END:STANDARD
BEGIN:DAYLIGHT
TZOFFSETFROM:+0100
TZOFFSETTO:+0200
TZNAME:CEST
DTSTART:20300331T010000
END:DAYLIGHT
BEGIN:STANDARD
TZOFFSETFROM:+0200
TZOFFSETTO:+0100
TZNAME:CET
DTSTART:20301027T010000
END:STANDARD
BEGIN:DAYLIGHT
TZOFFSETFROM:+0100
TZOFFSETTO:+0200
TZNAME:CEST
DTSTART:20310330T010000
END:DAYLIGHT
BEGIN:STANDARD
TZOFFSETFROM:+0200
TZOFFSETTO:+0100
TZNAME:CET
DTSTART:20311026T010000
END:STANDARD
END:VTIMEZONE
BEGIN:VEVENT
DTSTART;TZID=Europe/Brussels:20300208T080000
DTEND;TZID=Europe/Brussels:20300208T130000
DTSTAMP:20260423T021335
CREATED:20260115T092451Z
LAST-MODIFIED:20260115T092451Z
UID:10003478-1896768000-1896786000@www.chaudfontaine.be
SUMMARY:Marché de Vaux-sous-Chèvremont
DESCRIPTION:Tous les vendredis de 08h à 13h a lieu le marché de Vaux-sous-Chèvremont.\nVenez retrouver les producteurs locaux qui vous proposent des produits de qualité: fromages\, charcuteries\, pains\, pâtisseries\, fleurs\, plantes\, …\nC’est le moment de favoriser l’économie local dans une ambiance conviviale.
URL:https://www.chaudfontaine.be/evenement/marche-de-vaux-sous-chevremont/2030-02-08/
LOCATION:Place Foguenne\, Place Foguenne\, Chaudfontaine\, 4051\, Belgique
CATEGORIES:Marché
ATTACH;FMTTYPE=image/jpeg:https://www.chaudfontaine.be/wp-content/uploads/2026/01/Marche-vaux.jpg
ORGANIZER;CN="Commune de Chaudfontaine":MAILTO:commune@chaudfontaine.be
END:VEVENT
BEGIN:VEVENT
DTSTART;TZID=Europe/Brussels:20300213T113000
DTEND;TZID=Europe/Brussels:20300213T153000
DTSTAMP:20260423T021335
CREATED:20260128T104744Z
LAST-MODIFIED:20260128T104744Z
UID:10003744-1897212600-1897227000@www.chaudfontaine.be
SUMMARY:Food truck: Chicken chick
DESCRIPTION:Food truck de poulets rôtis\, spare ribs et ses assortiments. \nTous les mercredi de 11h00 à 15h30\, place Foguenne à Vaux-sous-Chèvremont
URL:https://www.chaudfontaine.be/evenement/food-truck-chicken-chick/2030-02-13/
LOCATION:Place Foguenne\, Place Foguenne\, Chaudfontaine\, 4051\, Belgique
CATEGORIES:Commerce,Marché
ATTACH;FMTTYPE=image/jpeg:https://www.chaudfontaine.be/wp-content/uploads/2024/09/ChickenChick.jpg
END:VEVENT
BEGIN:VEVENT
DTSTART;TZID=Europe/Brussels:20300215T080000
DTEND;TZID=Europe/Brussels:20300215T130000
DTSTAMP:20260423T021335
CREATED:20260115T092451Z
LAST-MODIFIED:20260115T092451Z
UID:10003479-1897372800-1897390800@www.chaudfontaine.be
SUMMARY:Marché de Vaux-sous-Chèvremont
DESCRIPTION:Tous les vendredis de 08h à 13h a lieu le marché de Vaux-sous-Chèvremont.\nVenez retrouver les producteurs locaux qui vous proposent des produits de qualité: fromages\, charcuteries\, pains\, pâtisseries\, fleurs\, plantes\, …\nC’est le moment de favoriser l’économie local dans une ambiance conviviale.
URL:https://www.chaudfontaine.be/evenement/marche-de-vaux-sous-chevremont/2030-02-15/
LOCATION:Place Foguenne\, Place Foguenne\, Chaudfontaine\, 4051\, Belgique
CATEGORIES:Marché
ATTACH;FMTTYPE=image/jpeg:https://www.chaudfontaine.be/wp-content/uploads/2026/01/Marche-vaux.jpg
ORGANIZER;CN="Commune de Chaudfontaine":MAILTO:commune@chaudfontaine.be
END:VEVENT
BEGIN:VEVENT
DTSTART;TZID=Europe/Brussels:20300220T113000
DTEND;TZID=Europe/Brussels:20300220T153000
DTSTAMP:20260423T021335
CREATED:20260128T104744Z
LAST-MODIFIED:20260128T104744Z
UID:10003745-1897817400-1897831800@www.chaudfontaine.be
SUMMARY:Food truck: Chicken chick
DESCRIPTION:Food truck de poulets rôtis\, spare ribs et ses assortiments. \nTous les mercredi de 11h00 à 15h30\, place Foguenne à Vaux-sous-Chèvremont
URL:https://www.chaudfontaine.be/evenement/food-truck-chicken-chick/2030-02-20/
LOCATION:Place Foguenne\, Place Foguenne\, Chaudfontaine\, 4051\, Belgique
CATEGORIES:Commerce,Marché
ATTACH;FMTTYPE=image/jpeg:https://www.chaudfontaine.be/wp-content/uploads/2024/09/ChickenChick.jpg
END:VEVENT
BEGIN:VEVENT
DTSTART;TZID=Europe/Brussels:20300222T080000
DTEND;TZID=Europe/Brussels:20300222T130000
DTSTAMP:20260423T021335
CREATED:20260115T092451Z
LAST-MODIFIED:20260115T092451Z
UID:10003480-1897977600-1897995600@www.chaudfontaine.be
SUMMARY:Marché de Vaux-sous-Chèvremont
DESCRIPTION:Tous les vendredis de 08h à 13h a lieu le marché de Vaux-sous-Chèvremont.\nVenez retrouver les producteurs locaux qui vous proposent des produits de qualité: fromages\, charcuteries\, pains\, pâtisseries\, fleurs\, plantes\, …\nC’est le moment de favoriser l’économie local dans une ambiance conviviale.
URL:https://www.chaudfontaine.be/evenement/marche-de-vaux-sous-chevremont/2030-02-22/
LOCATION:Place Foguenne\, Place Foguenne\, Chaudfontaine\, 4051\, Belgique
CATEGORIES:Marché
ATTACH;FMTTYPE=image/jpeg:https://www.chaudfontaine.be/wp-content/uploads/2026/01/Marche-vaux.jpg
ORGANIZER;CN="Commune de Chaudfontaine":MAILTO:commune@chaudfontaine.be
END:VEVENT
BEGIN:VEVENT
DTSTART;TZID=Europe/Brussels:20300227T113000
DTEND;TZID=Europe/Brussels:20300227T153000
DTSTAMP:20260423T021335
CREATED:20260128T104744Z
LAST-MODIFIED:20260128T104744Z
UID:10003746-1898422200-1898436600@www.chaudfontaine.be
SUMMARY:Food truck: Chicken chick
DESCRIPTION:Food truck de poulets rôtis\, spare ribs et ses assortiments. \nTous les mercredi de 11h00 à 15h30\, place Foguenne à Vaux-sous-Chèvremont
URL:https://www.chaudfontaine.be/evenement/food-truck-chicken-chick/2030-02-27/
LOCATION:Place Foguenne\, Place Foguenne\, Chaudfontaine\, 4051\, Belgique
CATEGORIES:Commerce,Marché
ATTACH;FMTTYPE=image/jpeg:https://www.chaudfontaine.be/wp-content/uploads/2024/09/ChickenChick.jpg
END:VEVENT
BEGIN:VEVENT
DTSTART;TZID=Europe/Brussels:20300301T080000
DTEND;TZID=Europe/Brussels:20300301T130000
DTSTAMP:20260423T021335
CREATED:20260115T092451Z
LAST-MODIFIED:20260115T092451Z
UID:10003481-1898582400-1898600400@www.chaudfontaine.be
SUMMARY:Marché de Vaux-sous-Chèvremont
DESCRIPTION:Tous les vendredis de 08h à 13h a lieu le marché de Vaux-sous-Chèvremont.\nVenez retrouver les producteurs locaux qui vous proposent des produits de qualité: fromages\, charcuteries\, pains\, pâtisseries\, fleurs\, plantes\, …\nC’est le moment de favoriser l’économie local dans une ambiance conviviale.
URL:https://www.chaudfontaine.be/evenement/marche-de-vaux-sous-chevremont/2030-03-01/
LOCATION:Place Foguenne\, Place Foguenne\, Chaudfontaine\, 4051\, Belgique
CATEGORIES:Marché
ATTACH;FMTTYPE=image/jpeg:https://www.chaudfontaine.be/wp-content/uploads/2026/01/Marche-vaux.jpg
ORGANIZER;CN="Commune de Chaudfontaine":MAILTO:commune@chaudfontaine.be
END:VEVENT
BEGIN:VEVENT
DTSTART;TZID=Europe/Brussels:20300306T113000
DTEND;TZID=Europe/Brussels:20300306T153000
DTSTAMP:20260423T021335
CREATED:20260128T104744Z
LAST-MODIFIED:20260128T104744Z
UID:10003747-1899027000-1899041400@www.chaudfontaine.be
SUMMARY:Food truck: Chicken chick
DESCRIPTION:Food truck de poulets rôtis\, spare ribs et ses assortiments. \nTous les mercredi de 11h00 à 15h30\, place Foguenne à Vaux-sous-Chèvremont
URL:https://www.chaudfontaine.be/evenement/food-truck-chicken-chick/2030-03-06/
LOCATION:Place Foguenne\, Place Foguenne\, Chaudfontaine\, 4051\, Belgique
CATEGORIES:Commerce,Marché
ATTACH;FMTTYPE=image/jpeg:https://www.chaudfontaine.be/wp-content/uploads/2024/09/ChickenChick.jpg
END:VEVENT
BEGIN:VEVENT
DTSTART;TZID=Europe/Brussels:20300308T080000
DTEND;TZID=Europe/Brussels:20300308T130000
DTSTAMP:20260423T021335
CREATED:20260115T092451Z
LAST-MODIFIED:20260115T092451Z
UID:10003482-1899187200-1899205200@www.chaudfontaine.be
SUMMARY:Marché de Vaux-sous-Chèvremont
DESCRIPTION:Tous les vendredis de 08h à 13h a lieu le marché de Vaux-sous-Chèvremont.\nVenez retrouver les producteurs locaux qui vous proposent des produits de qualité: fromages\, charcuteries\, pains\, pâtisseries\, fleurs\, plantes\, …\nC’est le moment de favoriser l’économie local dans une ambiance conviviale.
URL:https://www.chaudfontaine.be/evenement/marche-de-vaux-sous-chevremont/2030-03-08/
LOCATION:Place Foguenne\, Place Foguenne\, Chaudfontaine\, 4051\, Belgique
CATEGORIES:Marché
ATTACH;FMTTYPE=image/jpeg:https://www.chaudfontaine.be/wp-content/uploads/2026/01/Marche-vaux.jpg
ORGANIZER;CN="Commune de Chaudfontaine":MAILTO:commune@chaudfontaine.be
END:VEVENT
BEGIN:VEVENT
DTSTART;TZID=Europe/Brussels:20300313T113000
DTEND;TZID=Europe/Brussels:20300313T153000
DTSTAMP:20260423T021335
CREATED:20260128T104744Z
LAST-MODIFIED:20260128T104744Z
UID:10003748-1899631800-1899646200@www.chaudfontaine.be
SUMMARY:Food truck: Chicken chick
DESCRIPTION:Food truck de poulets rôtis\, spare ribs et ses assortiments. \nTous les mercredi de 11h00 à 15h30\, place Foguenne à Vaux-sous-Chèvremont
URL:https://www.chaudfontaine.be/evenement/food-truck-chicken-chick/2030-03-13/
LOCATION:Place Foguenne\, Place Foguenne\, Chaudfontaine\, 4051\, Belgique
CATEGORIES:Commerce,Marché
ATTACH;FMTTYPE=image/jpeg:https://www.chaudfontaine.be/wp-content/uploads/2024/09/ChickenChick.jpg
END:VEVENT
BEGIN:VEVENT
DTSTART;TZID=Europe/Brussels:20300315T080000
DTEND;TZID=Europe/Brussels:20300315T130000
DTSTAMP:20260423T021335
CREATED:20260115T092451Z
LAST-MODIFIED:20260115T092451Z
UID:10003483-1899792000-1899810000@www.chaudfontaine.be
SUMMARY:Marché de Vaux-sous-Chèvremont
DESCRIPTION:Tous les vendredis de 08h à 13h a lieu le marché de Vaux-sous-Chèvremont.\nVenez retrouver les producteurs locaux qui vous proposent des produits de qualité: fromages\, charcuteries\, pains\, pâtisseries\, fleurs\, plantes\, …\nC’est le moment de favoriser l’économie local dans une ambiance conviviale.
URL:https://www.chaudfontaine.be/evenement/marche-de-vaux-sous-chevremont/2030-03-15/
LOCATION:Place Foguenne\, Place Foguenne\, Chaudfontaine\, 4051\, Belgique
CATEGORIES:Marché
ATTACH;FMTTYPE=image/jpeg:https://www.chaudfontaine.be/wp-content/uploads/2026/01/Marche-vaux.jpg
ORGANIZER;CN="Commune de Chaudfontaine":MAILTO:commune@chaudfontaine.be
END:VEVENT
BEGIN:VEVENT
DTSTART;TZID=Europe/Brussels:20300320T113000
DTEND;TZID=Europe/Brussels:20300320T153000
DTSTAMP:20260423T021335
CREATED:20260128T104744Z
LAST-MODIFIED:20260128T104744Z
UID:10003749-1900236600-1900251000@www.chaudfontaine.be
SUMMARY:Food truck: Chicken chick
DESCRIPTION:Food truck de poulets rôtis\, spare ribs et ses assortiments. \nTous les mercredi de 11h00 à 15h30\, place Foguenne à Vaux-sous-Chèvremont
URL:https://www.chaudfontaine.be/evenement/food-truck-chicken-chick/2030-03-20/
LOCATION:Place Foguenne\, Place Foguenne\, Chaudfontaine\, 4051\, Belgique
CATEGORIES:Commerce,Marché
ATTACH;FMTTYPE=image/jpeg:https://www.chaudfontaine.be/wp-content/uploads/2024/09/ChickenChick.jpg
END:VEVENT
BEGIN:VEVENT
DTSTART;TZID=Europe/Brussels:20300322T080000
DTEND;TZID=Europe/Brussels:20300322T130000
DTSTAMP:20260423T021335
CREATED:20260115T092451Z
LAST-MODIFIED:20260115T092451Z
UID:10003484-1900396800-1900414800@www.chaudfontaine.be
SUMMARY:Marché de Vaux-sous-Chèvremont
DESCRIPTION:Tous les vendredis de 08h à 13h a lieu le marché de Vaux-sous-Chèvremont.\nVenez retrouver les producteurs locaux qui vous proposent des produits de qualité: fromages\, charcuteries\, pains\, pâtisseries\, fleurs\, plantes\, …\nC’est le moment de favoriser l’économie local dans une ambiance conviviale.
URL:https://www.chaudfontaine.be/evenement/marche-de-vaux-sous-chevremont/2030-03-22/
LOCATION:Place Foguenne\, Place Foguenne\, Chaudfontaine\, 4051\, Belgique
CATEGORIES:Marché
ATTACH;FMTTYPE=image/jpeg:https://www.chaudfontaine.be/wp-content/uploads/2026/01/Marche-vaux.jpg
ORGANIZER;CN="Commune de Chaudfontaine":MAILTO:commune@chaudfontaine.be
END:VEVENT
BEGIN:VEVENT
DTSTART;TZID=Europe/Brussels:20300327T113000
DTEND;TZID=Europe/Brussels:20300327T153000
DTSTAMP:20260423T021335
CREATED:20260128T104744Z
LAST-MODIFIED:20260128T104744Z
UID:10003750-1900841400-1900855800@www.chaudfontaine.be
SUMMARY:Food truck: Chicken chick
DESCRIPTION:Food truck de poulets rôtis\, spare ribs et ses assortiments. \nTous les mercredi de 11h00 à 15h30\, place Foguenne à Vaux-sous-Chèvremont
URL:https://www.chaudfontaine.be/evenement/food-truck-chicken-chick/2030-03-27/
LOCATION:Place Foguenne\, Place Foguenne\, Chaudfontaine\, 4051\, Belgique
CATEGORIES:Commerce,Marché
ATTACH;FMTTYPE=image/jpeg:https://www.chaudfontaine.be/wp-content/uploads/2024/09/ChickenChick.jpg
END:VEVENT
BEGIN:VEVENT
DTSTART;TZID=Europe/Brussels:20300329T080000
DTEND;TZID=Europe/Brussels:20300329T130000
DTSTAMP:20260423T021335
CREATED:20260115T092451Z
LAST-MODIFIED:20260115T092451Z
UID:10003485-1901001600-1901019600@www.chaudfontaine.be
SUMMARY:Marché de Vaux-sous-Chèvremont
DESCRIPTION:Tous les vendredis de 08h à 13h a lieu le marché de Vaux-sous-Chèvremont.\nVenez retrouver les producteurs locaux qui vous proposent des produits de qualité: fromages\, charcuteries\, pains\, pâtisseries\, fleurs\, plantes\, …\nC’est le moment de favoriser l’économie local dans une ambiance conviviale.
URL:https://www.chaudfontaine.be/evenement/marche-de-vaux-sous-chevremont/2030-03-29/
LOCATION:Place Foguenne\, Place Foguenne\, Chaudfontaine\, 4051\, Belgique
CATEGORIES:Marché
ATTACH;FMTTYPE=image/jpeg:https://www.chaudfontaine.be/wp-content/uploads/2026/01/Marche-vaux.jpg
ORGANIZER;CN="Commune de Chaudfontaine":MAILTO:commune@chaudfontaine.be
END:VEVENT
BEGIN:VEVENT
DTSTART;TZID=Europe/Brussels:20300403T113000
DTEND;TZID=Europe/Brussels:20300403T153000
DTSTAMP:20260423T021335
CREATED:20260128T104744Z
LAST-MODIFIED:20260128T104744Z
UID:10003751-1901446200-1901460600@www.chaudfontaine.be
SUMMARY:Food truck: Chicken chick
DESCRIPTION:Food truck de poulets rôtis\, spare ribs et ses assortiments. \nTous les mercredi de 11h00 à 15h30\, place Foguenne à Vaux-sous-Chèvremont
URL:https://www.chaudfontaine.be/evenement/food-truck-chicken-chick/2030-04-03/
LOCATION:Place Foguenne\, Place Foguenne\, Chaudfontaine\, 4051\, Belgique
CATEGORIES:Commerce,Marché
ATTACH;FMTTYPE=image/jpeg:https://www.chaudfontaine.be/wp-content/uploads/2024/09/ChickenChick.jpg
END:VEVENT
BEGIN:VEVENT
DTSTART;TZID=Europe/Brussels:20300405T080000
DTEND;TZID=Europe/Brussels:20300405T130000
DTSTAMP:20260423T021335
CREATED:20260115T092451Z
LAST-MODIFIED:20260115T092451Z
UID:10003486-1901606400-1901624400@www.chaudfontaine.be
SUMMARY:Marché de Vaux-sous-Chèvremont
DESCRIPTION:Tous les vendredis de 08h à 13h a lieu le marché de Vaux-sous-Chèvremont.\nVenez retrouver les producteurs locaux qui vous proposent des produits de qualité: fromages\, charcuteries\, pains\, pâtisseries\, fleurs\, plantes\, …\nC’est le moment de favoriser l’économie local dans une ambiance conviviale.
URL:https://www.chaudfontaine.be/evenement/marche-de-vaux-sous-chevremont/2030-04-05/
LOCATION:Place Foguenne\, Place Foguenne\, Chaudfontaine\, 4051\, Belgique
CATEGORIES:Marché
ATTACH;FMTTYPE=image/jpeg:https://www.chaudfontaine.be/wp-content/uploads/2026/01/Marche-vaux.jpg
ORGANIZER;CN="Commune de Chaudfontaine":MAILTO:commune@chaudfontaine.be
END:VEVENT
BEGIN:VEVENT
DTSTART;TZID=Europe/Brussels:20300410T113000
DTEND;TZID=Europe/Brussels:20300410T153000
DTSTAMP:20260423T021335
CREATED:20260128T104744Z
LAST-MODIFIED:20260128T104744Z
UID:10003752-1902051000-1902065400@www.chaudfontaine.be
SUMMARY:Food truck: Chicken chick
DESCRIPTION:Food truck de poulets rôtis\, spare ribs et ses assortiments. \nTous les mercredi de 11h00 à 15h30\, place Foguenne à Vaux-sous-Chèvremont
URL:https://www.chaudfontaine.be/evenement/food-truck-chicken-chick/2030-04-10/
LOCATION:Place Foguenne\, Place Foguenne\, Chaudfontaine\, 4051\, Belgique
CATEGORIES:Commerce,Marché
ATTACH;FMTTYPE=image/jpeg:https://www.chaudfontaine.be/wp-content/uploads/2024/09/ChickenChick.jpg
END:VEVENT
BEGIN:VEVENT
DTSTART;TZID=Europe/Brussels:20300412T080000
DTEND;TZID=Europe/Brussels:20300412T130000
DTSTAMP:20260423T021335
CREATED:20260115T092451Z
LAST-MODIFIED:20260115T092451Z
UID:10003487-1902211200-1902229200@www.chaudfontaine.be
SUMMARY:Marché de Vaux-sous-Chèvremont
DESCRIPTION:Tous les vendredis de 08h à 13h a lieu le marché de Vaux-sous-Chèvremont.\nVenez retrouver les producteurs locaux qui vous proposent des produits de qualité: fromages\, charcuteries\, pains\, pâtisseries\, fleurs\, plantes\, …\nC’est le moment de favoriser l’économie local dans une ambiance conviviale.
URL:https://www.chaudfontaine.be/evenement/marche-de-vaux-sous-chevremont/2030-04-12/
LOCATION:Place Foguenne\, Place Foguenne\, Chaudfontaine\, 4051\, Belgique
CATEGORIES:Marché
ATTACH;FMTTYPE=image/jpeg:https://www.chaudfontaine.be/wp-content/uploads/2026/01/Marche-vaux.jpg
ORGANIZER;CN="Commune de Chaudfontaine":MAILTO:commune@chaudfontaine.be
END:VEVENT
BEGIN:VEVENT
DTSTART;TZID=Europe/Brussels:20300417T113000
DTEND;TZID=Europe/Brussels:20300417T153000
DTSTAMP:20260423T021335
CREATED:20260128T104744Z
LAST-MODIFIED:20260128T104744Z
UID:10003753-1902655800-1902670200@www.chaudfontaine.be
SUMMARY:Food truck: Chicken chick
DESCRIPTION:Food truck de poulets rôtis\, spare ribs et ses assortiments. \nTous les mercredi de 11h00 à 15h30\, place Foguenne à Vaux-sous-Chèvremont
URL:https://www.chaudfontaine.be/evenement/food-truck-chicken-chick/2030-04-17/
LOCATION:Place Foguenne\, Place Foguenne\, Chaudfontaine\, 4051\, Belgique
CATEGORIES:Commerce,Marché
ATTACH;FMTTYPE=image/jpeg:https://www.chaudfontaine.be/wp-content/uploads/2024/09/ChickenChick.jpg
END:VEVENT
BEGIN:VEVENT
DTSTART;TZID=Europe/Brussels:20300419T080000
DTEND;TZID=Europe/Brussels:20300419T130000
DTSTAMP:20260423T021335
CREATED:20260115T092451Z
LAST-MODIFIED:20260115T092451Z
UID:10003488-1902816000-1902834000@www.chaudfontaine.be
SUMMARY:Marché de Vaux-sous-Chèvremont
DESCRIPTION:Tous les vendredis de 08h à 13h a lieu le marché de Vaux-sous-Chèvremont.\nVenez retrouver les producteurs locaux qui vous proposent des produits de qualité: fromages\, charcuteries\, pains\, pâtisseries\, fleurs\, plantes\, …\nC’est le moment de favoriser l’économie local dans une ambiance conviviale.
URL:https://www.chaudfontaine.be/evenement/marche-de-vaux-sous-chevremont/2030-04-19/
LOCATION:Place Foguenne\, Place Foguenne\, Chaudfontaine\, 4051\, Belgique
CATEGORIES:Marché
ATTACH;FMTTYPE=image/jpeg:https://www.chaudfontaine.be/wp-content/uploads/2026/01/Marche-vaux.jpg
ORGANIZER;CN="Commune de Chaudfontaine":MAILTO:commune@chaudfontaine.be
END:VEVENT
BEGIN:VEVENT
DTSTART;TZID=Europe/Brussels:20300424T113000
DTEND;TZID=Europe/Brussels:20300424T153000
DTSTAMP:20260423T021335
CREATED:20260128T104744Z
LAST-MODIFIED:20260128T104744Z
UID:10003754-1903260600-1903275000@www.chaudfontaine.be
SUMMARY:Food truck: Chicken chick
DESCRIPTION:Food truck de poulets rôtis\, spare ribs et ses assortiments. \nTous les mercredi de 11h00 à 15h30\, place Foguenne à Vaux-sous-Chèvremont
URL:https://www.chaudfontaine.be/evenement/food-truck-chicken-chick/2030-04-24/
LOCATION:Place Foguenne\, Place Foguenne\, Chaudfontaine\, 4051\, Belgique
CATEGORIES:Commerce,Marché
ATTACH;FMTTYPE=image/jpeg:https://www.chaudfontaine.be/wp-content/uploads/2024/09/ChickenChick.jpg
END:VEVENT
BEGIN:VEVENT
DTSTART;TZID=Europe/Brussels:20300426T080000
DTEND;TZID=Europe/Brussels:20300426T130000
DTSTAMP:20260423T021335
CREATED:20260115T092451Z
LAST-MODIFIED:20260115T092451Z
UID:10003489-1903420800-1903438800@www.chaudfontaine.be
SUMMARY:Marché de Vaux-sous-Chèvremont
DESCRIPTION:Tous les vendredis de 08h à 13h a lieu le marché de Vaux-sous-Chèvremont.\nVenez retrouver les producteurs locaux qui vous proposent des produits de qualité: fromages\, charcuteries\, pains\, pâtisseries\, fleurs\, plantes\, …\nC’est le moment de favoriser l’économie local dans une ambiance conviviale.
URL:https://www.chaudfontaine.be/evenement/marche-de-vaux-sous-chevremont/2030-04-26/
LOCATION:Place Foguenne\, Place Foguenne\, Chaudfontaine\, 4051\, Belgique
CATEGORIES:Marché
ATTACH;FMTTYPE=image/jpeg:https://www.chaudfontaine.be/wp-content/uploads/2026/01/Marche-vaux.jpg
ORGANIZER;CN="Commune de Chaudfontaine":MAILTO:commune@chaudfontaine.be
END:VEVENT
BEGIN:VEVENT
DTSTART;TZID=Europe/Brussels:20300501T113000
DTEND;TZID=Europe/Brussels:20300501T153000
DTSTAMP:20260423T021335
CREATED:20260128T104744Z
LAST-MODIFIED:20260128T104744Z
UID:10003755-1903865400-1903879800@www.chaudfontaine.be
SUMMARY:Food truck: Chicken chick
DESCRIPTION:Food truck de poulets rôtis\, spare ribs et ses assortiments. \nTous les mercredi de 11h00 à 15h30\, place Foguenne à Vaux-sous-Chèvremont
URL:https://www.chaudfontaine.be/evenement/food-truck-chicken-chick/2030-05-01/
LOCATION:Place Foguenne\, Place Foguenne\, Chaudfontaine\, 4051\, Belgique
CATEGORIES:Commerce,Marché
ATTACH;FMTTYPE=image/jpeg:https://www.chaudfontaine.be/wp-content/uploads/2024/09/ChickenChick.jpg
END:VEVENT
BEGIN:VEVENT
DTSTART;TZID=Europe/Brussels:20300503T080000
DTEND;TZID=Europe/Brussels:20300503T130000
DTSTAMP:20260423T021335
CREATED:20260115T092451Z
LAST-MODIFIED:20260115T092451Z
UID:10003490-1904025600-1904043600@www.chaudfontaine.be
SUMMARY:Marché de Vaux-sous-Chèvremont
DESCRIPTION:Tous les vendredis de 08h à 13h a lieu le marché de Vaux-sous-Chèvremont.\nVenez retrouver les producteurs locaux qui vous proposent des produits de qualité: fromages\, charcuteries\, pains\, pâtisseries\, fleurs\, plantes\, …\nC’est le moment de favoriser l’économie local dans une ambiance conviviale.
URL:https://www.chaudfontaine.be/evenement/marche-de-vaux-sous-chevremont/2030-05-03/
LOCATION:Place Foguenne\, Place Foguenne\, Chaudfontaine\, 4051\, Belgique
CATEGORIES:Marché
ATTACH;FMTTYPE=image/jpeg:https://www.chaudfontaine.be/wp-content/uploads/2026/01/Marche-vaux.jpg
ORGANIZER;CN="Commune de Chaudfontaine":MAILTO:commune@chaudfontaine.be
END:VEVENT
BEGIN:VEVENT
DTSTART;TZID=Europe/Brussels:20300508T113000
DTEND;TZID=Europe/Brussels:20300508T153000
DTSTAMP:20260423T021335
CREATED:20260128T104744Z
LAST-MODIFIED:20260128T104744Z
UID:10003756-1904470200-1904484600@www.chaudfontaine.be
SUMMARY:Food truck: Chicken chick
DESCRIPTION:Food truck de poulets rôtis\, spare ribs et ses assortiments. \nTous les mercredi de 11h00 à 15h30\, place Foguenne à Vaux-sous-Chèvremont
URL:https://www.chaudfontaine.be/evenement/food-truck-chicken-chick/2030-05-08/
LOCATION:Place Foguenne\, Place Foguenne\, Chaudfontaine\, 4051\, Belgique
CATEGORIES:Commerce,Marché
ATTACH;FMTTYPE=image/jpeg:https://www.chaudfontaine.be/wp-content/uploads/2024/09/ChickenChick.jpg
END:VEVENT
BEGIN:VEVENT
DTSTART;TZID=Europe/Brussels:20300510T080000
DTEND;TZID=Europe/Brussels:20300510T130000
DTSTAMP:20260423T021335
CREATED:20260115T092451Z
LAST-MODIFIED:20260115T092451Z
UID:10003491-1904630400-1904648400@www.chaudfontaine.be
SUMMARY:Marché de Vaux-sous-Chèvremont
DESCRIPTION:Tous les vendredis de 08h à 13h a lieu le marché de Vaux-sous-Chèvremont.\nVenez retrouver les producteurs locaux qui vous proposent des produits de qualité: fromages\, charcuteries\, pains\, pâtisseries\, fleurs\, plantes\, …\nC’est le moment de favoriser l’économie local dans une ambiance conviviale.
URL:https://www.chaudfontaine.be/evenement/marche-de-vaux-sous-chevremont/2030-05-10/
LOCATION:Place Foguenne\, Place Foguenne\, Chaudfontaine\, 4051\, Belgique
CATEGORIES:Marché
ATTACH;FMTTYPE=image/jpeg:https://www.chaudfontaine.be/wp-content/uploads/2026/01/Marche-vaux.jpg
ORGANIZER;CN="Commune de Chaudfontaine":MAILTO:commune@chaudfontaine.be
END:VEVENT
BEGIN:VEVENT
DTSTART;TZID=Europe/Brussels:20300515T113000
DTEND;TZID=Europe/Brussels:20300515T153000
DTSTAMP:20260423T021335
CREATED:20260128T104744Z
LAST-MODIFIED:20260128T104744Z
UID:10003757-1905075000-1905089400@www.chaudfontaine.be
SUMMARY:Food truck: Chicken chick
DESCRIPTION:Food truck de poulets rôtis\, spare ribs et ses assortiments. \nTous les mercredi de 11h00 à 15h30\, place Foguenne à Vaux-sous-Chèvremont
URL:https://www.chaudfontaine.be/evenement/food-truck-chicken-chick/2030-05-15/
LOCATION:Place Foguenne\, Place Foguenne\, Chaudfontaine\, 4051\, Belgique
CATEGORIES:Commerce,Marché
ATTACH;FMTTYPE=image/jpeg:https://www.chaudfontaine.be/wp-content/uploads/2024/09/ChickenChick.jpg
END:VEVENT
BEGIN:VEVENT
DTSTART;TZID=Europe/Brussels:20300517T080000
DTEND;TZID=Europe/Brussels:20300517T130000
DTSTAMP:20260423T021335
CREATED:20260115T092451Z
LAST-MODIFIED:20260115T092451Z
UID:10003492-1905235200-1905253200@www.chaudfontaine.be
SUMMARY:Marché de Vaux-sous-Chèvremont
DESCRIPTION:Tous les vendredis de 08h à 13h a lieu le marché de Vaux-sous-Chèvremont.\nVenez retrouver les producteurs locaux qui vous proposent des produits de qualité: fromages\, charcuteries\, pains\, pâtisseries\, fleurs\, plantes\, …\nC’est le moment de favoriser l’économie local dans une ambiance conviviale.
URL:https://www.chaudfontaine.be/evenement/marche-de-vaux-sous-chevremont/2030-05-17/
LOCATION:Place Foguenne\, Place Foguenne\, Chaudfontaine\, 4051\, Belgique
CATEGORIES:Marché
ATTACH;FMTTYPE=image/jpeg:https://www.chaudfontaine.be/wp-content/uploads/2026/01/Marche-vaux.jpg
ORGANIZER;CN="Commune de Chaudfontaine":MAILTO:commune@chaudfontaine.be
END:VEVENT
BEGIN:VEVENT
DTSTART;TZID=Europe/Brussels:20300522T113000
DTEND;TZID=Europe/Brussels:20300522T153000
DTSTAMP:20260423T021335
CREATED:20260128T104744Z
LAST-MODIFIED:20260128T104744Z
UID:10003758-1905679800-1905694200@www.chaudfontaine.be
SUMMARY:Food truck: Chicken chick
DESCRIPTION:Food truck de poulets rôtis\, spare ribs et ses assortiments. \nTous les mercredi de 11h00 à 15h30\, place Foguenne à Vaux-sous-Chèvremont
URL:https://www.chaudfontaine.be/evenement/food-truck-chicken-chick/2030-05-22/
LOCATION:Place Foguenne\, Place Foguenne\, Chaudfontaine\, 4051\, Belgique
CATEGORIES:Commerce,Marché
ATTACH;FMTTYPE=image/jpeg:https://www.chaudfontaine.be/wp-content/uploads/2024/09/ChickenChick.jpg
END:VEVENT
END:VCALENDAR