BEGIN:VCALENDAR
VERSION:2.0
PRODID:-//Commune de Chaudfontaine - ECPv6.15.20//NONSGML v1.0//EN
CALSCALE:GREGORIAN
METHOD:PUBLISH
X-WR-CALNAME:Commune de Chaudfontaine
X-ORIGINAL-URL:https://www.chaudfontaine.be
X-WR-CALDESC:Évènements pour Commune de Chaudfontaine
REFRESH-INTERVAL;VALUE=DURATION:PT1H
X-Robots-Tag:noindex
X-PUBLISHED-TTL:PT1H
BEGIN:VTIMEZONE
TZID:Europe/Brussels
BEGIN:DAYLIGHT
TZOFFSETFROM:+0100
TZOFFSETTO:+0200
TZNAME:CEST
DTSTART:20240331T010000
END:DAYLIGHT
BEGIN:STANDARD
TZOFFSETFROM:+0200
TZOFFSETTO:+0100
TZNAME:CET
DTSTART:20241027T010000
END:STANDARD
BEGIN:DAYLIGHT
TZOFFSETFROM:+0100
TZOFFSETTO:+0200
TZNAME:CEST
DTSTART:20250330T010000
END:DAYLIGHT
BEGIN:STANDARD
TZOFFSETFROM:+0200
TZOFFSETTO:+0100
TZNAME:CET
DTSTART:20251026T010000
END:STANDARD
BEGIN:DAYLIGHT
TZOFFSETFROM:+0100
TZOFFSETTO:+0200
TZNAME:CEST
DTSTART:20260329T010000
END:DAYLIGHT
BEGIN:STANDARD
TZOFFSETFROM:+0200
TZOFFSETTO:+0100
TZNAME:CET
DTSTART:20261025T010000
END:STANDARD
END:VTIMEZONE
BEGIN:VEVENT
DTSTART;TZID=Europe/Brussels:20251213T140000
DTEND;TZID=Europe/Brussels:20251214T170000
DTSTAMP:20260420T100904
CREATED:20251114T101605Z
LAST-MODIFIED:20251114T101605Z
UID:10003202-1765634400-1765731600@www.chaudfontaine.be
SUMMARY:Marché de Noël de Western City
DESCRIPTION:Les 13 et 14 décembre 2025\, Western City à Chaudfontaine se transforme en un village de Noël enchanté\, où la magie du Far West rencontre la féerie des fêtes !\nVenez vivre deux jours de convivialité\, d’artisanat et de gourmandises ! \nSamedi 13 décembre\nUne première journée sous le signe de la fête !\n• De 14h à 22h\, découvrez les créations d’artisans passionnés et trouvez le cadeau idéal pour Noël\n• De 14h à 16h\, le Père Noël sera présent pour rencontrer les enfants sages\n• De 16h à 18h\, laissez-vous emporter par les animations de Strass et Paillette\, pour un après-midi scintillant de bonne humeur \nDimanche 14 décembre\nUne journée tout aussi magique pour prolonger l’esprit de Noël\n• De 15h à 17h\, une animation musicale fera vibrer Western City au rythme des mélodies de Noël\n• Et bien sûr\, de 10h à 18h\, les stands d’artisans vous attendent pour vos derniers achats de fêtes et vos découvertes gourmandes\nDurant ces deux journées\, profitez d’une ambiance chaleureuse autour d’un bon vin chaud\, d’un chocolat chaud\, d’une tartiflette ou d’une cassolette de champignons\nArtisans\, rejoignez la magie ! \nVous souhaitez exposer vos créations dans une ambiance chaleureuse et hors du commun ?\nContactez-nous dès maintenant au 0472 02 15 26 ou via westerncity@ateliersvesdre.be\nWestern City — Rue du Bois de la Grue 2\, 4050 Chaudfontaine\nwww.western-city.be \nDeux jours d’émotions\, de rires\, de musique et de saveurs à partager en famille ou entre amis.\nNe manquez pas le Marché de Noël de Western City !
URL:https://www.chaudfontaine.be/evenement/marche-de-noel-de-western-city/
LOCATION:Western City\, Rue du bois de la Grue 2\, Chaudfontaine\, Liege\, 4050\, Belgique
CATEGORIES:Folklore,Jeunesse,Marché,Noël,Senior
ATTACH;FMTTYPE=image/jpeg:https://www.chaudfontaine.be/wp-content/uploads/2025/11/Capture-decran-2025-11-14-111337.jpg
END:VEVENT
BEGIN:VEVENT
DTSTART;TZID=Europe/Brussels:20251012T140000
DTEND;TZID=Europe/Brussels:20251012T200000
DTSTAMP:20260420T100904
CREATED:20250516T102520Z
LAST-MODIFIED:20250516T102543Z
UID:10001878-1760277600-1760299200@www.chaudfontaine.be
SUMMARY:Show à Western City
DESCRIPTION:La saison des spectacles et autres aventures reprend à Western City\, et le public est invité à vivre une journée riche en émotions le dimanche 18 mai 2025. Ce premier grand spectacle de l’année promet une ambiance immersive\, entre danses western\, démonstrations équestres et animations familiales\, le tout dans un décor inspiré du Far West. \nUn événement pensé pour petits et grands\, où l’on plonge dans l’univers de l’Ouest américain\, le temps d’un après-midi festif et dépaysant. \nRéservation conseillée \nIl est donc recommandé de réserver à l’avance pour profiter pleinement de l’événement. \nPour faciliter l’accès au site\, une navette gratuite est proposée au départ du parking du Delhaize de Chaudfontaine. Celle-ci vous emmènera directement à Western City\, sans tracas de stationnement. N’hésitez pas à réserver votre place. \nUn rendez-vous à ne pas manquer \nCe premier spectacle marque le début d’une saison qui s’annonce riche et animée. Western City attend les visiteurs nombreux pour partager un moment convivial\, festif\, et hors du temps. \nLes 18.05\, 01.06\, 29.06\, 20.07\, 02.08\, 03.08\, 31.08\, 14.09\, 28.09\, 12.10 \nDe 14h à 20h \nRue Bois de la Grue 2\, 4050 Chaudfontaine \n10€ \nInfos et réservation : 0472/02.15.26
URL:https://www.chaudfontaine.be/evenement/show-a-western-city/2025-10-12/
LOCATION:Western City\, Rue du bois de la Grue 2\, Chaudfontaine\, Liege\, 4050\, Belgique
CATEGORIES:Festival,Folklore,Jeunesse,Senior,Spectacle
ATTACH;FMTTYPE=image/jpeg:https://www.chaudfontaine.be/wp-content/uploads/2025/05/496773371_1265303102271735_6740954475619984803_n-e1747391104208.jpg
END:VEVENT
BEGIN:VEVENT
DTSTART;TZID=Europe/Brussels:20250928T140000
DTEND;TZID=Europe/Brussels:20250928T200000
DTSTAMP:20260420T100904
CREATED:20250516T102520Z
LAST-MODIFIED:20250516T102543Z
UID:10001877-1759068000-1759089600@www.chaudfontaine.be
SUMMARY:Show à Western City
DESCRIPTION:La saison des spectacles et autres aventures reprend à Western City\, et le public est invité à vivre une journée riche en émotions le dimanche 18 mai 2025. Ce premier grand spectacle de l’année promet une ambiance immersive\, entre danses western\, démonstrations équestres et animations familiales\, le tout dans un décor inspiré du Far West. \nUn événement pensé pour petits et grands\, où l’on plonge dans l’univers de l’Ouest américain\, le temps d’un après-midi festif et dépaysant. \nRéservation conseillée \nIl est donc recommandé de réserver à l’avance pour profiter pleinement de l’événement. \nPour faciliter l’accès au site\, une navette gratuite est proposée au départ du parking du Delhaize de Chaudfontaine. Celle-ci vous emmènera directement à Western City\, sans tracas de stationnement. N’hésitez pas à réserver votre place. \nUn rendez-vous à ne pas manquer \nCe premier spectacle marque le début d’une saison qui s’annonce riche et animée. Western City attend les visiteurs nombreux pour partager un moment convivial\, festif\, et hors du temps. \nLes 18.05\, 01.06\, 29.06\, 20.07\, 02.08\, 03.08\, 31.08\, 14.09\, 28.09\, 12.10 \nDe 14h à 20h \nRue Bois de la Grue 2\, 4050 Chaudfontaine \n10€ \nInfos et réservation : 0472/02.15.26
URL:https://www.chaudfontaine.be/evenement/show-a-western-city/2025-09-28/
LOCATION:Western City\, Rue du bois de la Grue 2\, Chaudfontaine\, Liege\, 4050\, Belgique
CATEGORIES:Festival,Folklore,Jeunesse,Senior,Spectacle
ATTACH;FMTTYPE=image/jpeg:https://www.chaudfontaine.be/wp-content/uploads/2025/05/496773371_1265303102271735_6740954475619984803_n-e1747391104208.jpg
END:VEVENT
BEGIN:VEVENT
DTSTART;TZID=Europe/Brussels:20250914T140000
DTEND;TZID=Europe/Brussels:20250914T200000
DTSTAMP:20260420T100904
CREATED:20250516T102520Z
LAST-MODIFIED:20250516T102543Z
UID:10001876-1757858400-1757880000@www.chaudfontaine.be
SUMMARY:Show à Western City
DESCRIPTION:La saison des spectacles et autres aventures reprend à Western City\, et le public est invité à vivre une journée riche en émotions le dimanche 18 mai 2025. Ce premier grand spectacle de l’année promet une ambiance immersive\, entre danses western\, démonstrations équestres et animations familiales\, le tout dans un décor inspiré du Far West. \nUn événement pensé pour petits et grands\, où l’on plonge dans l’univers de l’Ouest américain\, le temps d’un après-midi festif et dépaysant. \nRéservation conseillée \nIl est donc recommandé de réserver à l’avance pour profiter pleinement de l’événement. \nPour faciliter l’accès au site\, une navette gratuite est proposée au départ du parking du Delhaize de Chaudfontaine. Celle-ci vous emmènera directement à Western City\, sans tracas de stationnement. N’hésitez pas à réserver votre place. \nUn rendez-vous à ne pas manquer \nCe premier spectacle marque le début d’une saison qui s’annonce riche et animée. Western City attend les visiteurs nombreux pour partager un moment convivial\, festif\, et hors du temps. \nLes 18.05\, 01.06\, 29.06\, 20.07\, 02.08\, 03.08\, 31.08\, 14.09\, 28.09\, 12.10 \nDe 14h à 20h \nRue Bois de la Grue 2\, 4050 Chaudfontaine \n10€ \nInfos et réservation : 0472/02.15.26
URL:https://www.chaudfontaine.be/evenement/show-a-western-city/2025-09-14/
LOCATION:Western City\, Rue du bois de la Grue 2\, Chaudfontaine\, Liege\, 4050\, Belgique
CATEGORIES:Festival,Folklore,Jeunesse,Senior,Spectacle
ATTACH;FMTTYPE=image/jpeg:https://www.chaudfontaine.be/wp-content/uploads/2025/05/496773371_1265303102271735_6740954475619984803_n-e1747391104208.jpg
END:VEVENT
BEGIN:VEVENT
DTSTART;TZID=Europe/Brussels:20250831T140000
DTEND;TZID=Europe/Brussels:20250831T200000
DTSTAMP:20260420T100904
CREATED:20250516T102520Z
LAST-MODIFIED:20250516T102543Z
UID:10001875-1756648800-1756670400@www.chaudfontaine.be
SUMMARY:Show à Western City
DESCRIPTION:La saison des spectacles et autres aventures reprend à Western City\, et le public est invité à vivre une journée riche en émotions le dimanche 18 mai 2025. Ce premier grand spectacle de l’année promet une ambiance immersive\, entre danses western\, démonstrations équestres et animations familiales\, le tout dans un décor inspiré du Far West. \nUn événement pensé pour petits et grands\, où l’on plonge dans l’univers de l’Ouest américain\, le temps d’un après-midi festif et dépaysant. \nRéservation conseillée \nIl est donc recommandé de réserver à l’avance pour profiter pleinement de l’événement. \nPour faciliter l’accès au site\, une navette gratuite est proposée au départ du parking du Delhaize de Chaudfontaine. Celle-ci vous emmènera directement à Western City\, sans tracas de stationnement. N’hésitez pas à réserver votre place. \nUn rendez-vous à ne pas manquer \nCe premier spectacle marque le début d’une saison qui s’annonce riche et animée. Western City attend les visiteurs nombreux pour partager un moment convivial\, festif\, et hors du temps. \nLes 18.05\, 01.06\, 29.06\, 20.07\, 02.08\, 03.08\, 31.08\, 14.09\, 28.09\, 12.10 \nDe 14h à 20h \nRue Bois de la Grue 2\, 4050 Chaudfontaine \n10€ \nInfos et réservation : 0472/02.15.26
URL:https://www.chaudfontaine.be/evenement/show-a-western-city/2025-08-31/
LOCATION:Western City\, Rue du bois de la Grue 2\, Chaudfontaine\, Liege\, 4050\, Belgique
CATEGORIES:Festival,Folklore,Jeunesse,Senior,Spectacle
ATTACH;FMTTYPE=image/jpeg:https://www.chaudfontaine.be/wp-content/uploads/2025/05/496773371_1265303102271735_6740954475619984803_n-e1747391104208.jpg
END:VEVENT
BEGIN:VEVENT
DTSTART;TZID=Europe/Brussels:20250803T140000
DTEND;TZID=Europe/Brussels:20250803T200000
DTSTAMP:20260420T100904
CREATED:20250516T102520Z
LAST-MODIFIED:20250516T102543Z
UID:10001874-1754229600-1754251200@www.chaudfontaine.be
SUMMARY:Show à Western City
DESCRIPTION:La saison des spectacles et autres aventures reprend à Western City\, et le public est invité à vivre une journée riche en émotions le dimanche 18 mai 2025. Ce premier grand spectacle de l’année promet une ambiance immersive\, entre danses western\, démonstrations équestres et animations familiales\, le tout dans un décor inspiré du Far West. \nUn événement pensé pour petits et grands\, où l’on plonge dans l’univers de l’Ouest américain\, le temps d’un après-midi festif et dépaysant. \nRéservation conseillée \nIl est donc recommandé de réserver à l’avance pour profiter pleinement de l’événement. \nPour faciliter l’accès au site\, une navette gratuite est proposée au départ du parking du Delhaize de Chaudfontaine. Celle-ci vous emmènera directement à Western City\, sans tracas de stationnement. N’hésitez pas à réserver votre place. \nUn rendez-vous à ne pas manquer \nCe premier spectacle marque le début d’une saison qui s’annonce riche et animée. Western City attend les visiteurs nombreux pour partager un moment convivial\, festif\, et hors du temps. \nLes 18.05\, 01.06\, 29.06\, 20.07\, 02.08\, 03.08\, 31.08\, 14.09\, 28.09\, 12.10 \nDe 14h à 20h \nRue Bois de la Grue 2\, 4050 Chaudfontaine \n10€ \nInfos et réservation : 0472/02.15.26
URL:https://www.chaudfontaine.be/evenement/show-a-western-city/2025-08-03/
LOCATION:Western City\, Rue du bois de la Grue 2\, Chaudfontaine\, Liege\, 4050\, Belgique
CATEGORIES:Festival,Folklore,Jeunesse,Senior,Spectacle
ATTACH;FMTTYPE=image/jpeg:https://www.chaudfontaine.be/wp-content/uploads/2025/05/496773371_1265303102271735_6740954475619984803_n-e1747391104208.jpg
END:VEVENT
BEGIN:VEVENT
DTSTART;TZID=Europe/Brussels:20250802T140000
DTEND;TZID=Europe/Brussels:20250802T200000
DTSTAMP:20260420T100904
CREATED:20250516T102520Z
LAST-MODIFIED:20250516T102543Z
UID:10001873-1754143200-1754164800@www.chaudfontaine.be
SUMMARY:Show à Western City
DESCRIPTION:La saison des spectacles et autres aventures reprend à Western City\, et le public est invité à vivre une journée riche en émotions le dimanche 18 mai 2025. Ce premier grand spectacle de l’année promet une ambiance immersive\, entre danses western\, démonstrations équestres et animations familiales\, le tout dans un décor inspiré du Far West. \nUn événement pensé pour petits et grands\, où l’on plonge dans l’univers de l’Ouest américain\, le temps d’un après-midi festif et dépaysant. \nRéservation conseillée \nIl est donc recommandé de réserver à l’avance pour profiter pleinement de l’événement. \nPour faciliter l’accès au site\, une navette gratuite est proposée au départ du parking du Delhaize de Chaudfontaine. Celle-ci vous emmènera directement à Western City\, sans tracas de stationnement. N’hésitez pas à réserver votre place. \nUn rendez-vous à ne pas manquer \nCe premier spectacle marque le début d’une saison qui s’annonce riche et animée. Western City attend les visiteurs nombreux pour partager un moment convivial\, festif\, et hors du temps. \nLes 18.05\, 01.06\, 29.06\, 20.07\, 02.08\, 03.08\, 31.08\, 14.09\, 28.09\, 12.10 \nDe 14h à 20h \nRue Bois de la Grue 2\, 4050 Chaudfontaine \n10€ \nInfos et réservation : 0472/02.15.26
URL:https://www.chaudfontaine.be/evenement/show-a-western-city/2025-08-02/
LOCATION:Western City\, Rue du bois de la Grue 2\, Chaudfontaine\, Liege\, 4050\, Belgique
CATEGORIES:Festival,Folklore,Jeunesse,Senior,Spectacle
ATTACH;FMTTYPE=image/jpeg:https://www.chaudfontaine.be/wp-content/uploads/2025/05/496773371_1265303102271735_6740954475619984803_n-e1747391104208.jpg
END:VEVENT
BEGIN:VEVENT
DTSTART;TZID=Europe/Brussels:20250720T140000
DTEND;TZID=Europe/Brussels:20250720T200000
DTSTAMP:20260420T100904
CREATED:20250516T102520Z
LAST-MODIFIED:20250516T102543Z
UID:10001872-1753020000-1753041600@www.chaudfontaine.be
SUMMARY:Show à Western City
DESCRIPTION:La saison des spectacles et autres aventures reprend à Western City\, et le public est invité à vivre une journée riche en émotions le dimanche 18 mai 2025. Ce premier grand spectacle de l’année promet une ambiance immersive\, entre danses western\, démonstrations équestres et animations familiales\, le tout dans un décor inspiré du Far West. \nUn événement pensé pour petits et grands\, où l’on plonge dans l’univers de l’Ouest américain\, le temps d’un après-midi festif et dépaysant. \nRéservation conseillée \nIl est donc recommandé de réserver à l’avance pour profiter pleinement de l’événement. \nPour faciliter l’accès au site\, une navette gratuite est proposée au départ du parking du Delhaize de Chaudfontaine. Celle-ci vous emmènera directement à Western City\, sans tracas de stationnement. N’hésitez pas à réserver votre place. \nUn rendez-vous à ne pas manquer \nCe premier spectacle marque le début d’une saison qui s’annonce riche et animée. Western City attend les visiteurs nombreux pour partager un moment convivial\, festif\, et hors du temps. \nLes 18.05\, 01.06\, 29.06\, 20.07\, 02.08\, 03.08\, 31.08\, 14.09\, 28.09\, 12.10 \nDe 14h à 20h \nRue Bois de la Grue 2\, 4050 Chaudfontaine \n10€ \nInfos et réservation : 0472/02.15.26
URL:https://www.chaudfontaine.be/evenement/show-a-western-city/2025-07-20/
LOCATION:Western City\, Rue du bois de la Grue 2\, Chaudfontaine\, Liege\, 4050\, Belgique
CATEGORIES:Festival,Folklore,Jeunesse,Senior,Spectacle
ATTACH;FMTTYPE=image/jpeg:https://www.chaudfontaine.be/wp-content/uploads/2025/05/496773371_1265303102271735_6740954475619984803_n-e1747391104208.jpg
END:VEVENT
BEGIN:VEVENT
DTSTART;TZID=Europe/Brussels:20250629T140000
DTEND;TZID=Europe/Brussels:20250629T200000
DTSTAMP:20260420T100904
CREATED:20250516T102520Z
LAST-MODIFIED:20250516T102543Z
UID:10001871-1751205600-1751227200@www.chaudfontaine.be
SUMMARY:Show à Western City
DESCRIPTION:La saison des spectacles et autres aventures reprend à Western City\, et le public est invité à vivre une journée riche en émotions le dimanche 18 mai 2025. Ce premier grand spectacle de l’année promet une ambiance immersive\, entre danses western\, démonstrations équestres et animations familiales\, le tout dans un décor inspiré du Far West. \nUn événement pensé pour petits et grands\, où l’on plonge dans l’univers de l’Ouest américain\, le temps d’un après-midi festif et dépaysant. \nRéservation conseillée \nIl est donc recommandé de réserver à l’avance pour profiter pleinement de l’événement. \nPour faciliter l’accès au site\, une navette gratuite est proposée au départ du parking du Delhaize de Chaudfontaine. Celle-ci vous emmènera directement à Western City\, sans tracas de stationnement. N’hésitez pas à réserver votre place. \nUn rendez-vous à ne pas manquer \nCe premier spectacle marque le début d’une saison qui s’annonce riche et animée. Western City attend les visiteurs nombreux pour partager un moment convivial\, festif\, et hors du temps. \nLes 18.05\, 01.06\, 29.06\, 20.07\, 02.08\, 03.08\, 31.08\, 14.09\, 28.09\, 12.10 \nDe 14h à 20h \nRue Bois de la Grue 2\, 4050 Chaudfontaine \n10€ \nInfos et réservation : 0472/02.15.26
URL:https://www.chaudfontaine.be/evenement/show-a-western-city/2025-06-29/
LOCATION:Western City\, Rue du bois de la Grue 2\, Chaudfontaine\, Liege\, 4050\, Belgique
CATEGORIES:Festival,Folklore,Jeunesse,Senior,Spectacle
ATTACH;FMTTYPE=image/jpeg:https://www.chaudfontaine.be/wp-content/uploads/2025/05/496773371_1265303102271735_6740954475619984803_n-e1747391104208.jpg
END:VEVENT
BEGIN:VEVENT
DTSTART;TZID=Europe/Brussels:20250601T140000
DTEND;TZID=Europe/Brussels:20250601T200000
DTSTAMP:20260420T100904
CREATED:20250516T102520Z
LAST-MODIFIED:20250516T102543Z
UID:10001870-1748786400-1748808000@www.chaudfontaine.be
SUMMARY:Show à Western City
DESCRIPTION:La saison des spectacles et autres aventures reprend à Western City\, et le public est invité à vivre une journée riche en émotions le dimanche 18 mai 2025. Ce premier grand spectacle de l’année promet une ambiance immersive\, entre danses western\, démonstrations équestres et animations familiales\, le tout dans un décor inspiré du Far West. \nUn événement pensé pour petits et grands\, où l’on plonge dans l’univers de l’Ouest américain\, le temps d’un après-midi festif et dépaysant. \nRéservation conseillée \nIl est donc recommandé de réserver à l’avance pour profiter pleinement de l’événement. \nPour faciliter l’accès au site\, une navette gratuite est proposée au départ du parking du Delhaize de Chaudfontaine. Celle-ci vous emmènera directement à Western City\, sans tracas de stationnement. N’hésitez pas à réserver votre place. \nUn rendez-vous à ne pas manquer \nCe premier spectacle marque le début d’une saison qui s’annonce riche et animée. Western City attend les visiteurs nombreux pour partager un moment convivial\, festif\, et hors du temps. \nLes 18.05\, 01.06\, 29.06\, 20.07\, 02.08\, 03.08\, 31.08\, 14.09\, 28.09\, 12.10 \nDe 14h à 20h \nRue Bois de la Grue 2\, 4050 Chaudfontaine \n10€ \nInfos et réservation : 0472/02.15.26
URL:https://www.chaudfontaine.be/evenement/show-a-western-city/2025-06-01/
LOCATION:Western City\, Rue du bois de la Grue 2\, Chaudfontaine\, Liege\, 4050\, Belgique
CATEGORIES:Festival,Folklore,Jeunesse,Senior,Spectacle
ATTACH;FMTTYPE=image/jpeg:https://www.chaudfontaine.be/wp-content/uploads/2025/05/496773371_1265303102271735_6740954475619984803_n-e1747391104208.jpg
END:VEVENT
BEGIN:VEVENT
DTSTART;TZID=Europe/Brussels:20250525T090000
DTEND;TZID=Europe/Brussels:20250525T180000
DTSTAMP:20260420T100904
CREATED:20250507T065455Z
LAST-MODIFIED:20250507T065455Z
UID:10001866-1748163600-1748196000@www.chaudfontaine.be
SUMMARY:Brocante Western City
DESCRIPTION:Vous manquez de place dans vos placards ? Vous êtes à la recherche d’un objet unique qui fera toute la différence dans votre intérieur ? Ne manquez pas la 1ʳᵉ édition de la brocante organisée à Western City Chaudfontaine ! \nPour une journée placée sous le signe de la convivialité\, des bonnes affaires et de l’ambiance country\, le décor du Far West s’invite à la fête. Que vous soyez chineur passionné ou exposant enthousiaste\, cet événement est fait pour vous. \nSur place\, un bar et une petite restauration vous permettront de faire une pause gourmande entre deux stands. \nOù ?Western City Chaudfontaine \nQuand ?La brocante aura lieu prochainement — les réservations sont ouvertes jusqu’au 11 mai. Ne tardez pas : les places sont limitées ! \nTarifs des stands : \n\n\nStand de 4 mètres en extérieur : 12 € \n\n\nStand de 2 mètres en terrasse couverte ou intérieur : 8 €Tables disponibles sur réservation. \n\n\nRéservations & informations : \n\n\nPar téléphone : 0472/02.15.26 \n\n\nPar e-mail : westerncity@ateliersvesdre.be \n\n\nRejoignez-nous pour une brocante unique dans un décor digne des meilleurs westerns. Ambiance chaleureuse garantie !
URL:https://www.chaudfontaine.be/evenement/brocante-western-city/
LOCATION:Western City\, Rue du bois de la Grue 2\, Chaudfontaine\, Liege\, 4050\, Belgique
CATEGORIES:Brocante
ATTACH;FMTTYPE=image/jpeg:https://www.chaudfontaine.be/wp-content/uploads/2025/05/DSC00113-scaled-e1746600850839.jpg
END:VEVENT
BEGIN:VEVENT
DTSTART;TZID=Europe/Brussels:20250518T140000
DTEND;TZID=Europe/Brussels:20250518T200000
DTSTAMP:20260420T100904
CREATED:20250516T102520Z
LAST-MODIFIED:20250516T102543Z
UID:10001869-1747576800-1747598400@www.chaudfontaine.be
SUMMARY:Show à Western City
DESCRIPTION:La saison des spectacles et autres aventures reprend à Western City\, et le public est invité à vivre une journée riche en émotions le dimanche 18 mai 2025. Ce premier grand spectacle de l’année promet une ambiance immersive\, entre danses western\, démonstrations équestres et animations familiales\, le tout dans un décor inspiré du Far West. \nUn événement pensé pour petits et grands\, où l’on plonge dans l’univers de l’Ouest américain\, le temps d’un après-midi festif et dépaysant. \nRéservation conseillée \nIl est donc recommandé de réserver à l’avance pour profiter pleinement de l’événement. \nPour faciliter l’accès au site\, une navette gratuite est proposée au départ du parking du Delhaize de Chaudfontaine. Celle-ci vous emmènera directement à Western City\, sans tracas de stationnement. N’hésitez pas à réserver votre place. \nUn rendez-vous à ne pas manquer \nCe premier spectacle marque le début d’une saison qui s’annonce riche et animée. Western City attend les visiteurs nombreux pour partager un moment convivial\, festif\, et hors du temps. \nLes 18.05\, 01.06\, 29.06\, 20.07\, 02.08\, 03.08\, 31.08\, 14.09\, 28.09\, 12.10 \nDe 14h à 20h \nRue Bois de la Grue 2\, 4050 Chaudfontaine \n10€ \nInfos et réservation : 0472/02.15.26
URL:https://www.chaudfontaine.be/evenement/show-a-western-city/2025-05-18/
LOCATION:Western City\, Rue du bois de la Grue 2\, Chaudfontaine\, Liege\, 4050\, Belgique
CATEGORIES:Festival,Folklore,Jeunesse,Senior,Spectacle
ATTACH;FMTTYPE=image/jpeg:https://www.chaudfontaine.be/wp-content/uploads/2025/05/496773371_1265303102271735_6740954475619984803_n-e1747391104208.jpg
END:VEVENT
END:VCALENDAR