BEGIN:VCALENDAR
VERSION:2.0
PRODID:-//Commune de Chaudfontaine - ECPv6.15.20//NONSGML v1.0//EN
CALSCALE:GREGORIAN
METHOD:PUBLISH
X-ORIGINAL-URL:https://www.chaudfontaine.be
X-WR-CALDESC:Évènements pour Commune de Chaudfontaine
REFRESH-INTERVAL;VALUE=DURATION:PT1H
X-Robots-Tag:noindex
X-PUBLISHED-TTL:PT1H
BEGIN:VTIMEZONE
TZID:Europe/Brussels
BEGIN:DAYLIGHT
TZOFFSETFROM:+0100
TZOFFSETTO:+0200
TZNAME:CEST
DTSTART:20230326T010000
END:DAYLIGHT
BEGIN:STANDARD
TZOFFSETFROM:+0200
TZOFFSETTO:+0100
TZNAME:CET
DTSTART:20231029T010000
END:STANDARD
BEGIN:DAYLIGHT
TZOFFSETFROM:+0100
TZOFFSETTO:+0200
TZNAME:CEST
DTSTART:20240331T010000
END:DAYLIGHT
BEGIN:STANDARD
TZOFFSETFROM:+0200
TZOFFSETTO:+0100
TZNAME:CET
DTSTART:20241027T010000
END:STANDARD
BEGIN:DAYLIGHT
TZOFFSETFROM:+0100
TZOFFSETTO:+0200
TZNAME:CEST
DTSTART:20250330T010000
END:DAYLIGHT
BEGIN:STANDARD
TZOFFSETFROM:+0200
TZOFFSETTO:+0100
TZNAME:CET
DTSTART:20251026T010000
END:STANDARD
END:VTIMEZONE
BEGIN:VEVENT
DTSTART;TZID=Europe/Brussels:20240525T100000
DTEND;TZID=Europe/Brussels:20240525T123000
DTSTAMP:20260423T064925
CREATED:20230808T124157Z
LAST-MODIFIED:20240108T134318Z
UID:10001152-1716631200-1716640200@www.chaudfontaine.be
SUMMARY:Atelier d'écriture créative (dès 16 ans)
DESCRIPTION:Animatrice\, éveilleuse de talents\, déverrouilleuse de mots coincés et autrice de 4 livres\, Josette Carpentier vous invite à voyager à la rencontre des mots\, à vous sentir bien et/ou mieux en écrivant. \nRéservation indispensable: 04.361.56.69.
URL:https://www.chaudfontaine.be/evenement/atelier-decriture-creative-des-16-ans/2024-05-25/
LOCATION:Bibliothèque d’Embourg\, Voie de l'Ardenne\, 78\, Embourg (Chaudfontaine)\, 4053\, Belgique
CATEGORIES:Animation bibliothèque
ATTACH;FMTTYPE=image/jpeg:https://www.chaudfontaine.be/wp-content/uploads/2023/08/JosetteCarpentier.jpg
ORGANIZER;CN="Biblioth%C3%A8ques communales":MAILTO:bibliotheques@chaudfontaine.be
GEO:50.59236;5.60598
X-APPLE-STRUCTURED-LOCATION;VALUE=URI;X-ADDRESS=Bibliothèque d’Embourg Voie de l'Ardenne 78 Embourg (Chaudfontaine) 4053 Belgique;X-APPLE-RADIUS=500;X-TITLE=Voie de l'Ardenne\, 78:geo:5.60598,50.59236
END:VEVENT
BEGIN:VEVENT
DTSTART;TZID=Europe/Brussels:20240517T100000
DTEND;TZID=Europe/Brussels:20240517T123000
DTSTAMP:20260423T064925
CREATED:20251113T110246Z
LAST-MODIFIED:20251113T110246Z
UID:10003164-1715940000-1715949000@www.chaudfontaine.be
SUMMARY:Atelier d'écriture créative (dès 16 ans)
DESCRIPTION:Animatrice\, éveilleuse de talents\, déverrouilleuse de mots coincés et autrice de 4 livres\, Josette Carpentier vous invite à voyager à la rencontre des mots\, à vous sentir bien et/ou mieux en écrivant. \nInscriptions via le formulaire en ligne: https://forms.office.com/e/nUQzwM6EyR \nPlus d’infos: 04.361.56.69.
URL:https://www.chaudfontaine.be/evenement/atelier-decriture-creative-des-16-ans-5/2024-05-17/
LOCATION:Bibliothèque d’Embourg\, Voie de l'Ardenne\, 78\, Embourg (Chaudfontaine)\, 4053\, Belgique
CATEGORIES:Animation bibliothèque
ATTACH;FMTTYPE=image/jpeg:https://www.chaudfontaine.be/wp-content/uploads/2023/08/JosetteCarpentier.jpg
ORGANIZER;CN="Biblioth%C3%A8ques communales":MAILTO:bibliotheques@chaudfontaine.be
GEO:50.59236;5.60598
X-APPLE-STRUCTURED-LOCATION;VALUE=URI;X-ADDRESS=Bibliothèque d’Embourg Voie de l'Ardenne 78 Embourg (Chaudfontaine) 4053 Belgique;X-APPLE-RADIUS=500;X-TITLE=Voie de l'Ardenne\, 78:geo:5.60598,50.59236
END:VEVENT
BEGIN:VEVENT
DTSTART;TZID=Europe/Brussels:20240517T100000
DTEND;TZID=Europe/Brussels:20240517T123000
DTSTAMP:20260423T064925
CREATED:20250217T134845Z
LAST-MODIFIED:20250901T105102Z
UID:10001763-1715940000-1715949000@www.chaudfontaine.be
SUMMARY:Atelier d'écriture créative (dès 16 ans)
DESCRIPTION:Animatrice\, éveilleuse de talents\, déverrouilleuse de mots coincés et autrice de 4 livres\, Josette Carpentier vous invite à voyager à la rencontre des mots\, à vous sentir bien et/ou mieux en écrivant. \n13/12 Atelier cartes de vœux pour personnes isolées\, en collaboration avec le Plan de Cohésion sociale de Chaudfontaine. \nInscriptions via le formulaire en ligne: https://forms.office.com/e/LAXa5y35bV \nPlus d’infos: 04.361.56.69.
URL:https://www.chaudfontaine.be/evenement/atelier-decriture-creative-des-16-ans-4/2024-05-17/
LOCATION:Bibliothèque d’Embourg\, Voie de l'Ardenne\, 78\, Embourg (Chaudfontaine)\, 4053\, Belgique
CATEGORIES:Animation bibliothèque
ATTACH;FMTTYPE=image/jpeg:https://www.chaudfontaine.be/wp-content/uploads/2023/08/JosetteCarpentier.jpg
ORGANIZER;CN="Biblioth%C3%A8ques communales":MAILTO:bibliotheques@chaudfontaine.be
GEO:50.59236;5.60598
X-APPLE-STRUCTURED-LOCATION;VALUE=URI;X-ADDRESS=Bibliothèque d’Embourg Voie de l'Ardenne 78 Embourg (Chaudfontaine) 4053 Belgique;X-APPLE-RADIUS=500;X-TITLE=Voie de l'Ardenne\, 78:geo:5.60598,50.59236
END:VEVENT
BEGIN:VEVENT
DTSTART;TZID=Europe/Brussels:20240515T122215
DTEND;TZID=Europe/Brussels:20240515T122215
DTSTAMP:20260423T064925
CREATED:20240109T112057Z
LAST-MODIFIED:20240109T112215Z
UID:10001204-1715775735-1715775735@www.chaudfontaine.be
SUMMARY:Calligraphie latine initiés (dès 16 ans)
DESCRIPTION:Animatrice: Nathalie De Coster \nPrévoir un bloc de feuilles quadrillées Clairefontaine.
URL:https://www.chaudfontaine.be/evenement/calligraphie-latine-inities-des-16-ans/2024-05-15/
LOCATION:Bibliothèque d’Embourg\, Voie de l'Ardenne\, 78\, Embourg (Chaudfontaine)\, 4053\, Belgique
CATEGORIES:Animation bibliothèque
ATTACH;FMTTYPE=image/jpeg:https://www.chaudfontaine.be/wp-content/uploads/2023/08/CalligraphieExper.jpg
ORGANIZER;CN="Biblioth%C3%A8ques communales":MAILTO:bibliotheques@chaudfontaine.be
GEO:50.59236;5.60598
X-APPLE-STRUCTURED-LOCATION;VALUE=URI;X-ADDRESS=Bibliothèque d’Embourg Voie de l'Ardenne 78 Embourg (Chaudfontaine) 4053 Belgique;X-APPLE-RADIUS=500;X-TITLE=Voie de l'Ardenne\, 78:geo:5.60598,50.59236
END:VEVENT
BEGIN:VEVENT
DTSTART;TZID=Europe/Brussels:20240424T140000
DTEND;TZID=Europe/Brussels:20240424T170000
DTSTAMP:20260423T064925
CREATED:20240108T133014Z
LAST-MODIFIED:20240108T133338Z
UID:10001141-1713967200-1713978000@www.chaudfontaine.be
SUMMARY:Jeux de société littéraires "Histoire(s) de jouer" (3-12 ans)
DESCRIPTION:Après-midi jeux de société littéraires. \nTu adores jouer avec les mots\, les histoires et les énigmes?\nTu veux tester tes connaissances en littérature?\nTu aimes les héros de tes livres préférés: le loup de Mario Ramos\, Simon le lapin\, Cornebidouille ou Harry Potter?\nViens jouer et découvrir en famille les jeux mis à disposition! \nLe 27 mars: Initiation aux échecs avec le Club d’Échecs de Chaudfontaine \nRéservation: 04.361.56.69
URL:https://www.chaudfontaine.be/evenement/jeux-de-societe-litteraires-histoires-de-jouer-3-12-ans-2/2024-04-24/
LOCATION:Bibliothèque d’Embourg\, Voie de l'Ardenne\, 78\, Embourg (Chaudfontaine)\, 4053\, Belgique
CATEGORIES:Animation bibliothèque
ATTACH;FMTTYPE=image/jpeg:https://www.chaudfontaine.be/wp-content/uploads/2023/08/Herve_Tullet.jpg
ORGANIZER;CN="Biblioth%C3%A8ques communales":MAILTO:bibliotheques@chaudfontaine.be
GEO:50.59236;5.60598
X-APPLE-STRUCTURED-LOCATION;VALUE=URI;X-ADDRESS=Bibliothèque d’Embourg Voie de l'Ardenne 78 Embourg (Chaudfontaine) 4053 Belgique;X-APPLE-RADIUS=500;X-TITLE=Voie de l'Ardenne\, 78:geo:5.60598,50.59236
END:VEVENT
END:VCALENDAR